Workbook
Name AÑOS: Tablas!$Y$4:$Y$27
Name CATEGORIAS: OFFSET(Tablas!$J$3,1,0,COUNTA(Tablas!$J$4:$J$5000),1)
Name MESES: Tablas!$V$4:$V$15
Name TIPO_CLIENTES: OFFSET(Tablas!$L$3,1,0,COUNTA(Tablas!$L$4:$L$5000),1)

Sheet Indicad. 1
B2: Indicadores de Calidad de entregas de las OC
B4: 1.1 PEDIDOS ENTREGADOS EN FORMA COMPLETA
B6: Año: | C6: 2018
E8: Ene | F8: Feb | G8: Mar | H8: Abr | I8: May | J8: Jun | K8: Jul | L8: Ago | M8: Set | N8: Oct | O8: Nov | P8: Dic | Q8: Total
B9: Nro de pedidos entregados completo | E9: =COUNTIFS(Tabla7[Año],$C$6,Tabla7[Mes],E$8,Tabla7[Entrega completa?],"SI") -> 40 | F9: =COUNTIFS(Tabla7[Año],$C$6,Tabla7[Mes],F$8,Tabla7[Entrega completa?],"SI") -> 38 | G9: =COUNTIFS(Tabla7[Año],$C$6,Tabla7[Mes],G$8,Tabla7[Entrega completa?],"SI") -> 36 | H9: =COUNTIFS(Tabla7[Año],$C$6,Tabla7[Mes],H$8,Tabla7[Entrega completa?],"SI") -> 63 | I9: =COUNTIFS(Tabla7[Año],$C$6,Tabla7[Mes],I$8,Tabla7[Entrega completa?],"SI") -> 40 | J9: =COUNTIFS(Tabla7[Año],$C$6,Tabla7[Mes],J$8,Tabla7[Entrega completa?],"SI") -> 15 | K9: =COUNTIFS(Tabla7[Año],$C$6,Tabla7[Mes],K$8,Tabla7[Entrega completa?],"SI") -> 20 | L9: =COUNTIFS(Tabla7[Año],$C$6,Tabla7[Mes],L$8,Tabla7[Entrega completa?],"SI") -> 0 | ... P9: =COUNTIFS(Tabla7[Año],$C$6,Tabla7[Mes],P$8,Tabla7[Entrega completa?],"SI") -> 0 | Q9: =SUM(E9:P9) -> 252
B10: Nro de pedidos entregados | E10: =COUNTIFS(Tabla7[Año],$C$6,Tabla7[Mes],E$8,Tabla7[Entrega completa?],"*") -> 52 | F10: =COUNTIFS(Tabla7[Año],$C$6,Tabla7[Mes],F$8,Tabla7[Entrega completa?],"*") -> 50 | G10: =COUNTIFS(Tabla7[Año],$C$6,Tabla7[Mes],G$8,Tabla7[Entrega completa?],"*") -> 44 | H10: =COUNTIFS(Tabla7[Año],$C$6,Tabla7[Mes],H$8,Tabla7[Entrega completa?],"*") -> 85 | I10: =COUNTIFS(Tabla7[Año],$C$6,Tabla7[Mes],I$8,Tabla7[Entrega completa?],"*") -> 55 | J10: =COUNTIFS(Tabla7[Año],$C$6,Tabla7[Mes],J$8,Tabla7[Entrega completa?],"*") -> 22 | K10: =COUNTIFS(Tabla7[Año],$C$6,Tabla7[Mes],K$8,Tabla7[Entrega completa?],"*") -> 30 | L10: =COUNTIFS(Tabla7[Año],$C$6,Tabla7[Mes],L$8,Tabla7[Entrega completa?],"*") -> 0 | ... P10: =COUNTIFS(Tabla7[Año],$C$6,Tabla7[Mes],P$8,Tabla7[Entrega completa?],"*") -> 0 | Q10: =SUM(E10:P10) -> 338
B11: % Pedidos entregados completos | E11: =IFERROR(E9/E10,0) -> 0.76923077 | F11: =IFERROR(F9/F10,0) -> 0.76 | G11: =IFERROR(G9/G10,0) -> 0.81818182 | H11: =IFERROR(H9/H10,0) -> 0.74117647 | I11: =IFERROR(I9/I10,0) -> 0.72727273 | J11: =IFERROR(J9/J10,0) -> 0.68181818 | K11: =IFERROR(K9/K10,0) -> 0.66666667 | L11: =IFERROR(L9/L10,0) -> 0 | ... Q11: =IFERROR(Q9/Q10,0) -> 0.74556213
B13: Semáforo de control: | E13: < | F13: 0.5
E14: <= | F14: 0.8
E15: > | F15: =+F14 -> 0.8
B31: 1.2 PEDIDOS ENTREGADOS EN FORMA COMPLETA POR CATEGORÍA
B33: Año: | C33: 2018
B35: CATEGORÍA | D35: Ene | E35: Feb | F35: Mar | G35: Abr | H35: May | I35: Jun | J35: Jul | K35: Ago | L35: Set | M35: Oct | N35: Nov | O35: Dic | P35: Total
A36: 1 | B36: =IF(Tablas!$J4="","",Tablas!$J4) -> 01 - BATERIAS | D36: =IFERROR(COUNTIFS(Tabla7[Año],$C$33,Tabla7[Mes],D$35,Tabla7[Entrega completa?],"SI",Tabla7[Categoría],$B36)/COUNTIFS(Tabla7[Año],$C$33,Tabla7[Mes],D$35,Tabla7[Entrega completa?],"*",Tabla7[Categoría],$B36),"") | E36: =IFERROR(COUNTIFS(Tabla7[Año],$C$33,Tabla7[Mes],E$35,Tabla7[Entrega completa?],"SI",Tabla7[Categoría],$B36)/COUNTIFS(Tabla7[Año],$C$33,Tabla7[Mes],E$35,Tabla7[Entrega completa?],"*",Tabla7[Categoría],$B36),"") | F36: =IFERROR(COUNTIFS(Tabla7[Año],$C$33,Tabla7[Mes],F$35,Tabla7[Entrega completa?],"SI",Tabla7[Categoría],$B36)/COUNTIFS(Tabla7[Año],$C$33,Tabla7[Mes],F$35,Tabla7[Entrega completa?],"*",Tabla7[Categoría],$B36),"") -> 1 | G36: =IFERROR(COUNTIFS(Tabla7[Año],$C$33,Tabla7[Mes],G$35,Tabla7[Entrega completa?],"SI",Tabla7[Categoría],$B36)/COUNTIFS(Tabla7[Año],$C$33,Tabla7[Mes],G$35,Tabla7[Entrega completa?],"*",Tabla7[Categoría],$B36),"") -> 1 | H36: =IFERROR(COUNTIFS(Tabla7[Año],$C$33,Tabla7[Mes],H$35,Tabla7[Entrega completa?],"SI",Tabla7[Categoría],$B36)/COUNTIFS(Tabla7[Año],$C$33,Tabla7[Mes],H$35,Tabla7[Entrega completa?],"*",Tabla7[Categoría],$B36),"") -> 1 | I36: =IFERROR(COUNTIFS(Tabla7[Año],$C$33,Tabla7[Mes],I$35,Tabla7[Entrega completa?],"SI",Tabla7[Categoría],$B36)/COUNTIFS(Tabla7[Año],$C$33,Tabla7[Mes],I$35,Tabla7[Entrega completa?],"*",Tabla7[Categoría],$B36),"") | J36: =IFERROR(COUNTIFS(Tabla7[Año],$C$33,Tabla7[Mes],J$35,Tabla7[Entrega completa?],"SI",Tabla7[Categoría],$B36)/COUNTIFS(Tabla7[Año],$C$33,Tabla7[Mes],J$35,Tabla7[Entrega completa?],"*",Tabla7[Categoría],$B36),"") | K36: =IFERROR(COUNTIFS(Tabla7[Año],$C$33,Tabla7[Mes],K$35,Tabla7[Entrega completa?],"SI",Tabla7[Categoría],$B36)/COUNTIFS(Tabla7[Año],$C$33,Tabla7[Mes],K$35,Tabla7[Entrega completa?],"*",Tabla7[Categoría],$B36),"") | ... O36: =IFERROR(COUNTIFS(Tabla7[Año],$C$33,Tabla7[Mes],O$35,Tabla7[Entrega completa?],"SI",Tabla7[Categoría],$B36)/COUNTIFS(Tabla7[Año],$C$33,Tabla7[Mes],O$35,Tabla7[Entrega completa?],"*",Tabla7[Categoría],$B36),"") | P36: =IFERROR(COUNTIFS(Tabla7[Año],$C$33,Tabla7[Mes],"*",Tabla7[Entrega completa?],"SI",Tabla7[Categoría],$B36)/COUNTIFS(Tabla7[Año],$C$33,Tabla7[Mes],"*",Tabla7[Entrega completa?],"*",Tabla7[Categoría],$B36),"") -> 1
A37: 2 | B37: =IF(Tablas!$J5="","",Tablas!$J5) -> 02 - BUJIAS | D37: =IFERROR(COUNTIFS(Tabla7[Año],$C$33,Tabla7[Mes],D$35,Tabla7[Entrega completa?],"SI",Tabla7[Categoría],$B37)/COUNTIFS(Tabla7[Año],$C$33,Tabla7[Mes],D$35,Tabla7[Entrega completa?],"*",Tabla7[Categoría],$B37),"") | E37: =IFERROR(COUNTIFS(Tabla7[Año],$C$33,Tabla7[Mes],E$35,Tabla7[Entrega completa?],"SI",Tabla7[Categoría],$B37)/COUNTIFS(Tabla7[Año],$C$33,Tabla7[Mes],E$35,Tabla7[Entrega completa?],"*",Tabla7[Categoría],$B37),"") -> 1 | F37: =IFERROR(COUNTIFS(Tabla7[Año],$C$33,Tabla7[Mes],F$35,Tabla7[Entrega completa?],"SI",Tabla7[Categoría],$B37)/COUNTIFS(Tabla7[Año],$C$33,Tabla7[Mes],F$35,Tabla7[Entrega completa?],"*",Tabla7[Categoría],$B37),"") | G37: =IFERROR(COUNTIFS(Tabla7[Año],$C$33,Tabla7[Mes],G$35,Tabla7[Entrega completa?],"SI",Tabla7[Categoría],$B37)/COUNTIFS(Tabla7[Año],$C$33,Tabla7[Mes],G$35,Tabla7[Entrega completa?],"*",Tabla7[Categoría],$B37),"") | H37: =IFERROR(COUNTIFS(Tabla7[Año],$C$33,Tabla7[Mes],H$35,Tabla7[Entrega completa?],"SI",Tabla7[Categoría],$B37)/COUNTIFS(Tabla7[Año],$C$33,Tabla7[Mes],H$35,Tabla7[Entrega completa?],"*",Tabla7[Categoría],$B37),"") | I37: =IFERROR(COUNTIFS(Tabla7[Año],$C$33,Tabla7[Mes],I$35,Tabla7[Entrega completa?],"SI",Tabla7[Categoría],$B37)/COUNTIFS(Tabla7[Año],$C$33,Tabla7[Mes],I$35,Tabla7[Entrega completa?],"*",Tabla7[Categoría],$B37),"") | J37: =IFERROR(COUNTIFS(Tabla7[Año],$C$33,Tabla7[Mes],J$35,Tabla7[Entrega completa?],"SI",Tabla7[Categoría],$B37)/COUNTIFS(Tabla7[Año],$C$33,Tabla7[Mes],J$35,Tabla7[Entrega completa?],"*",Tabla7[Categoría],$B37),"") | K37: =IFERROR(COUNTIFS(Tabla7[Año],$C$33,Tabla7[Mes],K$35,Tabla7[Entrega completa?],"SI",Tabla7[Categoría],$B37)/COUNTIFS(Tabla7[Año],$C$33,Tabla7[Mes],K$35,Tabla7[Entrega completa?],"*",Tabla7[Categoría],$B37),"") | ... O37: =IFERROR(COUNTIFS(Tabla7[Año],$C$33,Tabla7[Mes],O$35,Tabla7[Entrega completa?],"SI",Tabla7[Categoría],$B37)/COUNTIFS(Tabla7[Año],$C$33,Tabla7[Mes],O$35,Tabla7[Entrega completa?],"*",Tabla7[Categoría],$B37),"") | P37: =IFERROR(COUNTIFS(Tabla7[Año],$C$33,Tabla7[Mes],"*",Tabla7[Entrega completa?],"SI",Tabla7[Categoría],$B37)/COUNTIFS(Tabla7[Año],$C$33,Tabla7[Mes],"*",Tabla7[Entrega completa?],"*",Tabla7[Categoría],$B37),"") -> 1
A38: 3 | B38: =IF(Tablas!$J6="","",Tablas!$J6) -> 03 - FILTROS | D38: =IFERROR(COUNTIFS(Tabla7[Año],$C$33,Tabla7[Mes],D$35,Tabla7[Entrega completa?],"SI",Tabla7[Categoría],$B38)/COUNTIFS(Tabla7[Año],$C$33,Tabla7[Mes],D$35,Tabla7[Entrega completa?],"*",Tabla7[Categoría],$B38),"") -> 1 | E38: =IFERROR(COUNTIFS(Tabla7[Año],$C$33,Tabla7[Mes],E$35,Tabla7[Entrega completa?],"SI",Tabla7[Categoría],$B38)/COUNTIFS(Tabla7[Año],$C$33,Tabla7[Mes],E$35,Tabla7[Entrega completa?],"*",Tabla7[Categoría],$B38),"") -> 0 | F38: =IFERROR(COUNTIFS(Tabla7[Año],$C$33,Tabla7[Mes],F$35,Tabla7[Entrega completa?],"SI",Tabla7[Categoría],$B38)/COUNTIFS(Tabla7[Año],$C$33,Tabla7[Mes],F$35,Tabla7[Entrega completa?],"*",Tabla7[Categoría],$B38),"") -> 0.5 | G38: =IFERROR(COUNTIFS(Tabla7[Año],$C$33,Tabla7[Mes],G$35,Tabla7[Entrega completa?],"SI",Tabla7[Categoría],$B38)/COUNTIFS(Tabla7[Año],$C$33,Tabla7[Mes],G$35,Tabla7[Entrega completa?],"*",Tabla7[Categoría],$B38),"") | H38: =IFERROR(COUNTIFS(Tabla7[Año],$C$33,Tabla7[Mes],H$35,Tabla7[Entrega completa?],"SI",Tabla7[Categoría],$B38)/COUNTIFS(Tabla7[Año],$C$33,Tabla7[Mes],H$35,Tabla7[Entrega completa?],"*",Tabla7[Categoría],$B38),"") -> 1 | I38: =IFERROR(COUNTIFS(Tabla7[Año],$C$33,Tabla7[Mes],I$35,Tabla7[Entrega completa?],"SI",Tabla7[Categoría],$B38)/COUNTIFS(Tabla7[Año],$C$33,Tabla7[Mes],I$35,Tabla7[Entrega completa?],"*",Tabla7[Categoría],$B38),"") | J38: =IFERROR(COUNTIFS(Tabla7[Año],$C$33,Tabla7[Mes],J$35,Tabla7[Entrega completa?],"SI",Tabla7[Categoría],$B38)/COUNTIFS(Tabla7[Año],$C$33,Tabla7[Mes],J$35,Tabla7[Entrega completa?],"*",Tabla7[Categoría],$B38),"") | K38: =IFERROR(COUNTIFS(Tabla7[Año],$C$33,Tabla7[Mes],K$35,Tabla7[Entrega completa?],"SI",Tabla7[Categoría],$B38)/COUNTIFS(Tabla7[Año],$C$33,Tabla7[Mes],K$35,Tabla7[Entrega completa?],"*",Tabla7[Categoría],$B38),"") | ... O38: =IFERROR(COUNTIFS(Tabla7[Año],$C$33,Tabla7[Mes],O$35,Tabla7[Entrega completa?],"SI",Tabla7[Categoría],$B38)/COUNTIFS(Tabla7[Año],$C$33,Tabla7[Mes],O$35,Tabla7[Entrega completa?],"*",Tabla7[Categoría],$B38),"") | P38: =IFERROR(COUNTIFS(Tabla7[Año],$C$33,Tabla7[Mes],"*",Tabla7[Entrega completa?],"SI",Tabla7[Categoría],$B38)/COUNTIFS(Tabla7[Año],$C$33,Tabla7[Mes],"*",Tabla7[Entrega completa?],"*",Tabla7[Categoría],$B38),"") -> 0.66666667
A39: 4 | B39: =IF(Tablas!$J7="","",Tablas!$J7) -> 04 - FRENOS Y EMBRAGUES | D39: =IFERROR(COUNTIFS(Tabla7[Año],$C$33,Tabla7[Mes],D$35,Tabla7[Entrega completa?],"SI",Tabla7[Categoría],$B39)/COUNTIFS(Tabla7[Año],$C$33,Tabla7[Mes],D$35,Tabla7[Entrega completa?],"*",Tabla7[Categoría],$B39),"") -> 1 | E39: =IFERROR(COUNTIFS(Tabla7[Año],$C$33,Tabla7[Mes],E$35,Tabla7[Entrega completa?],"SI",Tabla7[Categoría],$B39)/COUNTIFS(Tabla7[Año],$C$33,Tabla7[Mes],E$35,Tabla7[Entrega completa?],"*",Tabla7[Categoría],$B39),"") -> 0.66666667 | F39: =IFERROR(COUNTIFS(Tabla7[Año],$C$33,Tabla7[Mes],F$35,Tabla7[Entrega completa?],"SI",Tabla7[Categoría],$B39)/COUNTIFS(Tabla7[Año],$C$33,Tabla7[Mes],F$35,Tabla7[Entrega completa?],"*",Tabla7[Categoría],$B39),"") | G39: =IFERROR(COUNTIFS(Tabla7[Año],$C$33,Tabla7[Mes],G$35,Tabla7[Entrega completa?],"SI",Tabla7[Categoría],$B39)/COUNTIFS(Tabla7[Año],$C$33,Tabla7[Mes],G$35,Tabla7[Entrega completa?],"*",Tabla7[Categoría],$B39),"") -> 0.66666667 | H39: =IFERROR(COUNTIFS(Tabla7[Año],$C$33,Tabla7[Mes],H$35,Tabla7[Entrega completa?],"SI",Tabla7[Categoría],$B39)/COUNTIFS(Tabla7[Año],$C$33,Tabla7[Mes],H$35,Tabla7[Entrega completa?],"*",Tabla7[Categoría],$B39),"") -> 1 | I39: =IFERROR(COUNTIFS(Tabla7[Año],$C$33,Tabla7[Mes],I$35,Tabla7[Entrega completa?],"SI",Tabla7[Categoría],$B39)/COUNTIFS(Tabla7[Año],$C$33,Tabla7[Mes],I$35,Tabla7[Entrega completa?],"*",Tabla7[Categoría],$B39),"") | J39: =IFERROR(COUNTIFS(Tabla7[Año],$C$33,Tabla7[Mes],J$35,Tabla7[Entrega completa?],"SI",Tabla7[Categoría],$B39)/COUNTIFS(Tabla7[Año],$C$33,Tabla7[Mes],J$35,Tabla7[Entrega completa?],"*",Tabla7[Categoría],$B39),"") | K39: =IFERROR(COUNTIFS(Tabla7[Año],$C$33,Tabla7[Mes],K$35,Tabla7[Entrega completa?],"SI",Tabla7[Categoría],$B39)/COUNTIFS(Tabla7[Año],$C$33,Tabla7[Mes],K$35,Tabla7[Entrega completa?],"*",Tabla7[Categoría],$B39),"") | ... O39: =IFERROR(COUNTIFS(Tabla7[Año],$C$33,Tabla7[Mes],O$35,Tabla7[Entrega completa?],"SI",Tabla7[Categoría],$B39)/COUNTIFS(Tabla7[Año],$C$33,Tabla7[Mes],O$35,Tabla7[Entrega completa?],"*",Tabla7[Categoría],$B39),"") | P39: =IFERROR(COUNTIFS(Tabla7[Año],$C$33,Tabla7[Mes],"*",Tabla7[Entrega completa?],"SI",Tabla7[Categoría],$B39)/COUNTIFS(Tabla7[Año],$C$33,Tabla7[Mes],"*",Tabla7[Entrega completa?],"*",Tabla7[Categoría],$B39),"") -> 0.8
A40: 5 | B40: =IF(Tablas!$J8="","",Tablas!$J8) -> 05 - COLISION | D40: =IFERROR(COUNTIFS(Tabla7[Año],$C$33,Tabla7[Mes],D$35,Tabla7[Entrega completa?],"SI",Tabla7[Categoría],$B40)/COUNTIFS(Tabla7[Año],$C$33,Tabla7[Mes],D$35,Tabla7[Entrega completa?],"*",Tabla7[Categoría],$B40),"") -> 0.75 | E40: =IFERROR(COUNTIFS(Tabla7[Año],$C$33,Tabla7[Mes],E$35,Tabla7[Entrega completa?],"SI",Tabla7[Categoría],$B40)/COUNTIFS(Tabla7[Año],$C$33,Tabla7[Mes],E$35,Tabla7[Entrega completa?],"*",Tabla7[Categoría],$B40),"") -> 0.81818182 | F40: =IFERROR(COUNTIFS(Tabla7[Año],$C$33,Tabla7[Mes],F$35,Tabla7[Entrega completa?],"SI",Tabla7[Categoría],$B40)/COUNTIFS(Tabla7[Año],$C$33,Tabla7[Mes],F$35,Tabla7[Entrega completa?],"*",Tabla7[Categoría],$B40),"") -> 0.9 | G40: =IFERROR(COUNTIFS(Tabla7[Año],$C$33,Tabla7[Mes],G$35,Tabla7[Entrega completa?],"SI",Tabla7[Categoría],$B40)/COUNTIFS(Tabla7[Año],$C$33,Tabla7[Mes],G$35,Tabla7[Entrega completa?],"*",Tabla7[Categoría],$B40),"") -> 0.94444444 | H40: =IFERROR(COUNTIFS(Tabla7[Año],$C$33,Tabla7[Mes],H$35,Tabla7[Entrega completa?],"SI",Tabla7[Categoría],$B40)/COUNTIFS(Tabla7[Año],$C$33,Tabla7[Mes],H$35,Tabla7[Entrega completa?],"*",Tabla7[Categoría],$B40),"") -> 0.66666667 | I40: =IFERROR(COUNTIFS(Tabla7[Año],$C$33,Tabla7[Mes],I$35,Tabla7[Entrega completa?],"SI",Tabla7[Categoría],$B40)/COUNTIFS(Tabla7[Año],$C$33,Tabla7[Mes],I$35,Tabla7[Entrega completa?],"*",Tabla7[Categoría],$B40),"") -> 0.75 | J40: =IFERROR(COUNTIFS(Tabla7[Año],$C$33,Tabla7[Mes],J$35,Tabla7[Entrega completa?],"SI",Tabla7[Categoría],$B40)/COUNTIFS(Tabla7[Año],$C$33,Tabla7[Mes],J$35,Tabla7[Entrega completa?],"*",Tabla7[Categoría],$B40),"") -> 0.33333333 | K40: =IFERROR(COUNTIFS(Tabla7[Año],$C$33,Tabla7[Mes],K$35,Tabla7[Entrega completa?],"SI",Tabla7[Categoría],$B40)/COUNTIFS(Tabla7[Año],$C$33,Tabla7[Mes],K$35,Tabla7[Entrega completa?],"*",Tabla7[Categoría],$B40),"") | ... O40: =IFERROR(COUNTIFS(Tabla7[Año],$C$33,Tabla7[Mes],O$35,Tabla7[Entrega completa?],"SI",Tabla7[Categoría],$B40)/COUNTIFS(Tabla7[Año],$C$33,Tabla7[Mes],O$35,Tabla7[Entrega completa?],"*",Tabla7[Categoría],$B40),"") | P40: =IFERROR(COUNTIFS(Tabla7[Año],$C$33,Tabla7[Mes],"*",Tabla7[Entrega completa?],"SI",Tabla7[Categoría],$B40)/COUNTIFS(Tabla7[Año],$C$33,Tabla7[Mes],"*",Tabla7[Entrega completa?],"*",Tabla7[Categoría],$B40),"") -> 0.80952381
A41: 6 | B41: =IF(Tablas!$J9="","",Tablas!$J9) -> 06 - AMORTIGUADORES | D41: =IFERROR(COUNTIFS(Tabla7[Año],$C$33,Tabla7[Mes],D$35,Tabla7[Entrega completa?],"SI",Tabla7[Categoría],$B41)/COUNTIFS(Tabla7[Año],$C$33,Tabla7[Mes],D$35,Tabla7[Entrega completa?],"*",Tabla7[Categoría],$B41),"") -> 0.75 | E41: =IFERROR(COUNTIFS(Tabla7[Año],$C$33,Tabla7[Mes],E$35,Tabla7[Entrega completa?],"SI",Tabla7[Categoría],$B41)/COUNTIFS(Tabla7[Año],$C$33,Tabla7[Mes],E$35,Tabla7[Entrega completa?],"*",Tabla7[Categoría],$B41),"") -> 0 | F41: =IFERROR(COUNTIFS(Tabla7[Año],$C$33,Tabla7[Mes],F$35,Tabla7[Entrega completa?],"SI",Tabla7[Categoría],$B41)/COUNTIFS(Tabla7[Año],$C$33,Tabla7[Mes],F$35,Tabla7[Entrega completa?],"*",Tabla7[Categoría],$B41),"") | G41: =IFERROR(COUNTIFS(Tabla7[Año],$C$33,Tabla7[Mes],G$35,Tabla7[Entrega completa?],"SI",Tabla7[Categoría],$B41)/COUNTIFS(Tabla7[Año],$C$33,Tabla7[Mes],G$35,Tabla7[Entrega completa?],"*",Tabla7[Categoría],$B41),"") -> 0.6 | H41: =IFERROR(COUNTIFS(Tabla7[Año],$C$33,Tabla7[Mes],H$35,Tabla7[Entrega completa?],"SI",Tabla7[Categoría],$B41)/COUNTIFS(Tabla7[Año],$C$33,Tabla7[Mes],H$35,Tabla7[Entrega completa?],"*",Tabla7[Categoría],$B41),"") -> 1 | I41: =IFERROR(COUNTIFS(Tabla7[Año],$C$33,Tabla7[Mes],I$35,Tabla7[Entrega completa?],"SI",Tabla7[Categoría],$B41)/COUNTIFS(Tabla7[Año],$C$33,Tabla7[Mes],I$35,Tabla7[Entrega completa?],"*",Tabla7[Categoría],$B41),"") -> 1 | J41: =IFERROR(COUNTIFS(Tabla7[Año],$C$33,Tabla7[Mes],J$35,Tabla7[Entrega completa?],"SI",Tabla7[Categoría],$B41)/COUNTIFS(Tabla7[Año],$C$33,Tabla7[Mes],J$35,Tabla7[Entrega completa?],"*",Tabla7[Categoría],$B41),"") -> 0.33333333 | K41: =IFERROR(COUNTIFS(Tabla7[Año],$C$33,Tabla7[Mes],K$35,Tabla7[Entrega completa?],"SI",Tabla7[Categoría],$B41)/COUNTIFS(Tabla7[Año],$C$33,Tabla7[Mes],K$35,Tabla7[Entrega completa?],"*",Tabla7[Categoría],$B41),"") | ... O41: =IFERROR(COUNTIFS(Tabla7[Año],$C$33,Tabla7[Mes],O$35,Tabla7[Entrega completa?],"SI",Tabla7[Categoría],$B41)/COUNTIFS(Tabla7[Año],$C$33,Tabla7[Mes],O$35,Tabla7[Entrega completa?],"*",Tabla7[Categoría],$B41),"") | P41: =IFERROR(COUNTIFS(Tabla7[Año],$C$33,Tabla7[Mes],"*",Tabla7[Entrega completa?],"SI",Tabla7[Categoría],$B41)/COUNTIFS(Tabla7[Año],$C$33,Tabla7[Mes],"*",Tabla7[Entrega completa?],"*",Tabla7[Categoría],$B41),"") -> 0.68421053
A42: 7 | B42: =IF(Tablas!$J10="","",Tablas!$J10) -> 07 - PEDALES Y POSAPIES | D42: =IFERROR(COUNTIFS(Tabla7[Año],$C$33,Tabla7[Mes],D$35,Tabla7[Entrega completa?],"SI",Tabla7[Categoría],$B42)/COUNTIFS(Tabla7[Año],$C$33,Tabla7[Mes],D$35,Tabla7[Entrega completa?],"*",Tabla7[Categoría],$B42),"") -> 0.5 | E42: =IFERROR(COUNTIFS(Tabla7[Año],$C$33,Tabla7[Mes],E$35,Tabla7[Entrega completa?],"SI",Tabla7[Categoría],$B42)/COUNTIFS(Tabla7[Año],$C$33,Tabla7[Mes],E$35,Tabla7[Entrega completa?],"*",Tabla7[Categoría],$B42),"") -> 1 | F42: =IFERROR(COUNTIFS(Tabla7[Año],$C$33,Tabla7[Mes],F$35,Tabla7[Entrega completa?],"SI",Tabla7[Categoría],$B42)/COUNTIFS(Tabla7[Año],$C$33,Tabla7[Mes],F$35,Tabla7[Entrega completa?],"*",Tabla7[Categoría],$B42),"") -> 1 | G42: =IFERROR(COUNTIFS(Tabla7[Año],$C$33,Tabla7[Mes],G$35,Tabla7[Entrega completa?],"SI",Tabla7[Categoría],$B42)/COUNTIFS(Tabla7[Año],$C$33,Tabla7[Mes],G$35,Tabla7[Entrega completa?],"*",Tabla7[Categoría],$B42),"") -> 0.6 | H42: =IFERROR(COUNTIFS(Tabla7[Año],$C$33,Tabla7[Mes],H$35,Tabla7[Entrega completa?],"SI",Tabla7[Categoría],$B42)/COUNTIFS(Tabla7[Año],$C$33,Tabla7[Mes],H$35,Tabla7[Entrega completa?],"*",Tabla7[Categoría],$B42),"") -> 0.66666667 | I42: =IFERROR(COUNTIFS(Tabla7[Año],$C$33,Tabla7[Mes],I$35,Tabla7[Entrega completa?],"SI",Tabla7[Categoría],$B42)/COUNTIFS(Tabla7[Año],$C$33,Tabla7[Mes],I$35,Tabla7[Entrega completa?],"*",Tabla7[Categoría],$B42),"") -> 1 | J42: =IFERROR(COUNTIFS(Tabla7[Año],$C$33,Tabla7[Mes],J$35,Tabla7[Entrega completa?],"SI",Tabla7[Categoría],$B42)/COUNTIFS(Tabla7[Año],$C$33,Tabla7[Mes],J$35,Tabla7[Entrega completa?],"*",Tabla7[Categoría],$B42),"") -> 0.66666667 | K42: =IFERROR(COUNTIFS(Tabla7[Año],$C$33,Tabla7[Mes],K$35,Tabla7[Entrega completa?],"SI",Tabla7[Categoría],$B42)/COUNTIFS(Tabla7[Año],$C$33,Tabla7[Mes],K$35,Tabla7[Entrega completa?],"*",Tabla7[Categoría],$B42),"") | ... O42: =IFERROR(COUNTIFS(Tabla7[Año],$C$33,Tabla7[Mes],O$35,Tabla7[Entrega completa?],"SI",Tabla7[Categoría],$B42)/COUNTIFS(Tabla7[Año],$C$33,Tabla7[Mes],O$35,Tabla7[Entrega completa?],"*",Tabla7[Categoría],$B42),"") | P42: =IFERROR(COUNTIFS(Tabla7[Año],$C$33,Tabla7[Mes],"*",Tabla7[Entrega completa?],"SI",Tabla7[Categoría],$B42)/COUNTIFS(Tabla7[Año],$C$33,Tabla7[Mes],"*",Tabla7[Entrega completa?],"*",Tabla7[Categoría],$B42),"") -> 0.76190476
A43: 8 | B43: =IF(Tablas!$J11="","",Tablas!$J11) -> 08 - ELECTRICO | D43: =IFERROR(COUNTIFS(Tabla7[Año],$C$33,Tabla7[Mes],D$35,Tabla7[Entrega completa?],"SI",Tabla7[Categoría],$B43)/COUNTIFS(Tabla7[Año],$C$33,Tabla7[Mes],D$35,Tabla7[Entrega completa?],"*",Tabla7[Categoría],$B43),"") -> 0.66666667 | E43: =IFERROR(COUNTIFS(Tabla7[Año],$C$33,Tabla7[Mes],E$35,Tabla7[Entrega completa?],"SI",Tabla7[Categoría],$B43)/COUNTIFS(Tabla7[Año],$C$33,Tabla7[Mes],E$35,Tabla7[Entrega completa?],"*",Tabla7[Categoría],$B43),"") | F43: =IFERROR(COUNTIFS(Tabla7[Año],$C$33,Tabla7[Mes],F$35,Tabla7[Entrega completa?],"SI",Tabla7[Categoría],$B43)/COUNTIFS(Tabla7[Año],$C$33,Tabla7[Mes],F$35,Tabla7[Entrega completa?],"*",Tabla7[Categoría],$B43),"") -> 1 | G43: =IFERROR(COUNTIFS(Tabla7[Año],$C$33,Tabla7[Mes],G$35,Tabla7[Entrega completa?],"SI",Tabla7[Categoría],$B43)/COUNTIFS(Tabla7[Año],$C$33,Tabla7[Mes],G$35,Tabla7[Entrega completa?],"*",Tabla7[Categoría],$B43),"") -> 0.57142857 | H43: =IFERROR(COUNTIFS(Tabla7[Año],$C$33,Tabla7[Mes],H$35,Tabla7[Entrega completa?],"SI",Tabla7[Categoría],$B43)/COUNTIFS(Tabla7[Año],$C$33,Tabla7[Mes],H$35,Tabla7[Entrega completa?],"*",Tabla7[Categoría],$B43),"") -> 0.6 | I43: =IFERROR(COUNTIFS(Tabla7[Año],$C$33,Tabla7[Mes],I$35,Tabla7[Entrega completa?],"SI",Tabla7[Categoría],$B43)/COUNTIFS(Tabla7[Año],$C$33,Tabla7[Mes],I$35,Tabla7[Entrega completa?],"*",Tabla7[Categoría],$B43),"") -> 1 | J43: =IFERROR(COUNTIFS(Tabla7[Año],$C$33,Tabla7[Mes],J$35,Tabla7[Entrega completa?],"SI",Tabla7[Categoría],$B43)/COUNTIFS(Tabla7[Año],$C$33,Tabla7[Mes],J$35,Tabla7[Entrega completa?],"*",Tabla7[Categoría],$B43),"") -> 1 | K43: =IFERROR(COUNTIFS(Tabla7[Año],$C$33,Tabla7[Mes],K$35,Tabla7[Entrega completa?],"SI",Tabla7[Categoría],$B43)/COUNTIFS(Tabla7[Año],$C$33,Tabla7[Mes],K$35,Tabla7[Entrega completa?],"*",Tabla7[Categoría],$B43),"") | ... O43: =IFERROR(COUNTIFS(Tabla7[Año],$C$33,Tabla7[Mes],O$35,Tabla7[Entrega completa?],"SI",Tabla7[Categoría],$B43)/COUNTIFS(Tabla7[Año],$C$33,Tabla7[Mes],O$35,Tabla7[Entrega completa?],"*",Tabla7[Categoría],$B43),"") | P43: =IFERROR(COUNTIFS(Tabla7[Año],$C$33,Tabla7[Mes],"*",Tabla7[Entrega completa?],"SI",Tabla7[Categoría],$B43)/COUNTIFS(Tabla7[Año],$C$33,Tabla7[Mes],"*",Tabla7[Entrega completa?],"*",Tabla7[Categoría],$B43),"") -> 0.7
A44: 9 | B44: =IF(Tablas!$J12="","",Tablas!$J12) -> 09 - PARTES DE MOTOR | D44: =IFERROR(COUNTIFS(Tabla7[Año],$C$33,Tabla7[Mes],D$35,Tabla7[Entrega completa?],"SI",Tabla7[Categoría],$B44)/COUNTIFS(Tabla7[Año],$C$33,Tabla7[Mes],D$35,Tabla7[Entrega completa?],"*",Tabla7[Categoría],$B44),"") -> 0.7 | E44: =IFERROR(COUNTIFS(Tabla7[Año],$C$33,Tabla7[Mes],E$35,Tabla7[Entrega completa?],"SI",Tabla7[Categoría],$B44)/COUNTIFS(Tabla7[Año],$C$33,Tabla7[Mes],E$35,Tabla7[Entrega completa?],"*",Tabla7[Categoría],$B44),"") -> 0.66666667 | F44: =IFERROR(COUNTIFS(Tabla7[Año],$C$33,Tabla7[Mes],F$35,Tabla7[Entrega completa?],"SI",Tabla7[Categoría],$B44)/COUNTIFS(Tabla7[Año],$C$33,Tabla7[Mes],F$35,Tabla7[Entrega completa?],"*",Tabla7[Categoría],$B44),"") -> 0.85714286 | G44: =IFERROR(COUNTIFS(Tabla7[Año],$C$33,Tabla7[Mes],G$35,Tabla7[Entrega completa?],"SI",Tabla7[Categoría],$B44)/COUNTIFS(Tabla7[Año],$C$33,Tabla7[Mes],G$35,Tabla7[Entrega completa?],"*",Tabla7[Categoría],$B44),"") -> 0.58823529 | H44: =IFERROR(COUNTIFS(Tabla7[Año],$C$33,Tabla7[Mes],H$35,Tabla7[Entrega completa?],"SI",Tabla7[Categoría],$B44)/COUNTIFS(Tabla7[Año],$C$33,Tabla7[Mes],H$35,Tabla7[Entrega completa?],"*",Tabla7[Categoría],$B44),"") -> 0.66666667 | I44: =IFERROR(COUNTIFS(Tabla7[Año],$C$33,Tabla7[Mes],I$35,Tabla7[Entrega completa?],"SI",Tabla7[Categoría],$B44)/COUNTIFS(Tabla7[Año],$C$33,Tabla7[Mes],I$35,Tabla7[Entrega completa?],"*",Tabla7[Categoría],$B44),"") -> 0.57142857 | J44: =IFERROR(COUNTIFS(Tabla7[Año],$C$33,Tabla7[Mes],J$35,Tabla7[Entrega completa?],"SI",Tabla7[Categoría],$B44)/COUNTIFS(Tabla7[Año],$C$33,Tabla7[Mes],J$35,Tabla7[Entrega completa?],"*",Tabla7[Categoría],$B44),"") -> 0.71428571 | K44: =IFERROR(COUNTIFS(Tabla7[Año],$C$33,Tabla7[Mes],K$35,Tabla7[Entrega completa?],"SI",Tabla7[Categoría],$B44)/COUNTIFS(Tabla7[Año],$C$33,Tabla7[Mes],K$35,Tabla7[Entrega completa?],"*",Tabla7[Categoría],$B44),"") | ... O44: =IFERROR(COUNTIFS(Tabla7[Año],$C$33,Tabla7[Mes],O$35,Tabla7[Entrega completa?],"SI",Tabla7[Categoría],$B44)/COUNTIFS(Tabla7[Año],$C$33,Tabla7[Mes],O$35,Tabla7[Entrega completa?],"*",Tabla7[Categoría],$B44),"") | P44: =IFERROR(COUNTIFS(Tabla7[Año],$C$33,Tabla7[Mes],"*",Tabla7[Entrega completa?],"SI",Tabla7[Categoría],$B44)/COUNTIFS(Tabla7[Año],$C$33,Tabla7[Mes],"*",Tabla7[Entrega completa?],"*",Tabla7[Categoría],$B44),"") -> 0.66666667
A45: 10 | B45: =IF(Tablas!$J13="","",Tablas!$J13) -> 10 - PALANCAS Y CHICOTES | D45: =IFERROR(COUNTIFS(Tabla7[Año],$C$33,Tabla7[Mes],D$35,Tabla7[Entrega completa?],"SI",Tabla7[Categoría],$B45)/COUNTIFS(Tabla7[Año],$C$33,Tabla7[Mes],D$35,Tabla7[Entrega completa?],"*",Tabla7[Categoría],$B45),"") -> 0.83333333 | E45: =IFERROR(COUNTIFS(Tabla7[Año],$C$33,Tabla7[Mes],E$35,Tabla7[Entrega completa?],"SI",Tabla7[Categoría],$B45)/COUNTIFS(Tabla7[Año],$C$33,Tabla7[Mes],E$35,Tabla7[Entrega completa?],"*",Tabla7[Categoría],$B45),"") -> 0.8 | F45: =IFERROR(COUNTIFS(Tabla7[Año],$C$33,Tabla7[Mes],F$35,Tabla7[Entrega completa?],"SI",Tabla7[Categoría],$B45)/COUNTIFS(Tabla7[Año],$C$33,Tabla7[Mes],F$35,Tabla7[Entrega completa?],"*",Tabla7[Categoría],$B45),"") -> 1 | G45: =IFERROR(COUNTIFS(Tabla7[Año],$C$33,Tabla7[Mes],G$35,Tabla7[Entrega completa?],"SI",Tabla7[Categoría],$B45)/COUNTIFS(Tabla7[Año],$C$33,Tabla7[Mes],G$35,Tabla7[Entrega completa?],"*",Tabla7[Categoría],$B45),"") -> 1 | H45: =IFERROR(COUNTIFS(Tabla7[Año],$C$33,Tabla7[Mes],H$35,Tabla7[Entrega completa?],"SI",Tabla7[Categoría],$B45)/COUNTIFS(Tabla7[Año],$C$33,Tabla7[Mes],H$35,Tabla7[Entrega completa?],"*",Tabla7[Categoría],$B45),"") -> 0.33333333 | I45: =IFERROR(COUNTIFS(Tabla7[Año],$C$33,Tabla7[Mes],I$35,Tabla7[Entrega completa?],"SI",Tabla7[Categoría],$B45)/COUNTIFS(Tabla7[Año],$C$33,Tabla7[Mes],I$35,Tabla7[Entrega completa?],"*",Tabla7[Categoría],$B45),"") | J45: =IFERROR(COUNTIFS(Tabla7[Año],$C$33,Tabla7[Mes],J$35,Tabla7[Entrega completa?],"SI",Tabla7[Categoría],$B45)/COUNTIFS(Tabla7[Año],$C$33,Tabla7[Mes],J$35,Tabla7[Entrega completa?],"*",Tabla7[Categoría],$B45),"") | K45: =IFERROR(COUNTIFS(Tabla7[Año],$C$33,Tabla7[Mes],K$35,Tabla7[Entrega completa?],"SI",Tabla7[Categoría],$B45)/COUNTIFS(Tabla7[Año],$C$33,Tabla7[Mes],K$35,Tabla7[Entrega completa?],"*",Tabla7[Categoría],$B45),"") | ... O45: =IFERROR(COUNTIFS(Tabla7[Año],$C$33,Tabla7[Mes],O$35,Tabla7[Entrega completa?],"SI",Tabla7[Categoría],$B45)/COUNTIFS(Tabla7[Año],$C$33,Tabla7[Mes],O$35,Tabla7[Entrega completa?],"*",Tabla7[Categoría],$B45),"") | P45: =IFERROR(COUNTIFS(Tabla7[Año],$C$33,Tabla7[Mes],"*",Tabla7[Entrega completa?],"SI",Tabla7[Categoría],$B45)/COUNTIFS(Tabla7[Año],$C$33,Tabla7[Mes],"*",Tabla7[Entrega completa?],"*",Tabla7[Categoría],$B45),"") -> 0.83333333
A46: 11 | B46: =IF(Tablas!$J14="","",Tablas!$J14) -> 11 - LLANTAS Y HULES | D46: =IFERROR(COUNTIFS(Tabla7[Año],$C$33,Tabla7[Mes],D$35,Tabla7[Entrega completa?],"SI",Tabla7[Categoría],$B46)/COUNTIFS(Tabla7[Año],$C$33,Tabla7[Mes],D$35,Tabla7[Entrega completa?],"*",Tabla7[Categoría],$B46),"") -> 0.5 | E46: =IFERROR(COUNTIFS(Tabla7[Año],$C$33,Tabla7[Mes],E$35,Tabla7[Entrega completa?],"SI",Tabla7[Categoría],$B46)/COUNTIFS(Tabla7[Año],$C$33,Tabla7[Mes],E$35,Tabla7[Entrega completa?],"*",Tabla7[Categoría],$B46),"") -> 1 | F46: =IFERROR(COUNTIFS(Tabla7[Año],$C$33,Tabla7[Mes],F$35,Tabla7[Entrega completa?],"SI",Tabla7[Categoría],$B46)/COUNTIFS(Tabla7[Año],$C$33,Tabla7[Mes],F$35,Tabla7[Entrega completa?],"*",Tabla7[Categoría],$B46),"") -> 0.66666667 | G46: =IFERROR(COUNTIFS(Tabla7[Año],$C$33,Tabla7[Mes],G$35,Tabla7[Entrega completa?],"SI",Tabla7[Categoría],$B46)/COUNTIFS(Tabla7[Año],$C$33,Tabla7[Mes],G$35,Tabla7[Entrega completa?],"*",Tabla7[Categoría],$B46),"") -> 0.6 | H46: =IFERROR(COUNTIFS(Tabla7[Año],$C$33,Tabla7[Mes],H$35,Tabla7[Entrega completa?],"SI",Tabla7[Categoría],$B46)/COUNTIFS(Tabla7[Año],$C$33,Tabla7[Mes],H$35,Tabla7[Entrega completa?],"*",Tabla7[Categoría],$B46),"") -> 1 | I46: =IFERROR(COUNTIFS(Tabla7[Año],$C$33,Tabla7[Mes],I$35,Tabla7[Entrega completa?],"SI",Tabla7[Categoría],$B46)/COUNTIFS(Tabla7[Año],$C$33,Tabla7[Mes],I$35,Tabla7[Entrega completa?],"*",Tabla7[Categoría],$B46),"") -> 0.5 | J46: =IFERROR(COUNTIFS(Tabla7[Año],$C$33,Tabla7[Mes],J$35,Tabla7[Entrega completa?],"SI",Tabla7[Categoría],$B46)/COUNTIFS(Tabla7[Año],$C$33,Tabla7[Mes],J$35,Tabla7[Entrega completa?],"*",Tabla7[Categoría],$B46),"") -> 0.5 | K46: =IFERROR(COUNTIFS(Tabla7[Año],$C$33,Tabla7[Mes],K$35,Tabla7[Entrega completa?],"SI",Tabla7[Categoría],$B46)/COUNTIFS(Tabla7[Año],$C$33,Tabla7[Mes],K$35,Tabla7[Entrega completa?],"*",Tabla7[Categoría],$B46),"") | ... O46: =IFERROR(COUNTIFS(Tabla7[Año],$C$33,Tabla7[Mes],O$35,Tabla7[Entrega completa?],"SI",Tabla7[Categoría],$B46)/COUNTIFS(Tabla7[Año],$C$33,Tabla7[Mes],O$35,Tabla7[Entrega completa?],"*",Tabla7[Categoría],$B46),"") | P46: =IFERROR(COUNTIFS(Tabla7[Año],$C$33,Tabla7[Mes],"*",Tabla7[Entrega completa?],"SI",Tabla7[Categoría],$B46)/COUNTIFS(Tabla7[Año],$C$33,Tabla7[Mes],"*",Tabla7[Entrega completa?],"*",Tabla7[Categoría],$B46),"") -> 0.69565217
A47: 12 | B47: =IF(Tablas!$J15="","",Tablas!$J15) -> 13 - TRACCION | D47: =IFERROR(COUNTIFS(Tabla7[Año],$C$33,Tabla7[Mes],D$35,Tabla7[Entrega completa?],"SI",Tabla7[Categoría],$B47)/COUNTIFS(Tabla7[Año],$C$33,Tabla7[Mes],D$35,Tabla7[Entrega completa?],"*",Tabla7[Categoría],$B47),"") -> 0.8 | E47: =IFERROR(COUNTIFS(Tabla7[Año],$C$33,Tabla7[Mes],E$35,Tabla7[Entrega completa?],"SI",Tabla7[Categoría],$B47)/COUNTIFS(Tabla7[Año],$C$33,Tabla7[Mes],E$35,Tabla7[Entrega completa?],"*",Tabla7[Categoría],$B47),"") -> 1 | F47: =IFERROR(COUNTIFS(Tabla7[Año],$C$33,Tabla7[Mes],F$35,Tabla7[Entrega completa?],"SI",Tabla7[Categoría],$B47)/COUNTIFS(Tabla7[Año],$C$33,Tabla7[Mes],F$35,Tabla7[Entrega completa?],"*",Tabla7[Categoría],$B47),"") -> 1 | G47: =IFERROR(COUNTIFS(Tabla7[Año],$C$33,Tabla7[Mes],G$35,Tabla7[Entrega completa?],"SI",Tabla7[Categoría],$B47)/COUNTIFS(Tabla7[Año],$C$33,Tabla7[Mes],G$35,Tabla7[Entrega completa?],"*",Tabla7[Categoría],$B47),"") -> 0.66666667 | H47: =IFERROR(COUNTIFS(Tabla7[Año],$C$33,Tabla7[Mes],H$35,Tabla7[Entrega completa?],"SI",Tabla7[Categoría],$B47)/COUNTIFS(Tabla7[Año],$C$33,Tabla7[Mes],H$35,Tabla7[Entrega completa?],"*",Tabla7[Categoría],$B47),"") -> 1 | I47: =IFERROR(COUNTIFS(Tabla7[Año],$C$33,Tabla7[Mes],I$35,Tabla7[Entrega completa?],"SI",Tabla7[Categoría],$B47)/COUNTIFS(Tabla7[Año],$C$33,Tabla7[Mes],I$35,Tabla7[Entrega completa?],"*",Tabla7[Categoría],$B47),"") | J47: =IFERROR(COUNTIFS(Tabla7[Año],$C$33,Tabla7[Mes],J$35,Tabla7[Entrega completa?],"SI",Tabla7[Categoría],$B47)/COUNTIFS(Tabla7[Año],$C$33,Tabla7[Mes],J$35,Tabla7[Entrega completa?],"*",Tabla7[Categoría],$B47),"") -> 0.5 | K47: =IFERROR(COUNTIFS(Tabla7[Año],$C$33,Tabla7[Mes],K$35,Tabla7[Entrega completa?],"SI",Tabla7[Categoría],$B47)/COUNTIFS(Tabla7[Año],$C$33,Tabla7[Mes],K$35,Tabla7[Entrega completa?],"*",Tabla7[Categoría],$B47),"") | ... O47: =IFERROR(COUNTIFS(Tabla7[Año],$C$33,Tabla7[Mes],O$35,Tabla7[Entrega completa?],"SI",Tabla7[Categoría],$B47)/COUNTIFS(Tabla7[Año],$C$33,Tabla7[Mes],O$35,Tabla7[Entrega completa?],"*",Tabla7[Categoría],$B47),"") | P47: =IFERROR(COUNTIFS(Tabla7[Año],$C$33,Tabla7[Mes],"*",Tabla7[Entrega completa?],"SI",Tabla7[Categoría],$B47)/COUNTIFS(Tabla7[Año],$C$33,Tabla7[Mes],"*",Tabla7[Entrega completa?],"*",Tabla7[Categoría],$B47),"") -> 0.8
... A55: 20 | B55: =IF(Tablas!$J23="","",Tablas!$J23) | D55: =IFERROR(COUNTIFS(Tabla7[Año],$C$33,Tabla7[Mes],D$35,Tabla7[Entrega completa?],"SI",Tabla7[Categoría],$B55)/COUNTIFS(Tabla7[Año],$C$33,Tabla7[Mes],D$35,Tabla7[Entrega completa?],"*",Tabla7[Categoría],$B55),"") | E55: =IFERROR(COUNTIFS(Tabla7[Año],$C$33,Tabla7[Mes],E$35,Tabla7[Entrega completa?],"SI",Tabla7[Categoría],$B55)/COUNTIFS(Tabla7[Año],$C$33,Tabla7[Mes],E$35,Tabla7[Entrega completa?],"*",Tabla7[Categoría],$B55),"") | F55: =IFERROR(COUNTIFS(Tabla7[Año],$C$33,Tabla7[Mes],F$35,Tabla7[Entrega completa?],"SI",Tabla7[Categoría],$B55)/COUNTIFS(Tabla7[Año],$C$33,Tabla7[Mes],F$35,Tabla7[Entrega completa?],"*",Tabla7[Categoría],$B55),"") | G55: =IFERROR(COUNTIFS(Tabla7[Año],$C$33,Tabla7[Mes],G$35,Tabla7[Entrega completa?],"SI",Tabla7[Categoría],$B55)/COUNTIFS(Tabla7[Año],$C$33,Tabla7[Mes],G$35,Tabla7[Entrega completa?],"*",Tabla7[Categoría],$B55),"") | H55: =IFERROR(COUNTIFS(Tabla7[Año],$C$33,Tabla7[Mes],H$35,Tabla7[Entrega completa?],"SI",Tabla7[Categoría],$B55)/COUNTIFS(Tabla7[Año],$C$33,Tabla7[Mes],H$35,Tabla7[Entrega completa?],"*",Tabla7[Categoría],$B55),"") | I55: =IFERROR(COUNTIFS(Tabla7[Año],$C$33,Tabla7[Mes],I$35,Tabla7[Entrega completa?],"SI",Tabla7[Categoría],$B55)/COUNTIFS(Tabla7[Año],$C$33,Tabla7[Mes],I$35,Tabla7[Entrega completa?],"*",Tabla7[Categoría],$B55),"") | J55: =IFERROR(COUNTIFS(Tabla7[Año],$C$33,Tabla7[Mes],J$35,Tabla7[Entrega completa?],"SI",Tabla7[Categoría],$B55)/COUNTIFS(Tabla7[Año],$C$33,Tabla7[Mes],J$35,Tabla7[Entrega completa?],"*",Tabla7[Categoría],$B55),"") | K55: =IFERROR(COUNTIFS(Tabla7[Año],$C$33,Tabla7[Mes],K$35,Tabla7[Entrega completa?],"SI",Tabla7[Categoría],$B55)/COUNTIFS(Tabla7[Año],$C$33,Tabla7[Mes],K$35,Tabla7[Entrega completa?],"*",Tabla7[Categoría],$B55),"") | ... O55: =IFERROR(COUNTIFS(Tabla7[Año],$C$33,Tabla7[Mes],O$35,Tabla7[Entrega completa?],"SI",Tabla7[Categoría],$B55)/COUNTIFS(Tabla7[Año],$C$33,Tabla7[Mes],O$35,Tabla7[Entrega completa?],"*",Tabla7[Categoría],$B55),"") | P55: =IFERROR(COUNTIFS(Tabla7[Año],$C$33,Tabla7[Mes],"*",Tabla7[Entrega completa?],"SI",Tabla7[Categoría],$B55)/COUNTIFS(Tabla7[Año],$C$33,Tabla7[Mes],"*",Tabla7[Entrega completa?],"*",Tabla7[Categoría],$B55),"")
B57: 1.3 PEDIDOS ENTREGADOS EN FORMA COMPLETA POR TIPO DE CLIENTE
B59: Año: | C59: 2018
B61: TIPO DE CLIENTE | D61: Ene | E61: Feb | F61: Mar | G61: Abr | H61: May | I61: Jun | J61: Jul | K61: Ago | L61: Set | M61: Oct | N61: Nov | O61: Dic | P61: Total
A62: 1 | B62: =IF(Tablas!$L4="","",Tablas!$L4) -> RETAIL | D62: =IFERROR(COUNTIFS(Tabla7[Año],$C$59,Tabla7[Mes],D$61,Tabla7[Entrega completa?],"SI",Tabla7[Tipo de cliente],$B62)/COUNTIFS(Tabla7[Año],$C$59,Tabla7[Mes],D$61,Tabla7[Entrega completa?],"*",Tabla7[Tipo de cliente],$B62),"") -> 0.77777778 | E62: =IFERROR(COUNTIFS(Tabla7[Año],$C$59,Tabla7[Mes],E$61,Tabla7[Entrega completa?],"SI",Tabla7[Tipo de cliente],$B62)/COUNTIFS(Tabla7[Año],$C$59,Tabla7[Mes],E$61,Tabla7[Entrega completa?],"*",Tabla7[Tipo de cliente],$B62),"") -> 0.91666667 | F62: =IFERROR(COUNTIFS(Tabla7[Año],$C$59,Tabla7[Mes],F$61,Tabla7[Entrega completa?],"SI",Tabla7[Tipo de cliente],$B62)/COUNTIFS(Tabla7[Año],$C$59,Tabla7[Mes],F$61,Tabla7[Entrega completa?],"*",Tabla7[Tipo de cliente],$B62),"") -> 0.88888889 | G62: =IFERROR(COUNTIFS(Tabla7[Año],$C$59,Tabla7[Mes],G$61,Tabla7[Entrega completa?],"SI",Tabla7[Tipo de cliente],$B62)/COUNTIFS(Tabla7[Año],$C$59,Tabla7[Mes],G$61,Tabla7[Entrega completa?],"*",Tabla7[Tipo de cliente],$B62),"") -> 0.80952381 | H62: =IFERROR(COUNTIFS(Tabla7[Año],$C$59,Tabla7[Mes],H$61,Tabla7[Entrega completa?],"SI",Tabla7[Tipo de cliente],$B62)/COUNTIFS(Tabla7[Año],$C$59,Tabla7[Mes],H$61,Tabla7[Entrega completa?],"*",Tabla7[Tipo de cliente],$B62),"") -> 0.8 | I62: =IFERROR(COUNTIFS(Tabla7[Año],$C$59,Tabla7[Mes],I$61,Tabla7[Entrega completa?],"SI",Tabla7[Tipo de cliente],$B62)/COUNTIFS(Tabla7[Año],$C$59,Tabla7[Mes],I$61,Tabla7[Entrega completa?],"*",Tabla7[Tipo de cliente],$B62),"") -> 0.83333333 | J62: =IFERROR(COUNTIFS(Tabla7[Año],$C$59,Tabla7[Mes],J$61,Tabla7[Entrega completa?],"SI",Tabla7[Tipo de cliente],$B62)/COUNTIFS(Tabla7[Año],$C$59,Tabla7[Mes],J$61,Tabla7[Entrega completa?],"*",Tabla7[Tipo de cliente],$B62),"") -> 0.58333333 | K62: =IFERROR(COUNTIFS(Tabla7[Año],$C$59,Tabla7[Mes],K$61,Tabla7[Entrega completa?],"SI",Tabla7[Tipo de cliente],$B62)/COUNTIFS(Tabla7[Año],$C$59,Tabla7[Mes],K$61,Tabla7[Entrega completa?],"*",Tabla7[Tipo de cliente],$B62),"") | ... O62: =IFERROR(COUNTIFS(Tabla7[Año],$C$59,Tabla7[Mes],O$61,Tabla7[Entrega completa?],"SI",Tabla7[Tipo de cliente],$B62)/COUNTIFS(Tabla7[Año],$C$59,Tabla7[Mes],O$61,Tabla7[Entrega completa?],"*",Tabla7[Tipo de cliente],$B62),"") | P62: =IFERROR(COUNTIFS(Tabla7[Año],$C$33,Tabla7[Mes],"*",Tabla7[Entrega completa?],"SI",Tabla7[Tipo de cliente],$B62)/COUNTIFS(Tabla7[Año],$C$33,Tabla7[Mes],"*",Tabla7[Entrega completa?],"*",Tabla7[Tipo de cliente],$B62),"") -> 0.79746835
A63: 2 | B63: =IF(Tablas!$L5="","",Tablas!$L5) -> DISTRIBUIDORES | D63: =IFERROR(COUNTIFS(Tabla7[Año],$C$59,Tabla7[Mes],D$61,Tabla7[Entrega completa?],"SI",Tabla7[Tipo de cliente],$B63)/COUNTIFS(Tabla7[Año],$C$59,Tabla7[Mes],D$61,Tabla7[Entrega completa?],"*",Tabla7[Tipo de cliente],$B63),"") -> 1 | E63: =IFERROR(COUNTIFS(Tabla7[Año],$C$59,Tabla7[Mes],E$61,Tabla7[Entrega completa?],"SI",Tabla7[Tipo de cliente],$B63)/COUNTIFS(Tabla7[Año],$C$59,Tabla7[Mes],E$61,Tabla7[Entrega completa?],"*",Tabla7[Tipo de cliente],$B63),"") -> 0.66666667 | F63: =IFERROR(COUNTIFS(Tabla7[Año],$C$59,Tabla7[Mes],F$61,Tabla7[Entrega completa?],"SI",Tabla7[Tipo de cliente],$B63)/COUNTIFS(Tabla7[Año],$C$59,Tabla7[Mes],F$61,Tabla7[Entrega completa?],"*",Tabla7[Tipo de cliente],$B63),"") -> 0.75 | G63: =IFERROR(COUNTIFS(Tabla7[Año],$C$59,Tabla7[Mes],G$61,Tabla7[Entrega completa?],"SI",Tabla7[Tipo de cliente],$B63)/COUNTIFS(Tabla7[Año],$C$59,Tabla7[Mes],G$61,Tabla7[Entrega completa?],"*",Tabla7[Tipo de cliente],$B63),"") -> 0.83333333 | H63: =IFERROR(COUNTIFS(Tabla7[Año],$C$59,Tabla7[Mes],H$61,Tabla7[Entrega completa?],"SI",Tabla7[Tipo de cliente],$B63)/COUNTIFS(Tabla7[Año],$C$59,Tabla7[Mes],H$61,Tabla7[Entrega completa?],"*",Tabla7[Tipo de cliente],$B63),"") -> 1 | I63: =IFERROR(COUNTIFS(Tabla7[Año],$C$59,Tabla7[Mes],I$61,Tabla7[Entrega completa?],"SI",Tabla7[Tipo de cliente],$B63)/COUNTIFS(Tabla7[Año],$C$59,Tabla7[Mes],I$61,Tabla7[Entrega completa?],"*",Tabla7[Tipo de cliente],$B63),"") -> 0.5 | J63: =IFERROR(COUNTIFS(Tabla7[Año],$C$59,Tabla7[Mes],J$61,Tabla7[Entrega completa?],"SI",Tabla7[Tipo de cliente],$B63)/COUNTIFS(Tabla7[Año],$C$59,Tabla7[Mes],J$61,Tabla7[Entrega completa?],"*",Tabla7[Tipo de cliente],$B63),"") -> 1 | K63: =IFERROR(COUNTIFS(Tabla7[Año],$C$59,Tabla7[Mes],K$61,Tabla7[Entrega completa?],"SI",Tabla7[Tipo de cliente],$B63)/COUNTIFS(Tabla7[Año],$C$59,Tabla7[Mes],K$61,Tabla7[Entrega completa?],"*",Tabla7[Tipo de cliente],$B63),"") | ... O63: =IFERROR(COUNTIFS(Tabla7[Año],$C$59,Tabla7[Mes],O$61,Tabla7[Entrega completa?],"SI",Tabla7[Tipo de cliente],$B63)/COUNTIFS(Tabla7[Año],$C$59,Tabla7[Mes],O$61,Tabla7[Entrega completa?],"*",Tabla7[Tipo de cliente],$B63),"") | P63: =IFERROR(COUNTIFS(Tabla7[Año],$C$33,Tabla7[Mes],"*",Tabla7[Entrega completa?],"SI",Tabla7[Tipo de cliente],$B63)/COUNTIFS(Tabla7[Año],$C$33,Tabla7[Mes],"*",Tabla7[Entrega completa?],"*",Tabla7[Tipo de cliente],$B63),"") -> 0.82608696
A64: 3 | B64: =IF(Tablas!$L6="","",Tablas!$L6) -> MAYORISTAS | D64: =IFERROR(COUNTIFS(Tabla7[Año],$C$59,Tabla7[Mes],D$61,Tabla7[Entrega completa?],"SI",Tabla7[Tipo de cliente],$B64)/COUNTIFS(Tabla7[Año],$C$59,Tabla7[Mes],D$61,Tabla7[Entrega completa?],"*",Tabla7[Tipo de cliente],$B64),"") -> 1 | E64: =IFERROR(COUNTIFS(Tabla7[Año],$C$59,Tabla7[Mes],E$61,Tabla7[Entrega completa?],"SI",Tabla7[Tipo de cliente],$B64)/COUNTIFS(Tabla7[Año],$C$59,Tabla7[Mes],E$61,Tabla7[Entrega completa?],"*",Tabla7[Tipo de cliente],$B64),"") -> 1 | F64: =IFERROR(COUNTIFS(Tabla7[Año],$C$59,Tabla7[Mes],F$61,Tabla7[Entrega completa?],"SI",Tabla7[Tipo de cliente],$B64)/COUNTIFS(Tabla7[Año],$C$59,Tabla7[Mes],F$61,Tabla7[Entrega completa?],"*",Tabla7[Tipo de cliente],$B64),"") -> 0.83333333 | G64: =IFERROR(COUNTIFS(Tabla7[Año],$C$59,Tabla7[Mes],G$61,Tabla7[Entrega completa?],"SI",Tabla7[Tipo de cliente],$B64)/COUNTIFS(Tabla7[Año],$C$59,Tabla7[Mes],G$61,Tabla7[Entrega completa?],"*",Tabla7[Tipo de cliente],$B64),"") -> 0.5 | H64: =IFERROR(COUNTIFS(Tabla7[Año],$C$59,Tabla7[Mes],H$61,Tabla7[Entrega completa?],"SI",Tabla7[Tipo de cliente],$B64)/COUNTIFS(Tabla7[Año],$C$59,Tabla7[Mes],H$61,Tabla7[Entrega completa?],"*",Tabla7[Tipo de cliente],$B64),"") -> 0.71428571 | I64: =IFERROR(COUNTIFS(Tabla7[Año],$C$59,Tabla7[Mes],I$61,Tabla7[Entrega completa?],"SI",Tabla7[Tipo de cliente],$B64)/COUNTIFS(Tabla7[Año],$C$59,Tabla7[Mes],I$61,Tabla7[Entrega completa?],"*",Tabla7[Tipo de cliente],$B64),"") -> 0.5 | J64: =IFERROR(COUNTIFS(Tabla7[Año],$C$59,Tabla7[Mes],J$61,Tabla7[Entrega completa?],"SI",Tabla7[Tipo de cliente],$B64)/COUNTIFS(Tabla7[Año],$C$59,Tabla7[Mes],J$61,Tabla7[Entrega completa?],"*",Tabla7[Tipo de cliente],$B64),"") | K64: =IFERROR(COUNTIFS(Tabla7[Año],$C$59,Tabla7[Mes],K$61,Tabla7[Entrega completa?],"SI",Tabla7[Tipo de cliente],$B64)/COUNTIFS(Tabla7[Año],$C$59,Tabla7[Mes],K$61,Tabla7[Entrega completa?],"*",Tabla7[Tipo de cliente],$B64),"") | ... O64: =IFERROR(COUNTIFS(Tabla7[Año],$C$59,Tabla7[Mes],O$61,Tabla7[Entrega completa?],"SI",Tabla7[Tipo de cliente],$B64)/COUNTIFS(Tabla7[Año],$C$59,Tabla7[Mes],O$61,Tabla7[Entrega completa?],"*",Tabla7[Tipo de cliente],$B64),"") | P64: =IFERROR(COUNTIFS(Tabla7[Año],$C$33,Tabla7[Mes],"*",Tabla7[Entrega completa?],"SI",Tabla7[Tipo de cliente],$B64)/COUNTIFS(Tabla7[Año],$C$33,Tabla7[Mes],"*",Tabla7[Entrega completa?],"*",Tabla7[Tipo de cliente],$B64),"") -> 0.76
A65: 4 | B65: =IF(Tablas!$L7="","",Tablas!$L7) -> CORPORATIVO | D65: =IFERROR(COUNTIFS(Tabla7[Año],$C$59,Tabla7[Mes],D$61,Tabla7[Entrega completa?],"SI",Tabla7[Tipo de cliente],$B65)/COUNTIFS(Tabla7[Año],$C$59,Tabla7[Mes],D$61,Tabla7[Entrega completa?],"*",Tabla7[Tipo de cliente],$B65),"") -> 0.6 | E65: =IFERROR(COUNTIFS(Tabla7[Año],$C$59,Tabla7[Mes],E$61,Tabla7[Entrega completa?],"SI",Tabla7[Tipo de cliente],$B65)/COUNTIFS(Tabla7[Año],$C$59,Tabla7[Mes],E$61,Tabla7[Entrega completa?],"*",Tabla7[Tipo de cliente],$B65),"") -> 1 | F65: =IFERROR(COUNTIFS(Tabla7[Año],$C$59,Tabla7[Mes],F$61,Tabla7[Entrega completa?],"SI",Tabla7[Tipo de cliente],$B65)/COUNTIFS(Tabla7[Año],$C$59,Tabla7[Mes],F$61,Tabla7[Entrega completa?],"*",Tabla7[Tipo de cliente],$B65),"") -> 0.8 | G65: =IFERROR(COUNTIFS(Tabla7[Año],$C$59,Tabla7[Mes],G$61,Tabla7[Entrega completa?],"SI",Tabla7[Tipo de cliente],$B65)/COUNTIFS(Tabla7[Año],$C$59,Tabla7[Mes],G$61,Tabla7[Entrega completa?],"*",Tabla7[Tipo de cliente],$B65),"") -> 0.8 | H65: =IFERROR(COUNTIFS(Tabla7[Año],$C$59,Tabla7[Mes],H$61,Tabla7[Entrega completa?],"SI",Tabla7[Tipo de cliente],$B65)/COUNTIFS(Tabla7[Año],$C$59,Tabla7[Mes],H$61,Tabla7[Entrega completa?],"*",Tabla7[Tipo de cliente],$B65),"") -> 0.6 | I65: =IFERROR(COUNTIFS(Tabla7[Año],$C$59,Tabla7[Mes],I$61,Tabla7[Entrega completa?],"SI",Tabla7[Tipo de cliente],$B65)/COUNTIFS(Tabla7[Año],$C$59,Tabla7[Mes],I$61,Tabla7[Entrega completa?],"*",Tabla7[Tipo de cliente],$B65),"") -> 0.66666667 | J65: =IFERROR(COUNTIFS(Tabla7[Año],$C$59,Tabla7[Mes],J$61,Tabla7[Entrega completa?],"SI",Tabla7[Tipo de cliente],$B65)/COUNTIFS(Tabla7[Año],$C$59,Tabla7[Mes],J$61,Tabla7[Entrega completa?],"*",Tabla7[Tipo de cliente],$B65),"") -> 0.6 | K65: =IFERROR(COUNTIFS(Tabla7[Año],$C$59,Tabla7[Mes],K$61,Tabla7[Entrega completa?],"SI",Tabla7[Tipo de cliente],$B65)/COUNTIFS(Tabla7[Año],$C$59,Tabla7[Mes],K$61,Tabla7[Entrega completa?],"*",Tabla7[Tipo de cliente],$B65),"") | ... O65: =IFERROR(COUNTIFS(Tabla7[Año],$C$59,Tabla7[Mes],O$61,Tabla7[Entrega completa?],"SI",Tabla7[Tipo de cliente],$B65)/COUNTIFS(Tabla7[Año],$C$59,Tabla7[Mes],O$61,Tabla7[Entrega completa?],"*",Tabla7[Tipo de cliente],$B65),"") | P65: =IFERROR(COUNTIFS(Tabla7[Año],$C$33,Tabla7[Mes],"*",Tabla7[Entrega completa?],"SI",Tabla7[Tipo de cliente],$B65)/COUNTIFS(Tabla7[Año],$C$33,Tabla7[Mes],"*",Tabla7[Entrega completa?],"*",Tabla7[Tipo de cliente],$B65),"") -> 0.7
A66: 5 | B66: =IF(Tablas!$L8="","",Tablas!$L8) -> PROYECTOS | D66: =IFERROR(COUNTIFS(Tabla7[Año],$C$59,Tabla7[Mes],D$61,Tabla7[Entrega completa?],"SI",Tabla7[Tipo de cliente],$B66)/COUNTIFS(Tabla7[Año],$C$59,Tabla7[Mes],D$61,Tabla7[Entrega completa?],"*",Tabla7[Tipo de cliente],$B66),"") -> 0.33333333 | E66: =IFERROR(COUNTIFS(Tabla7[Año],$C$59,Tabla7[Mes],E$61,Tabla7[Entrega completa?],"SI",Tabla7[Tipo de cliente],$B66)/COUNTIFS(Tabla7[Año],$C$59,Tabla7[Mes],E$61,Tabla7[Entrega completa?],"*",Tabla7[Tipo de cliente],$B66),"") -> 0.625 | F66: =IFERROR(COUNTIFS(Tabla7[Año],$C$59,Tabla7[Mes],F$61,Tabla7[Entrega completa?],"SI",Tabla7[Tipo de cliente],$B66)/COUNTIFS(Tabla7[Año],$C$59,Tabla7[Mes],F$61,Tabla7[Entrega completa?],"*",Tabla7[Tipo de cliente],$B66),"") -> 0.5 | G66: =IFERROR(COUNTIFS(Tabla7[Año],$C$59,Tabla7[Mes],G$61,Tabla7[Entrega completa?],"SI",Tabla7[Tipo de cliente],$B66)/COUNTIFS(Tabla7[Año],$C$59,Tabla7[Mes],G$61,Tabla7[Entrega completa?],"*",Tabla7[Tipo de cliente],$B66),"") -> 0.6 | H66: =IFERROR(COUNTIFS(Tabla7[Año],$C$59,Tabla7[Mes],H$61,Tabla7[Entrega completa?],"SI",Tabla7[Tipo de cliente],$B66)/COUNTIFS(Tabla7[Año],$C$59,Tabla7[Mes],H$61,Tabla7[Entrega completa?],"*",Tabla7[Tipo de cliente],$B66),"") -> 1 | I66: =IFERROR(COUNTIFS(Tabla7[Año],$C$59,Tabla7[Mes],I$61,Tabla7[Entrega completa?],"SI",Tabla7[Tipo de cliente],$B66)/COUNTIFS(Tabla7[Año],$C$59,Tabla7[Mes],I$61,Tabla7[Entrega completa?],"*",Tabla7[Tipo de cliente],$B66),"") -> 0 | J66: =IFERROR(COUNTIFS(Tabla7[Año],$C$59,Tabla7[Mes],J$61,Tabla7[Entrega completa?],"SI",Tabla7[Tipo de cliente],$B66)/COUNTIFS(Tabla7[Año],$C$59,Tabla7[Mes],J$61,Tabla7[Entrega completa?],"*",Tabla7[Tipo de cliente],$B66),"") -> 1 | K66: =IFERROR(COUNTIFS(Tabla7[Año],$C$59,Tabla7[Mes],K$61,Tabla7[Entrega completa?],"SI",Tabla7[Tipo de cliente],$B66)/COUNTIFS(Tabla7[Año],$C$59,Tabla7[Mes],K$61,Tabla7[Entrega completa?],"*",Tabla7[Tipo de cliente],$B66),"") | ... O66: =IFERROR(COUNTIFS(Tabla7[Año],$C$59,Tabla7[Mes],O$61,Tabla7[Entrega completa?],"SI",Tabla7[Tipo de cliente],$B66)/COUNTIFS(Tabla7[Año],$C$59,Tabla7[Mes],O$61,Tabla7[Entrega completa?],"*",Tabla7[Tipo de cliente],$B66),"") | P66: =IFERROR(COUNTIFS(Tabla7[Año],$C$33,Tabla7[Mes],"*",Tabla7[Entrega completa?],"SI",Tabla7[Tipo de cliente],$B66)/COUNTIFS(Tabla7[Año],$C$33,Tabla7[Mes],"*",Tabla7[Entrega completa?],"*",Tabla7[Tipo de cliente],$B66),"") -> 0.62068966
A67: 6 | B67: =IF(Tablas!$L9="","",Tablas!$L9) -> INSTITUCIONAL | D67: =IFERROR(COUNTIFS(Tabla7[Año],$C$59,Tabla7[Mes],D$61,Tabla7[Entrega completa?],"SI",Tabla7[Tipo de cliente],$B67)/COUNTIFS(Tabla7[Año],$C$59,Tabla7[Mes],D$61,Tabla7[Entrega completa?],"*",Tabla7[Tipo de cliente],$B67),"") -> 0.2 | E67: =IFERROR(COUNTIFS(Tabla7[Año],$C$59,Tabla7[Mes],E$61,Tabla7[Entrega completa?],"SI",Tabla7[Tipo de cliente],$B67)/COUNTIFS(Tabla7[Año],$C$59,Tabla7[Mes],E$61,Tabla7[Entrega completa?],"*",Tabla7[Tipo de cliente],$B67),"") -> 0.25 | F67: =IFERROR(COUNTIFS(Tabla7[Año],$C$59,Tabla7[Mes],F$61,Tabla7[Entrega completa?],"SI",Tabla7[Tipo de cliente],$B67)/COUNTIFS(Tabla7[Año],$C$59,Tabla7[Mes],F$61,Tabla7[Entrega completa?],"*",Tabla7[Tipo de cliente],$B67),"") -> 1 | G67: =IFERROR(COUNTIFS(Tabla7[Año],$C$59,Tabla7[Mes],G$61,Tabla7[Entrega completa?],"SI",Tabla7[Tipo de cliente],$B67)/COUNTIFS(Tabla7[Año],$C$59,Tabla7[Mes],G$61,Tabla7[Entrega completa?],"*",Tabla7[Tipo de cliente],$B67),"") -> 0.9 | H67: =IFERROR(COUNTIFS(Tabla7[Año],$C$59,Tabla7[Mes],H$61,Tabla7[Entrega completa?],"SI",Tabla7[Tipo de cliente],$B67)/COUNTIFS(Tabla7[Año],$C$59,Tabla7[Mes],H$61,Tabla7[Entrega completa?],"*",Tabla7[Tipo de cliente],$B67),"") -> 1 | I67: =IFERROR(COUNTIFS(Tabla7[Año],$C$59,Tabla7[Mes],I$61,Tabla7[Entrega completa?],"SI",Tabla7[Tipo de cliente],$B67)/COUNTIFS(Tabla7[Año],$C$59,Tabla7[Mes],I$61,Tabla7[Entrega completa?],"*",Tabla7[Tipo de cliente],$B67),"") | J67: =IFERROR(COUNTIFS(Tabla7[Año],$C$59,Tabla7[Mes],J$61,Tabla7[Entrega completa?],"SI",Tabla7[Tipo de cliente],$B67)/COUNTIFS(Tabla7[Año],$C$59,Tabla7[Mes],J$61,Tabla7[Entrega completa?],"*",Tabla7[Tipo de cliente],$B67),"") -> 0 | K67: =IFERROR(COUNTIFS(Tabla7[Año],$C$59,Tabla7[Mes],K$61,Tabla7[Entrega completa?],"SI",Tabla7[Tipo de cliente],$B67)/COUNTIFS(Tabla7[Año],$C$59,Tabla7[Mes],K$61,Tabla7[Entrega completa?],"*",Tabla7[Tipo de cliente],$B67),"") | ... O67: =IFERROR(COUNTIFS(Tabla7[Año],$C$59,Tabla7[Mes],O$61,Tabla7[Entrega completa?],"SI",Tabla7[Tipo de cliente],$B67)/COUNTIFS(Tabla7[Año],$C$59,Tabla7[Mes],O$61,Tabla7[Entrega completa?],"*",Tabla7[Tipo de cliente],$B67),"") | P67: =IFERROR(COUNTIFS(Tabla7[Año],$C$33,Tabla7[Mes],"*",Tabla7[Entrega completa?],"SI",Tabla7[Tipo de cliente],$B67)/COUNTIFS(Tabla7[Año],$C$33,Tabla7[Mes],"*",Tabla7[Entrega completa?],"*",Tabla7[Tipo de cliente],$B67),"") -> 0.61538462
A68: 7 | B68: =IF(Tablas!$L10="","",Tablas!$L10) -> HOMECENTER | D68: =IFERROR(COUNTIFS(Tabla7[Año],$C$59,Tabla7[Mes],D$61,Tabla7[Entrega completa?],"SI",Tabla7[Tipo de cliente],$B68)/COUNTIFS(Tabla7[Año],$C$59,Tabla7[Mes],D$61,Tabla7[Entrega completa?],"*",Tabla7[Tipo de cliente],$B68),"") -> 0.91666667 | E68: =IFERROR(COUNTIFS(Tabla7[Año],$C$59,Tabla7[Mes],E$61,Tabla7[Entrega completa?],"SI",Tabla7[Tipo de cliente],$B68)/COUNTIFS(Tabla7[Año],$C$59,Tabla7[Mes],E$61,Tabla7[Entrega completa?],"*",Tabla7[Tipo de cliente],$B68),"") -> 0.78947368 | F68: =IFERROR(COUNTIFS(Tabla7[Año],$C$59,Tabla7[Mes],F$61,Tabla7[Entrega completa?],"SI",Tabla7[Tipo de cliente],$B68)/COUNTIFS(Tabla7[Año],$C$59,Tabla7[Mes],F$61,Tabla7[Entrega completa?],"*",Tabla7[Tipo de cliente],$B68),"") -> 0.8 | G68: =IFERROR(COUNTIFS(Tabla7[Año],$C$59,Tabla7[Mes],G$61,Tabla7[Entrega completa?],"SI",Tabla7[Tipo de cliente],$B68)/COUNTIFS(Tabla7[Año],$C$59,Tabla7[Mes],G$61,Tabla7[Entrega completa?],"*",Tabla7[Tipo de cliente],$B68),"") -> 0.68965517 | H68: =IFERROR(COUNTIFS(Tabla7[Año],$C$59,Tabla7[Mes],H$61,Tabla7[Entrega completa?],"SI",Tabla7[Tipo de cliente],$B68)/COUNTIFS(Tabla7[Año],$C$59,Tabla7[Mes],H$61,Tabla7[Entrega completa?],"*",Tabla7[Tipo de cliente],$B68),"") -> 0.64 | I68: =IFERROR(COUNTIFS(Tabla7[Año],$C$59,Tabla7[Mes],I$61,Tabla7[Entrega completa?],"SI",Tabla7[Tipo de cliente],$B68)/COUNTIFS(Tabla7[Año],$C$59,Tabla7[Mes],I$61,Tabla7[Entrega completa?],"*",Tabla7[Tipo de cliente],$B68),"") -> 0.75 | J68: =IFERROR(COUNTIFS(Tabla7[Año],$C$59,Tabla7[Mes],J$61,Tabla7[Entrega completa?],"SI",Tabla7[Tipo de cliente],$B68)/COUNTIFS(Tabla7[Año],$C$59,Tabla7[Mes],J$61,Tabla7[Entrega completa?],"*",Tabla7[Tipo de cliente],$B68),"") -> 0.83333333 | K68: =IFERROR(COUNTIFS(Tabla7[Año],$C$59,Tabla7[Mes],K$61,Tabla7[Entrega completa?],"SI",Tabla7[Tipo de cliente],$B68)/COUNTIFS(Tabla7[Año],$C$59,Tabla7[Mes],K$61,Tabla7[Entrega completa?],"*",Tabla7[Tipo de cliente],$B68),"") | ... O68: =IFERROR(COUNTIFS(Tabla7[Año],$C$59,Tabla7[Mes],O$61,Tabla7[Entrega completa?],"SI",Tabla7[Tipo de cliente],$B68)/COUNTIFS(Tabla7[Año],$C$59,Tabla7[Mes],O$61,Tabla7[Entrega completa?],"*",Tabla7[Tipo de cliente],$B68),"") | P68: =IFERROR(COUNTIFS(Tabla7[Año],$C$33,Tabla7[Mes],"*",Tabla7[Entrega completa?],"SI",Tabla7[Tipo de cliente],$B68)/COUNTIFS(Tabla7[Año],$C$33,Tabla7[Mes],"*",Tabla7[Entrega completa?],"*",Tabla7[Tipo de cliente],$B68),"") -> 0.76190476
A69: 8 | B69: =IF(Tablas!$L11="","",Tablas!$L11) | D69: =IFERROR(COUNTIFS(Tabla7[Año],$C$59,Tabla7[Mes],D$61,Tabla7[Entrega completa?],"SI",Tabla7[Tipo de cliente],$B69)/COUNTIFS(Tabla7[Año],$C$59,Tabla7[Mes],D$61,Tabla7[Entrega completa?],"*",Tabla7[Tipo de cliente],$B69),"") | E69: =IFERROR(COUNTIFS(Tabla7[Año],$C$59,Tabla7[Mes],E$61,Tabla7[Entrega completa?],"SI",Tabla7[Tipo de cliente],$B69)/COUNTIFS(Tabla7[Año],$C$59,Tabla7[Mes],E$61,Tabla7[Entrega completa?],"*",Tabla7[Tipo de cliente],$B69),"") | F69: =IFERROR(COUNTIFS(Tabla7[Año],$C$59,Tabla7[Mes],F$61,Tabla7[Entrega completa?],"SI",Tabla7[Tipo de cliente],$B69)/COUNTIFS(Tabla7[Año],$C$59,Tabla7[Mes],F$61,Tabla7[Entrega completa?],"*",Tabla7[Tipo de cliente],$B69),"") | G69: =IFERROR(COUNTIFS(Tabla7[Año],$C$59,Tabla7[Mes],G$61,Tabla7[Entrega completa?],"SI",Tabla7[Tipo de cliente],$B69)/COUNTIFS(Tabla7[Año],$C$59,Tabla7[Mes],G$61,Tabla7[Entrega completa?],"*",Tabla7[Tipo de cliente],$B69),"") | H69: =IFERROR(COUNTIFS(Tabla7[Año],$C$59,Tabla7[Mes],H$61,Tabla7[Entrega completa?],"SI",Tabla7[Tipo de cliente],$B69)/COUNTIFS(Tabla7[Año],$C$59,Tabla7[Mes],H$61,Tabla7[Entrega completa?],"*",Tabla7[Tipo de cliente],$B69),"") | I69: =IFERROR(COUNTIFS(Tabla7[Año],$C$59,Tabla7[Mes],I$61,Tabla7[Entrega completa?],"SI",Tabla7[Tipo de cliente],$B69)/COUNTIFS(Tabla7[Año],$C$59,Tabla7[Mes],I$61,Tabla7[Entrega completa?],"*",Tabla7[Tipo de cliente],$B69),"") | J69: =IFERROR(COUNTIFS(Tabla7[Año],$C$59,Tabla7[Mes],J$61,Tabla7[Entrega completa?],"SI",Tabla7[Tipo de cliente],$B69)/COUNTIFS(Tabla7[Año],$C$59,Tabla7[Mes],J$61,Tabla7[Entrega completa?],"*",Tabla7[Tipo de cliente],$B69),"") | K69: =IFERROR(COUNTIFS(Tabla7[Año],$C$59,Tabla7[Mes],K$61,Tabla7[Entrega completa?],"SI",Tabla7[Tipo de cliente],$B69)/COUNTIFS(Tabla7[Año],$C$59,Tabla7[Mes],K$61,Tabla7[Entrega completa?],"*",Tabla7[Tipo de cliente],$B69),"") | ... O69: =IFERROR(COUNTIFS(Tabla7[Año],$C$59,Tabla7[Mes],O$61,Tabla7[Entrega completa?],"SI",Tabla7[Tipo de cliente],$B69)/COUNTIFS(Tabla7[Año],$C$59,Tabla7[Mes],O$61,Tabla7[Entrega completa?],"*",Tabla7[Tipo de cliente],$B69),"") | P69: =IFERROR(COUNTIFS(Tabla7[Año],$C$33,Tabla7[Mes],"*",Tabla7[Entrega completa?],"SI",Tabla7[Tipo de cliente],$B69)/COUNTIFS(Tabla7[Año],$C$33,Tabla7[Mes],"*",Tabla7[Entrega completa?],"*",Tabla7[Tipo de cliente],$B69),"")
A70: 9 | B70: =IF(Tablas!$L12="","",Tablas!$L12) | D70: =IFERROR(COUNTIFS(Tabla7[Año],$C$59,Tabla7[Mes],D$61,Tabla7[Entrega completa?],"SI",Tabla7[Tipo de cliente],$B70)/COUNTIFS(Tabla7[Año],$C$59,Tabla7[Mes],D$61,Tabla7[Entrega completa?],"*",Tabla7[Tipo de cliente],$B70),"") | E70: =IFERROR(COUNTIFS(Tabla7[Año],$C$59,Tabla7[Mes],E$61,Tabla7[Entrega completa?],"SI",Tabla7[Tipo de cliente],$B70)/COUNTIFS(Tabla7[Año],$C$59,Tabla7[Mes],E$61,Tabla7[Entrega completa?],"*",Tabla7[Tipo de cliente],$B70),"") | F70: =IFERROR(COUNTIFS(Tabla7[Año],$C$59,Tabla7[Mes],F$61,Tabla7[Entrega completa?],"SI",Tabla7[Tipo de cliente],$B70)/COUNTIFS(Tabla7[Año],$C$59,Tabla7[Mes],F$61,Tabla7[Entrega completa?],"*",Tabla7[Tipo de cliente],$B70),"") | G70: =IFERROR(COUNTIFS(Tabla7[Año],$C$59,Tabla7[Mes],G$61,Tabla7[Entrega completa?],"SI",Tabla7[Tipo de cliente],$B70)/COUNTIFS(Tabla7[Año],$C$59,Tabla7[Mes],G$61,Tabla7[Entrega completa?],"*",Tabla7[Tipo de cliente],$B70),"") | H70: =IFERROR(COUNTIFS(Tabla7[Año],$C$59,Tabla7[Mes],H$61,Tabla7[Entrega completa?],"SI",Tabla7[Tipo de cliente],$B70)/COUNTIFS(Tabla7[Año],$C$59,Tabla7[Mes],H$61,Tabla7[Entrega completa?],"*",Tabla7[Tipo de cliente],$B70),"") | I70: =IFERROR(COUNTIFS(Tabla7[Año],$C$59,Tabla7[Mes],I$61,Tabla7[Entrega completa?],"SI",Tabla7[Tipo de cliente],$B70)/COUNTIFS(Tabla7[Año],$C$59,Tabla7[Mes],I$61,Tabla7[Entrega completa?],"*",Tabla7[Tipo de cliente],$B70),"") | J70: =IFERROR(COUNTIFS(Tabla7[Año],$C$59,Tabla7[Mes],J$61,Tabla7[Entrega completa?],"SI",Tabla7[Tipo de cliente],$B70)/COUNTIFS(Tabla7[Año],$C$59,Tabla7[Mes],J$61,Tabla7[Entrega completa?],"*",Tabla7[Tipo de cliente],$B70),"") | K70: =IFERROR(COUNTIFS(Tabla7[Año],$C$59,Tabla7[Mes],K$61,Tabla7[Entrega completa?],"SI",Tabla7[Tipo de cliente],$B70)/COUNTIFS(Tabla7[Año],$C$59,Tabla7[Mes],K$61,Tabla7[Entrega completa?],"*",Tabla7[Tipo de cliente],$B70),"") | ... O70: =IFERROR(COUNTIFS(Tabla7[Año],$C$59,Tabla7[Mes],O$61,Tabla7[Entrega completa?],"SI",Tabla7[Tipo de cliente],$B70)/COUNTIFS(Tabla7[Año],$C$59,Tabla7[Mes],O$61,Tabla7[Entrega completa?],"*",Tabla7[Tipo de cliente],$B70),"") | P70: =IFERROR(COUNTIFS(Tabla7[Año],$C$33,Tabla7[Mes],"*",Tabla7[Entrega completa?],"SI",Tabla7[Tipo de cliente],$B70)/COUNTIFS(Tabla7[Año],$C$33,Tabla7[Mes],"*",Tabla7[Entrega completa?],"*",Tabla7[Tipo de cliente],$B70),"")
A71: 10 | B71: =IF(Tablas!$L13="","",Tablas!$L13) | D71: =IFERROR(COUNTIFS(Tabla7[Año],$C$59,Tabla7[Mes],D$61,Tabla7[Entrega completa?],"SI",Tabla7[Tipo de cliente],$B71)/COUNTIFS(Tabla7[Año],$C$59,Tabla7[Mes],D$61,Tabla7[Entrega completa?],"*",Tabla7[Tipo de cliente],$B71),"") | E71: =IFERROR(COUNTIFS(Tabla7[Año],$C$59,Tabla7[Mes],E$61,Tabla7[Entrega completa?],"SI",Tabla7[Tipo de cliente],$B71)/COUNTIFS(Tabla7[Año],$C$59,Tabla7[Mes],E$61,Tabla7[Entrega completa?],"*",Tabla7[Tipo de cliente],$B71),"") | F71: =IFERROR(COUNTIFS(Tabla7[Año],$C$59,Tabla7[Mes],F$61,Tabla7[Entrega completa?],"SI",Tabla7[Tipo de cliente],$B71)/COUNTIFS(Tabla7[Año],$C$59,Tabla7[Mes],F$61,Tabla7[Entrega completa?],"*",Tabla7[Tipo de cliente],$B71),"") | G71: =IFERROR(COUNTIFS(Tabla7[Año],$C$59,Tabla7[Mes],G$61,Tabla7[Entrega completa?],"SI",Tabla7[Tipo de cliente],$B71)/COUNTIFS(Tabla7[Año],$C$59,Tabla7[Mes],G$61,Tabla7[Entrega completa?],"*",Tabla7[Tipo de cliente],$B71),"") | H71: =IFERROR(COUNTIFS(Tabla7[Año],$C$59,Tabla7[Mes],H$61,Tabla7[Entrega completa?],"SI",Tabla7[Tipo de cliente],$B71)/COUNTIFS(Tabla7[Año],$C$59,Tabla7[Mes],H$61,Tabla7[Entrega completa?],"*",Tabla7[Tipo de cliente],$B71),"") | I71: =IFERROR(COUNTIFS(Tabla7[Año],$C$59,Tabla7[Mes],I$61,Tabla7[Entrega completa?],"SI",Tabla7[Tipo de cliente],$B71)/COUNTIFS(Tabla7[Año],$C$59,Tabla7[Mes],I$61,Tabla7[Entrega completa?],"*",Tabla7[Tipo de cliente],$B71),"") | J71: =IFERROR(COUNTIFS(Tabla7[Año],$C$59,Tabla7[Mes],J$61,Tabla7[Entrega completa?],"SI",Tabla7[Tipo de cliente],$B71)/COUNTIFS(Tabla7[Año],$C$59,Tabla7[Mes],J$61,Tabla7[Entrega completa?],"*",Tabla7[Tipo de cliente],$B71),"") | K71: =IFERROR(COUNTIFS(Tabla7[Año],$C$59,Tabla7[Mes],K$61,Tabla7[Entrega completa?],"SI",Tabla7[Tipo de cliente],$B71)/COUNTIFS(Tabla7[Año],$C$59,Tabla7[Mes],K$61,Tabla7[Entrega completa?],"*",Tabla7[Tipo de cliente],$B71),"") | ... O71: =IFERROR(COUNTIFS(Tabla7[Año],$C$59,Tabla7[Mes],O$61,Tabla7[Entrega completa?],"SI",Tabla7[Tipo de cliente],$B71)/COUNTIFS(Tabla7[Año],$C$59,Tabla7[Mes],O$61,Tabla7[Entrega completa?],"*",Tabla7[Tipo de cliente],$B71),"") | P71: =IFERROR(COUNTIFS(Tabla7[Año],$C$33,Tabla7[Mes],"*",Tabla7[Entrega completa?],"SI",Tabla7[Tipo de cliente],$B71)/COUNTIFS(Tabla7[Año],$C$33,Tabla7[Mes],"*",Tabla7[Entrega completa?],"*",Tabla7[Tipo de cliente],$B71),"")
A72: 11 | B72: =IF(Tablas!$L14="","",Tablas!$L14) | D72: =IFERROR(COUNTIFS(Tabla7[Año],$C$59,Tabla7[Mes],D$61,Tabla7[Entrega completa?],"SI",Tabla7[Tipo de cliente],$B72)/COUNTIFS(Tabla7[Año],$C$59,Tabla7[Mes],D$61,Tabla7[Entrega completa?],"*",Tabla7[Tipo de cliente],$B72),"") | E72: =IFERROR(COUNTIFS(Tabla7[Año],$C$59,Tabla7[Mes],E$61,Tabla7[Entrega completa?],"SI",Tabla7[Tipo de cliente],$B72)/COUNTIFS(Tabla7[Año],$C$59,Tabla7[Mes],E$61,Tabla7[Entrega completa?],"*",Tabla7[Tipo de cliente],$B72),"") | F72: =IFERROR(COUNTIFS(Tabla7[Año],$C$59,Tabla7[Mes],F$61,Tabla7[Entrega completa?],"SI",Tabla7[Tipo de cliente],$B72)/COUNTIFS(Tabla7[Año],$C$59,Tabla7[Mes],F$61,Tabla7[Entrega completa?],"*",Tabla7[Tipo de cliente],$B72),"") | G72: =IFERROR(COUNTIFS(Tabla7[Año],$C$59,Tabla7[Mes],G$61,Tabla7[Entrega completa?],"SI",Tabla7[Tipo de cliente],$B72)/COUNTIFS(Tabla7[Año],$C$59,Tabla7[Mes],G$61,Tabla7[Entrega completa?],"*",Tabla7[Tipo de cliente],$B72),"") | H72: =IFERROR(COUNTIFS(Tabla7[Año],$C$59,Tabla7[Mes],H$61,Tabla7[Entrega completa?],"SI",Tabla7[Tipo de cliente],$B72)/COUNTIFS(Tabla7[Año],$C$59,Tabla7[Mes],H$61,Tabla7[Entrega completa?],"*",Tabla7[Tipo de cliente],$B72),"") | I72: =IFERROR(COUNTIFS(Tabla7[Año],$C$59,Tabla7[Mes],I$61,Tabla7[Entrega completa?],"SI",Tabla7[Tipo de cliente],$B72)/COUNTIFS(Tabla7[Año],$C$59,Tabla7[Mes],I$61,Tabla7[Entrega completa?],"*",Tabla7[Tipo de cliente],$B72),"") | J72: =IFERROR(COUNTIFS(Tabla7[Año],$C$59,Tabla7[Mes],J$61,Tabla7[Entrega completa?],"SI",Tabla7[Tipo de cliente],$B72)/COUNTIFS(Tabla7[Año],$C$59,Tabla7[Mes],J$61,Tabla7[Entrega completa?],"*",Tabla7[Tipo de cliente],$B72),"") | K72: =IFERROR(COUNTIFS(Tabla7[Año],$C$59,Tabla7[Mes],K$61,Tabla7[Entrega completa?],"SI",Tabla7[Tipo de cliente],$B72)/COUNTIFS(Tabla7[Año],$C$59,Tabla7[Mes],K$61,Tabla7[Entrega completa?],"*",Tabla7[Tipo de cliente],$B72),"") | ... O72: =IFERROR(COUNTIFS(Tabla7[Año],$C$59,Tabla7[Mes],O$61,Tabla7[Entrega completa?],"SI",Tabla7[Tipo de cliente],$B72)/COUNTIFS(Tabla7[Año],$C$59,Tabla7[Mes],O$61,Tabla7[Entrega completa?],"*",Tabla7[Tipo de cliente],$B72),"") | P72: =IFERROR(COUNTIFS(Tabla7[Año],$C$33,Tabla7[Mes],"*",Tabla7[Entrega completa?],"SI",Tabla7[Tipo de cliente],$B72)/COUNTIFS(Tabla7[Año],$C$33,Tabla7[Mes],"*",Tabla7[Entrega completa?],"*",Tabla7[Tipo de cliente],$B72),"")
A73: 12 | B73: =IF(Tablas!$L15="","",Tablas!$L15) | D73: =IFERROR(COUNTIFS(Tabla7[Año],$C$59,Tabla7[Mes],D$61,Tabla7[Entrega completa?],"SI",Tabla7[Tipo de cliente],$B73)/COUNTIFS(Tabla7[Año],$C$59,Tabla7[Mes],D$61,Tabla7[Entrega completa?],"*",Tabla7[Tipo de cliente],$B73),"") | E73: =IFERROR(COUNTIFS(Tabla7[Año],$C$59,Tabla7[Mes],E$61,Tabla7[Entrega completa?],"SI",Tabla7[Tipo de cliente],$B73)/COUNTIFS(Tabla7[Año],$C$59,Tabla7[Mes],E$61,Tabla7[Entrega completa?],"*",Tabla7[Tipo de cliente],$B73),"") | F73: =IFERROR(COUNTIFS(Tabla7[Año],$C$59,Tabla7[Mes],F$61,Tabla7[Entrega completa?],"SI",Tabla7[Tipo de cliente],$B73)/COUNTIFS(Tabla7[Año],$C$59,Tabla7[Mes],F$61,Tabla7[Entrega completa?],"*",Tabla7[Tipo de cliente],$B73),"") | G73: =IFERROR(COUNTIFS(Tabla7[Año],$C$59,Tabla7[Mes],G$61,Tabla7[Entrega completa?],"SI",Tabla7[Tipo de cliente],$B73)/COUNTIFS(Tabla7[Año],$C$59,Tabla7[Mes],G$61,Tabla7[Entrega completa?],"*",Tabla7[Tipo de cliente],$B73),"") | H73: =IFERROR(COUNTIFS(Tabla7[Año],$C$59,Tabla7[Mes],H$61,Tabla7[Entrega completa?],"SI",Tabla7[Tipo de cliente],$B73)/COUNTIFS(Tabla7[Año],$C$59,Tabla7[Mes],H$61,Tabla7[Entrega completa?],"*",Tabla7[Tipo de cliente],$B73),"") | I73: =IFERROR(COUNTIFS(Tabla7[Año],$C$59,Tabla7[Mes],I$61,Tabla7[Entrega completa?],"SI",Tabla7[Tipo de cliente],$B73)/COUNTIFS(Tabla7[Año],$C$59,Tabla7[Mes],I$61,Tabla7[Entrega completa?],"*",Tabla7[Tipo de cliente],$B73),"") | J73: =IFERROR(COUNTIFS(Tabla7[Año],$C$59,Tabla7[Mes],J$61,Tabla7[Entrega completa?],"SI",Tabla7[Tipo de cliente],$B73)/COUNTIFS(Tabla7[Año],$C$59,Tabla7[Mes],J$61,Tabla7[Entrega completa?],"*",Tabla7[Tipo de cliente],$B73),"") | K73: =IFERROR(COUNTIFS(Tabla7[Año],$C$59,Tabla7[Mes],K$61,Tabla7[Entrega completa?],"SI",Tabla7[Tipo de cliente],$B73)/COUNTIFS(Tabla7[Año],$C$59,Tabla7[Mes],K$61,Tabla7[Entrega completa?],"*",Tabla7[Tipo de cliente],$B73),"") | ... O73: =IFERROR(COUNTIFS(Tabla7[Año],$C$59,Tabla7[Mes],O$61,Tabla7[Entrega completa?],"SI",Tabla7[Tipo de cliente],$B73)/COUNTIFS(Tabla7[Año],$C$59,Tabla7[Mes],O$61,Tabla7[Entrega completa?],"*",Tabla7[Tipo de cliente],$B73),"") | P73: =IFERROR(COUNTIFS(Tabla7[Año],$C$33,Tabla7[Mes],"*",Tabla7[Entrega completa?],"SI",Tabla7[Tipo de cliente],$B73)/COUNTIFS(Tabla7[Año],$C$33,Tabla7[Mes],"*",Tabla7[Entrega completa?],"*",Tabla7[Tipo de cliente],$B73),"")
... A81: 20 | B81: =IF(Tablas!$L23="","",Tablas!$L23) | D81: =IFERROR(COUNTIFS(Tabla7[Año],$C$59,Tabla7[Mes],D$61,Tabla7[Entrega completa?],"SI",Tabla7[Tipo de cliente],$B81)/COUNTIFS(Tabla7[Año],$C$59,Tabla7[Mes],D$61,Tabla7[Entrega completa?],"*",Tabla7[Tipo de cliente],$B81),"") | E81: =IFERROR(COUNTIFS(Tabla7[Año],$C$59,Tabla7[Mes],E$61,Tabla7[Entrega completa?],"SI",Tabla7[Tipo de cliente],$B81)/COUNTIFS(Tabla7[Año],$C$59,Tabla7[Mes],E$61,Tabla7[Entrega completa?],"*",Tabla7[Tipo de cliente],$B81),"") | F81: =IFERROR(COUNTIFS(Tabla7[Año],$C$59,Tabla7[Mes],F$61,Tabla7[Entrega completa?],"SI",Tabla7[Tipo de cliente],$B81)/COUNTIFS(Tabla7[Año],$C$59,Tabla7[Mes],F$61,Tabla7[Entrega completa?],"*",Tabla7[Tipo de cliente],$B81),"") | G81: =IFERROR(COUNTIFS(Tabla7[Año],$C$59,Tabla7[Mes],G$61,Tabla7[Entrega completa?],"SI",Tabla7[Tipo de cliente],$B81)/COUNTIFS(Tabla7[Año],$C$59,Tabla7[Mes],G$61,Tabla7[Entrega completa?],"*",Tabla7[Tipo de cliente],$B81),"") | H81: =IFERROR(COUNTIFS(Tabla7[Año],$C$59,Tabla7[Mes],H$61,Tabla7[Entrega completa?],"SI",Tabla7[Tipo de cliente],$B81)/COUNTIFS(Tabla7[Año],$C$59,Tabla7[Mes],H$61,Tabla7[Entrega completa?],"*",Tabla7[Tipo de cliente],$B81),"") | I81: =IFERROR(COUNTIFS(Tabla7[Año],$C$59,Tabla7[Mes],I$61,Tabla7[Entrega completa?],"SI",Tabla7[Tipo de cliente],$B81)/COUNTIFS(Tabla7[Año],$C$59,Tabla7[Mes],I$61,Tabla7[Entrega completa?],"*",Tabla7[Tipo de cliente],$B81),"") | J81: =IFERROR(COUNTIFS(Tabla7[Año],$C$59,Tabla7[Mes],J$61,Tabla7[Entrega completa?],"SI",Tabla7[Tipo de cliente],$B81)/COUNTIFS(Tabla7[Año],$C$59,Tabla7[Mes],J$61,Tabla7[Entrega completa?],"*",Tabla7[Tipo de cliente],$B81),"") | K81: =IFERROR(COUNTIFS(Tabla7[Año],$C$59,Tabla7[Mes],K$61,Tabla7[Entrega completa?],"SI",Tabla7[Tipo de cliente],$B81)/COUNTIFS(Tabla7[Año],$C$59,Tabla7[Mes],K$61,Tabla7[Entrega completa?],"*",Tabla7[Tipo de cliente],$B81),"") | ... O81: =IFERROR(COUNTIFS(Tabla7[Año],$C$59,Tabla7[Mes],O$61,Tabla7[Entrega completa?],"SI",Tabla7[Tipo de cliente],$B81)/COUNTIFS(Tabla7[Año],$C$59,Tabla7[Mes],O$61,Tabla7[Entrega completa?],"*",Tabla7[Tipo de cliente],$B81),"") | P81: =IFERROR(COUNTIFS(Tabla7[Año],$C$33,Tabla7[Mes],"*",Tabla7[Entrega completa?],"SI",Tabla7[Tipo de cliente],$B81)/COUNTIFS(Tabla7[Año],$C$33,Tabla7[Mes],"*",Tabla7[Entrega completa?],"*",Tabla7[Tipo de cliente],$B81),"")

Sheet Indicad. 2
B2: Indicadores de Calidad de entregas de las OC
B4: 2.1 PEDIDOS ENTREGADOS EN FORMA CORRECTA
B6: Año: | C6: 2018
E8: Ene | F8: Feb | G8: Mar | H8: Abr | I8: May | J8: Jun | K8: Jul | L8: Ago | M8: Set | N8: Oct | O8: Nov | P8: Dic | Q8: Total
B9: Nro de pedidos entregados correcta | E9: =COUNTIFS(Tabla7[Año],$C$6,Tabla7[Mes],E$8,Tabla7[Entrega conforme? Sin ninguna incidencia],"SI") -> 42 | F9: =COUNTIFS(Tabla7[Año],$C$6,Tabla7[Mes],F$8,Tabla7[Entrega conforme? Sin ninguna incidencia],"SI") -> 41 | G9: =COUNTIFS(Tabla7[Año],$C$6,Tabla7[Mes],G$8,Tabla7[Entrega conforme? Sin ninguna incidencia],"SI") -> 31 | H9: =COUNTIFS(Tabla7[Año],$C$6,Tabla7[Mes],H$8,Tabla7[Entrega conforme? Sin ninguna incidencia],"SI") -> 61 | I9: =COUNTIFS(Tabla7[Año],$C$6,Tabla7[Mes],I$8,Tabla7[Entrega conforme? Sin ninguna incidencia],"SI") -> 41 | J9: =COUNTIFS(Tabla7[Año],$C$6,Tabla7[Mes],J$8,Tabla7[Entrega conforme? Sin ninguna incidencia],"SI") -> 13 | K9: =COUNTIFS(Tabla7[Año],$C$6,Tabla7[Mes],K$8,Tabla7[Entrega conforme? Sin ninguna incidencia],"SI") -> 23 | L9: =COUNTIFS(Tabla7[Año],$C$6,Tabla7[Mes],L$8,Tabla7[Entrega conforme? Sin ninguna incidencia],"SI") -> 0 | ... P9: =COUNTIFS(Tabla7[Año],$C$6,Tabla7[Mes],P$8,Tabla7[Entrega conforme? Sin ninguna incidencia],"SI") -> 0 | Q9: =SUM(E9:P9) -> 252
B10: Nro de pedidos entregados | E10: =COUNTIFS(Tabla7[Año],$C$6,Tabla7[Mes],E$8,Tabla7[Entrega conforme? Sin ninguna incidencia],"*") -> 52 | F10: =COUNTIFS(Tabla7[Año],$C$6,Tabla7[Mes],F$8,Tabla7[Entrega conforme? Sin ninguna incidencia],"*") -> 50 | G10: =COUNTIFS(Tabla7[Año],$C$6,Tabla7[Mes],G$8,Tabla7[Entrega conforme? Sin ninguna incidencia],"*") -> 44 | H10: =COUNTIFS(Tabla7[Año],$C$6,Tabla7[Mes],H$8,Tabla7[Entrega conforme? Sin ninguna incidencia],"*") -> 85 | I10: =COUNTIFS(Tabla7[Año],$C$6,Tabla7[Mes],I$8,Tabla7[Entrega conforme? Sin ninguna incidencia],"*") -> 55 | J10: =COUNTIFS(Tabla7[Año],$C$6,Tabla7[Mes],J$8,Tabla7[Entrega conforme? Sin ninguna incidencia],"*") -> 22 | K10: =COUNTIFS(Tabla7[Año],$C$6,Tabla7[Mes],K$8,Tabla7[Entrega conforme? Sin ninguna incidencia],"*") -> 30 | L10: =COUNTIFS(Tabla7[Año],$C$6,Tabla7[Mes],L$8,Tabla7[Entrega conforme? Sin ninguna incidencia],"*") -> 0 | ... P10: =COUNTIFS(Tabla7[Año],$C$6,Tabla7[Mes],P$8,Tabla7[Entrega conforme? Sin ninguna incidencia],"*") -> 0 | Q10: =SUM(E10:P10) -> 338
B11: % Pedidos entregados en forma correcta | E11: =IFERROR(E9/E10,0) -> 0.80769231 | F11: =IFERROR(F9/F10,0) -> 0.82 | G11: =IFERROR(G9/G10,0) -> 0.70454545 | H11: =IFERROR(H9/H10,0) -> 0.71764706 | I11: =IFERROR(I9/I10,0) -> 0.74545455 | J11: =IFERROR(J9/J10,0) -> 0.59090909 | K11: =IFERROR(K9/K10,0) -> 0.76666667 | L11: =IFERROR(L9/L10,0) -> 0 | ... Q11: =IFERROR(Q9/Q10,0) -> 0.74556213
B13: Semáforo de control: | E13: < | F13: 0.5
E14: <= | F14: 0.8
E15: > | F15: =+F14 -> 0.8
B31: 2.2 PEDIDOS ENTREGADOS EN FORMA CORRECTA POR CATEGORÍA
B33: Año: | C33: 2018
B35: CATEGORÍA | D35: Ene | E35: Feb | F35: Mar | G35: Abr | H35: May | I35: Jun | J35: Jul | K35: Ago | L35: Set | M35: Oct | N35: Nov | O35: Dic | P35: Total
A36: 1 | B36: =IF(Tablas!$J4="","",Tablas!$J4) -> 01 - BATERIAS | D36: =IFERROR(COUNTIFS(Tabla7[Año],$C$33,Tabla7[Mes],D$35,Tabla7[Entrega conforme? Sin ninguna incidencia],"SI",Tabla7[Categoría],$B36)/COUNTIFS(Tabla7[Año],$C$33,Tabla7[Mes],D$35,Tabla7[Entrega conforme? Sin ninguna incidencia],"*",Tabla7[Categoría],$B36),"") | E36: =IFERROR(COUNTIFS(Tabla7[Año],$C$33,Tabla7[Mes],E$35,Tabla7[Entrega conforme? Sin ninguna incidencia],"SI",Tabla7[Categoría],$B36)/COUNTIFS(Tabla7[Año],$C$33,Tabla7[Mes],E$35,Tabla7[Entrega conforme? Sin ninguna incidencia],"*",Tabla7[Categoría],$B36),"") | F36: =IFERROR(COUNTIFS(Tabla7[Año],$C$33,Tabla7[Mes],F$35,Tabla7[Entrega conforme? Sin ninguna incidencia],"SI",Tabla7[Categoría],$B36)/COUNTIFS(Tabla7[Año],$C$33,Tabla7[Mes],F$35,Tabla7[Entrega conforme? Sin ninguna incidencia],"*",Tabla7[Categoría],$B36),"") -> 0 | G36: =IFERROR(COUNTIFS(Tabla7[Año],$C$33,Tabla7[Mes],G$35,Tabla7[Entrega conforme? Sin ninguna incidencia],"SI",Tabla7[Categoría],$B36)/COUNTIFS(Tabla7[Año],$C$33,Tabla7[Mes],G$35,Tabla7[Entrega conforme? Sin ninguna incidencia],"*",Tabla7[Categoría],$B36),"") -> 1 | H36: =IFERROR(COUNTIFS(Tabla7[Año],$C$33,Tabla7[Mes],H$35,Tabla7[Entrega conforme? Sin ninguna incidencia],"SI",Tabla7[Categoría],$B36)/COUNTIFS(Tabla7[Año],$C$33,Tabla7[Mes],H$35,Tabla7[Entrega conforme? Sin ninguna incidencia],"*",Tabla7[Categoría],$B36),"") -> 1 | I36: =IFERROR(COUNTIFS(Tabla7[Año],$C$33,Tabla7[Mes],I$35,Tabla7[Entrega conforme? Sin ninguna incidencia],"SI",Tabla7[Categoría],$B36)/COUNTIFS(Tabla7[Año],$C$33,Tabla7[Mes],I$35,Tabla7[Entrega conforme? Sin ninguna incidencia],"*",Tabla7[Categoría],$B36),"") | J36: =IFERROR(COUNTIFS(Tabla7[Año],$C$33,Tabla7[Mes],J$35,Tabla7[Entrega conforme? Sin ninguna incidencia],"SI",Tabla7[Categoría],$B36)/COUNTIFS(Tabla7[Año],$C$33,Tabla7[Mes],J$35,Tabla7[Entrega conforme? Sin ninguna incidencia],"*",Tabla7[Categoría],$B36),"") | K36: =IFERROR(COUNTIFS(Tabla7[Año],$C$33,Tabla7[Mes],K$35,Tabla7[Entrega conforme? Sin ninguna incidencia],"SI",Tabla7[Categoría],$B36)/COUNTIFS(Tabla7[Año],$C$33,Tabla7[Mes],K$35,Tabla7[Entrega conforme? Sin ninguna incidencia],"*",Tabla7[Categoría],$B36),"") | ... O36: =IFERROR(COUNTIFS(Tabla7[Año],$C$33,Tabla7[Mes],O$35,Tabla7[Entrega conforme? Sin ninguna incidencia],"SI",Tabla7[Categoría],$B36)/COUNTIFS(Tabla7[Año],$C$33,Tabla7[Mes],O$35,Tabla7[Entrega conforme? Sin ninguna incidencia],"*",Tabla7[Categoría],$B36),"") | P36: =IFERROR(COUNTIFS(Tabla7[Año],$C$33,Tabla7[Mes],"*",Tabla7[Entrega conforme? Sin ninguna incidencia],"SI",Tabla7[Categoría],$B36)/COUNTIFS(Tabla7[Año],$C$33,Tabla7[Mes],"*",Tabla7[Entrega conforme? Sin ninguna incidencia],"*",Tabla7[Categoría],$B36),"") -> 0.66666667
A37: 2 | B37: =IF(Tablas!$J5="","",Tablas!$J5) -> 02 - BUJIAS | D37: =IFERROR(COUNTIFS(Tabla7[Año],$C$33,Tabla7[Mes],D$35,Tabla7[Entrega conforme? Sin ninguna incidencia],"SI",Tabla7[Categoría],$B37)/COUNTIFS(Tabla7[Año],$C$33,Tabla7[Mes],D$35,Tabla7[Entrega conforme? Sin ninguna incidencia],"*",Tabla7[Categoría],$B37),"") | E37: =IFERROR(COUNTIFS(Tabla7[Año],$C$33,Tabla7[Mes],E$35,Tabla7[Entrega conforme? Sin ninguna incidencia],"SI",Tabla7[Categoría],$B37)/COUNTIFS(Tabla7[Año],$C$33,Tabla7[Mes],E$35,Tabla7[Entrega conforme? Sin ninguna incidencia],"*",Tabla7[Categoría],$B37),"") -> 1 | F37: =IFERROR(COUNTIFS(Tabla7[Año],$C$33,Tabla7[Mes],F$35,Tabla7[Entrega conforme? Sin ninguna incidencia],"SI",Tabla7[Categoría],$B37)/COUNTIFS(Tabla7[Año],$C$33,Tabla7[Mes],F$35,Tabla7[Entrega conforme? Sin ninguna incidencia],"*",Tabla7[Categoría],$B37),"") | G37: =IFERROR(COUNTIFS(Tabla7[Año],$C$33,Tabla7[Mes],G$35,Tabla7[Entrega conforme? Sin ninguna incidencia],"SI",Tabla7[Categoría],$B37)/COUNTIFS(Tabla7[Año],$C$33,Tabla7[Mes],G$35,Tabla7[Entrega conforme? Sin ninguna incidencia],"*",Tabla7[Categoría],$B37),"") | H37: =IFERROR(COUNTIFS(Tabla7[Año],$C$33,Tabla7[Mes],H$35,Tabla7[Entrega conforme? Sin ninguna incidencia],"SI",Tabla7[Categoría],$B37)/COUNTIFS(Tabla7[Año],$C$33,Tabla7[Mes],H$35,Tabla7[Entrega conforme? Sin ninguna incidencia],"*",Tabla7[Categoría],$B37),"") | I37: =IFERROR(COUNTIFS(Tabla7[Año],$C$33,Tabla7[Mes],I$35,Tabla7[Entrega conforme? Sin ninguna incidencia],"SI",Tabla7[Categoría],$B37)/COUNTIFS(Tabla7[Año],$C$33,Tabla7[Mes],I$35,Tabla7[Entrega conforme? Sin ninguna incidencia],"*",Tabla7[Categoría],$B37),"") | J37: =IFERROR(COUNTIFS(Tabla7[Año],$C$33,Tabla7[Mes],J$35,Tabla7[Entrega conforme? Sin ninguna incidencia],"SI",Tabla7[Categoría],$B37)/COUNTIFS(Tabla7[Año],$C$33,Tabla7[Mes],J$35,Tabla7[Entrega conforme? Sin ninguna incidencia],"*",Tabla7[Categoría],$B37),"") | K37: =IFERROR(COUNTIFS(Tabla7[Año],$C$33,Tabla7[Mes],K$35,Tabla7[Entrega conforme? Sin ninguna incidencia],"SI",Tabla7[Categoría],$B37)/COUNTIFS(Tabla7[Año],$C$33,Tabla7[Mes],K$35,Tabla7[Entrega conforme? Sin ninguna incidencia],"*",Tabla7[Categoría],$B37),"") | ... O37: =IFERROR(COUNTIFS(Tabla7[Año],$C$33,Tabla7[Mes],O$35,Tabla7[Entrega conforme? Sin ninguna incidencia],"SI",Tabla7[Categoría],$B37)/COUNTIFS(Tabla7[Año],$C$33,Tabla7[Mes],O$35,Tabla7[Entrega conforme? Sin ninguna incidencia],"*",Tabla7[Categoría],$B37),"") | P37: =IFERROR(COUNTIFS(Tabla7[Año],$C$33,Tabla7[Mes],"*",Tabla7[Entrega conforme? Sin ninguna incidencia],"SI",Tabla7[Categoría],$B37)/COUNTIFS(Tabla7[Año],$C$33,Tabla7[Mes],"*",Tabla7[Entrega conforme? Sin ninguna incidencia],"*",Tabla7[Categoría],$B37),"") -> 1
A38: 3 | B38: =IF(Tablas!$J6="","",Tablas!$J6) -> 03 - FILTROS | D38: =IFERROR(COUNTIFS(Tabla7[Año],$C$33,Tabla7[Mes],D$35,Tabla7[Entrega conforme? Sin ninguna incidencia],"SI",Tabla7[Categoría],$B38)/COUNTIFS(Tabla7[Año],$C$33,Tabla7[Mes],D$35,Tabla7[Entrega conforme? Sin ninguna incidencia],"*",Tabla7[Categoría],$B38),"") -> 1 | E38: =IFERROR(COUNTIFS(Tabla7[Año],$C$33,Tabla7[Mes],E$35,Tabla7[Entrega conforme? Sin ninguna incidencia],"SI",Tabla7[Categoría],$B38)/COUNTIFS(Tabla7[Año],$C$33,Tabla7[Mes],E$35,Tabla7[Entrega conforme? Sin ninguna incidencia],"*",Tabla7[Categoría],$B38),"") -> 1 | F38: =IFERROR(COUNTIFS(Tabla7[Año],$C$33,Tabla7[Mes],F$35,Tabla7[Entrega conforme? Sin ninguna incidencia],"SI",Tabla7[Categoría],$B38)/COUNTIFS(Tabla7[Año],$C$33,Tabla7[Mes],F$35,Tabla7[Entrega conforme? Sin ninguna incidencia],"*",Tabla7[Categoría],$B38),"") -> 0.5 | G38: =IFERROR(COUNTIFS(Tabla7[Año],$C$33,Tabla7[Mes],G$35,Tabla7[Entrega conforme? Sin ninguna incidencia],"SI",Tabla7[Categoría],$B38)/COUNTIFS(Tabla7[Año],$C$33,Tabla7[Mes],G$35,Tabla7[Entrega conforme? Sin ninguna incidencia],"*",Tabla7[Categoría],$B38),"") | H38: =IFERROR(COUNTIFS(Tabla7[Año],$C$33,Tabla7[Mes],H$35,Tabla7[Entrega conforme? Sin ninguna incidencia],"SI",Tabla7[Categoría],$B38)/COUNTIFS(Tabla7[Año],$C$33,Tabla7[Mes],H$35,Tabla7[Entrega conforme? Sin ninguna incidencia],"*",Tabla7[Categoría],$B38),"") -> 0.5 | I38: =IFERROR(COUNTIFS(Tabla7[Año],$C$33,Tabla7[Mes],I$35,Tabla7[Entrega conforme? Sin ninguna incidencia],"SI",Tabla7[Categoría],$B38)/COUNTIFS(Tabla7[Año],$C$33,Tabla7[Mes],I$35,Tabla7[Entrega conforme? Sin ninguna incidencia],"*",Tabla7[Categoría],$B38),"") | J38: =IFERROR(COUNTIFS(Tabla7[Año],$C$33,Tabla7[Mes],J$35,Tabla7[Entrega conforme? Sin ninguna incidencia],"SI",Tabla7[Categoría],$B38)/COUNTIFS(Tabla7[Año],$C$33,Tabla7[Mes],J$35,Tabla7[Entrega conforme? Sin ninguna incidencia],"*",Tabla7[Categoría],$B38),"") | K38: =IFERROR(COUNTIFS(Tabla7[Año],$C$33,Tabla7[Mes],K$35,Tabla7[Entrega conforme? Sin ninguna incidencia],"SI",Tabla7[Categoría],$B38)/COUNTIFS(Tabla7[Año],$C$33,Tabla7[Mes],K$35,Tabla7[Entrega conforme? Sin ninguna incidencia],"*",Tabla7[Categoría],$B38),"") | ... O38: =IFERROR(COUNTIFS(Tabla7[Año],$C$33,Tabla7[Mes],O$35,Tabla7[Entrega conforme? Sin ninguna incidencia],"SI",Tabla7[Categoría],$B38)/COUNTIFS(Tabla7[Año],$C$33,Tabla7[Mes],O$35,Tabla7[Entrega conforme? Sin ninguna incidencia],"*",Tabla7[Categoría],$B38),"") | P38: =IFERROR(COUNTIFS(Tabla7[Año],$C$33,Tabla7[Mes],"*",Tabla7[Entrega conforme? Sin ninguna incidencia],"SI",Tabla7[Categoría],$B38)/COUNTIFS(Tabla7[Año],$C$33,Tabla7[Mes],"*",Tabla7[Entrega conforme? Sin ninguna incidencia],"*",Tabla7[Categoría],$B38),"") -> 0.77777778
A39: 4 | B39: =IF(Tablas!$J7="","",Tablas!$J7) -> 04 - FRENOS Y EMBRAGUES | D39: =IFERROR(COUNTIFS(Tabla7[Año],$C$33,Tabla7[Mes],D$35,Tabla7[Entrega conforme? Sin ninguna incidencia],"SI",Tabla7[Categoría],$B39)/COUNTIFS(Tabla7[Año],$C$33,Tabla7[Mes],D$35,Tabla7[Entrega conforme? Sin ninguna incidencia],"*",Tabla7[Categoría],$B39),"") -> 1 | E39: =IFERROR(COUNTIFS(Tabla7[Año],$C$33,Tabla7[Mes],E$35,Tabla7[Entrega conforme? Sin ninguna incidencia],"SI",Tabla7[Categoría],$B39)/COUNTIFS(Tabla7[Año],$C$33,Tabla7[Mes],E$35,Tabla7[Entrega conforme? Sin ninguna incidencia],"*",Tabla7[Categoría],$B39),"") -> 1 | F39: =IFERROR(COUNTIFS(Tabla7[Año],$C$33,Tabla7[Mes],F$35,Tabla7[Entrega conforme? Sin ninguna incidencia],"SI",Tabla7[Categoría],$B39)/COUNTIFS(Tabla7[Año],$C$33,Tabla7[Mes],F$35,Tabla7[Entrega conforme? Sin ninguna incidencia],"*",Tabla7[Categoría],$B39),"") | G39: =IFERROR(COUNTIFS(Tabla7[Año],$C$33,Tabla7[Mes],G$35,Tabla7[Entrega conforme? Sin ninguna incidencia],"SI",Tabla7[Categoría],$B39)/COUNTIFS(Tabla7[Año],$C$33,Tabla7[Mes],G$35,Tabla7[Entrega conforme? Sin ninguna incidencia],"*",Tabla7[Categoría],$B39),"") -> 0 | H39: =IFERROR(COUNTIFS(Tabla7[Año],$C$33,Tabla7[Mes],H$35,Tabla7[Entrega conforme? Sin ninguna incidencia],"SI",Tabla7[Categoría],$B39)/COUNTIFS(Tabla7[Año],$C$33,Tabla7[Mes],H$35,Tabla7[Entrega conforme? Sin ninguna incidencia],"*",Tabla7[Categoría],$B39),"") -> 0.66666667 | I39: =IFERROR(COUNTIFS(Tabla7[Año],$C$33,Tabla7[Mes],I$35,Tabla7[Entrega conforme? Sin ninguna incidencia],"SI",Tabla7[Categoría],$B39)/COUNTIFS(Tabla7[Año],$C$33,Tabla7[Mes],I$35,Tabla7[Entrega conforme? Sin ninguna incidencia],"*",Tabla7[Categoría],$B39),"") | J39: =IFERROR(COUNTIFS(Tabla7[Año],$C$33,Tabla7[Mes],J$35,Tabla7[Entrega conforme? Sin ninguna incidencia],"SI",Tabla7[Categoría],$B39)/COUNTIFS(Tabla7[Año],$C$33,Tabla7[Mes],J$35,Tabla7[Entrega conforme? Sin ninguna incidencia],"*",Tabla7[Categoría],$B39),"") | K39: =IFERROR(COUNTIFS(Tabla7[Año],$C$33,Tabla7[Mes],K$35,Tabla7[Entrega conforme? Sin ninguna incidencia],"SI",Tabla7[Categoría],$B39)/COUNTIFS(Tabla7[Año],$C$33,Tabla7[Mes],K$35,Tabla7[Entrega conforme? Sin ninguna incidencia],"*",Tabla7[Categoría],$B39),"") | ... O39: =IFERROR(COUNTIFS(Tabla7[Año],$C$33,Tabla7[Mes],O$35,Tabla7[Entrega conforme? Sin ninguna incidencia],"SI",Tabla7[Categoría],$B39)/COUNTIFS(Tabla7[Año],$C$33,Tabla7[Mes],O$35,Tabla7[Entrega conforme? Sin ninguna incidencia],"*",Tabla7[Categoría],$B39),"") | P39: =IFERROR(COUNTIFS(Tabla7[Año],$C$33,Tabla7[Mes],"*",Tabla7[Entrega conforme? Sin ninguna incidencia],"SI",Tabla7[Categoría],$B39)/COUNTIFS(Tabla7[Año],$C$33,Tabla7[Mes],"*",Tabla7[Entrega conforme? Sin ninguna incidencia],"*",Tabla7[Categoría],$B39),"") -> 0.6
A40: 5 | B40: =IF(Tablas!$J8="","",Tablas!$J8) -> 05 - COLISION | D40: =IFERROR(COUNTIFS(Tabla7[Año],$C$33,Tabla7[Mes],D$35,Tabla7[Entrega conforme? Sin ninguna incidencia],"SI",Tabla7[Categoría],$B40)/COUNTIFS(Tabla7[Año],$C$33,Tabla7[Mes],D$35,Tabla7[Entrega conforme? Sin ninguna incidencia],"*",Tabla7[Categoría],$B40),"") -> 0.75 | E40: =IFERROR(COUNTIFS(Tabla7[Año],$C$33,Tabla7[Mes],E$35,Tabla7[Entrega conforme? Sin ninguna incidencia],"SI",Tabla7[Categoría],$B40)/COUNTIFS(Tabla7[Año],$C$33,Tabla7[Mes],E$35,Tabla7[Entrega conforme? Sin ninguna incidencia],"*",Tabla7[Categoría],$B40),"") -> 0.90909091 | F40: =IFERROR(COUNTIFS(Tabla7[Año],$C$33,Tabla7[Mes],F$35,Tabla7[Entrega conforme? Sin ninguna incidencia],"SI",Tabla7[Categoría],$B40)/COUNTIFS(Tabla7[Año],$C$33,Tabla7[Mes],F$35,Tabla7[Entrega conforme? Sin ninguna incidencia],"*",Tabla7[Categoría],$B40),"") -> 0.7 | G40: =IFERROR(COUNTIFS(Tabla7[Año],$C$33,Tabla7[Mes],G$35,Tabla7[Entrega conforme? Sin ninguna incidencia],"SI",Tabla7[Categoría],$B40)/COUNTIFS(Tabla7[Año],$C$33,Tabla7[Mes],G$35,Tabla7[Entrega conforme? Sin ninguna incidencia],"*",Tabla7[Categoría],$B40),"") -> 0.72222222 | H40: =IFERROR(COUNTIFS(Tabla7[Año],$C$33,Tabla7[Mes],H$35,Tabla7[Entrega conforme? Sin ninguna incidencia],"SI",Tabla7[Categoría],$B40)/COUNTIFS(Tabla7[Año],$C$33,Tabla7[Mes],H$35,Tabla7[Entrega conforme? Sin ninguna incidencia],"*",Tabla7[Categoría],$B40),"") -> 0.77777778 | I40: =IFERROR(COUNTIFS(Tabla7[Año],$C$33,Tabla7[Mes],I$35,Tabla7[Entrega conforme? Sin ninguna incidencia],"SI",Tabla7[Categoría],$B40)/COUNTIFS(Tabla7[Año],$C$33,Tabla7[Mes],I$35,Tabla7[Entrega conforme? Sin ninguna incidencia],"*",Tabla7[Categoría],$B40),"") -> 0.25 | J40: =IFERROR(COUNTIFS(Tabla7[Año],$C$33,Tabla7[Mes],J$35,Tabla7[Entrega conforme? Sin ninguna incidencia],"SI",Tabla7[Categoría],$B40)/COUNTIFS(Tabla7[Año],$C$33,Tabla7[Mes],J$35,Tabla7[Entrega conforme? Sin ninguna incidencia],"*",Tabla7[Categoría],$B40),"") -> 1 | K40: =IFERROR(COUNTIFS(Tabla7[Año],$C$33,Tabla7[Mes],K$35,Tabla7[Entrega conforme? Sin ninguna incidencia],"SI",Tabla7[Categoría],$B40)/COUNTIFS(Tabla7[Año],$C$33,Tabla7[Mes],K$35,Tabla7[Entrega conforme? Sin ninguna incidencia],"*",Tabla7[Categoría],$B40),"") | ... O40: =IFERROR(COUNTIFS(Tabla7[Año],$C$33,Tabla7[Mes],O$35,Tabla7[Entrega conforme? Sin ninguna incidencia],"SI",Tabla7[Categoría],$B40)/COUNTIFS(Tabla7[Año],$C$33,Tabla7[Mes],O$35,Tabla7[Entrega conforme? Sin ninguna incidencia],"*",Tabla7[Categoría],$B40),"") | P40: =IFERROR(COUNTIFS(Tabla7[Año],$C$33,Tabla7[Mes],"*",Tabla7[Entrega conforme? Sin ninguna incidencia],"SI",Tabla7[Categoría],$B40)/COUNTIFS(Tabla7[Año],$C$33,Tabla7[Mes],"*",Tabla7[Entrega conforme? Sin ninguna incidencia],"*",Tabla7[Categoría],$B40),"") -> 0.74603175
A41: 6 | B41: =IF(Tablas!$J9="","",Tablas!$J9) -> 06 - AMORTIGUADORES | D41: =IFERROR(COUNTIFS(Tabla7[Año],$C$33,Tabla7[Mes],D$35,Tabla7[Entrega conforme? Sin ninguna incidencia],"SI",Tabla7[Categoría],$B41)/COUNTIFS(Tabla7[Año],$C$33,Tabla7[Mes],D$35,Tabla7[Entrega conforme? Sin ninguna incidencia],"*",Tabla7[Categoría],$B41),"") -> 1 | E41: =IFERROR(COUNTIFS(Tabla7[Año],$C$33,Tabla7[Mes],E$35,Tabla7[Entrega conforme? Sin ninguna incidencia],"SI",Tabla7[Categoría],$B41)/COUNTIFS(Tabla7[Año],$C$33,Tabla7[Mes],E$35,Tabla7[Entrega conforme? Sin ninguna incidencia],"*",Tabla7[Categoría],$B41),"") -> 1 | F41: =IFERROR(COUNTIFS(Tabla7[Año],$C$33,Tabla7[Mes],F$35,Tabla7[Entrega conforme? Sin ninguna incidencia],"SI",Tabla7[Categoría],$B41)/COUNTIFS(Tabla7[Año],$C$33,Tabla7[Mes],F$35,Tabla7[Entrega conforme? Sin ninguna incidencia],"*",Tabla7[Categoría],$B41),"") | G41: =IFERROR(COUNTIFS(Tabla7[Año],$C$33,Tabla7[Mes],G$35,Tabla7[Entrega conforme? Sin ninguna incidencia],"SI",Tabla7[Categoría],$B41)/COUNTIFS(Tabla7[Año],$C$33,Tabla7[Mes],G$35,Tabla7[Entrega conforme? Sin ninguna incidencia],"*",Tabla7[Categoría],$B41),"") -> 0.8 | H41: =IFERROR(COUNTIFS(Tabla7[Año],$C$33,Tabla7[Mes],H$35,Tabla7[Entrega conforme? Sin ninguna incidencia],"SI",Tabla7[Categoría],$B41)/COUNTIFS(Tabla7[Año],$C$33,Tabla7[Mes],H$35,Tabla7[Entrega conforme? Sin ninguna incidencia],"*",Tabla7[Categoría],$B41),"") -> 1 | I41: =IFERROR(COUNTIFS(Tabla7[Año],$C$33,Tabla7[Mes],I$35,Tabla7[Entrega conforme? Sin ninguna incidencia],"SI",Tabla7[Categoría],$B41)/COUNTIFS(Tabla7[Año],$C$33,Tabla7[Mes],I$35,Tabla7[Entrega conforme? Sin ninguna incidencia],"*",Tabla7[Categoría],$B41),"") -> 1 | J41: =IFERROR(COUNTIFS(Tabla7[Año],$C$33,Tabla7[Mes],J$35,Tabla7[Entrega conforme? Sin ninguna incidencia],"SI",Tabla7[Categoría],$B41)/COUNTIFS(Tabla7[Año],$C$33,Tabla7[Mes],J$35,Tabla7[Entrega conforme? Sin ninguna incidencia],"*",Tabla7[Categoría],$B41),"") -> 1 | K41: =IFERROR(COUNTIFS(Tabla7[Año],$C$33,Tabla7[Mes],K$35,Tabla7[Entrega conforme? Sin ninguna incidencia],"SI",Tabla7[Categoría],$B41)/COUNTIFS(Tabla7[Año],$C$33,Tabla7[Mes],K$35,Tabla7[Entrega conforme? Sin ninguna incidencia],"*",Tabla7[Categoría],$B41),"") | ... O41: =IFERROR(COUNTIFS(Tabla7[Año],$C$33,Tabla7[Mes],O$35,Tabla7[Entrega conforme? Sin ninguna incidencia],"SI",Tabla7[Categoría],$B41)/COUNTIFS(Tabla7[Año],$C$33,Tabla7[Mes],O$35,Tabla7[Entrega conforme? Sin ninguna incidencia],"*",Tabla7[Categoría],$B41),"") | P41: =IFERROR(COUNTIFS(Tabla7[Año],$C$33,Tabla7[Mes],"*",Tabla7[Entrega conforme? Sin ninguna incidencia],"SI",Tabla7[Categoría],$B41)/COUNTIFS(Tabla7[Año],$C$33,Tabla7[Mes],"*",Tabla7[Entrega conforme? Sin ninguna incidencia],"*",Tabla7[Categoría],$B41),"") -> 0.94736842
A42: 7 | B42: =IF(Tablas!$J10="","",Tablas!$J10) -> 07 - PEDALES Y POSAPIES | D42: =IFERROR(COUNTIFS(Tabla7[Año],$C$33,Tabla7[Mes],D$35,Tabla7[Entrega conforme? Sin ninguna incidencia],"SI",Tabla7[Categoría],$B42)/COUNTIFS(Tabla7[Año],$C$33,Tabla7[Mes],D$35,Tabla7[Entrega conforme? Sin ninguna incidencia],"*",Tabla7[Categoría],$B42),"") -> 1 | E42: =IFERROR(COUNTIFS(Tabla7[Año],$C$33,Tabla7[Mes],E$35,Tabla7[Entrega conforme? Sin ninguna incidencia],"SI",Tabla7[Categoría],$B42)/COUNTIFS(Tabla7[Año],$C$33,Tabla7[Mes],E$35,Tabla7[Entrega conforme? Sin ninguna incidencia],"*",Tabla7[Categoría],$B42),"") -> 1 | F42: =IFERROR(COUNTIFS(Tabla7[Año],$C$33,Tabla7[Mes],F$35,Tabla7[Entrega conforme? Sin ninguna incidencia],"SI",Tabla7[Categoría],$B42)/COUNTIFS(Tabla7[Año],$C$33,Tabla7[Mes],F$35,Tabla7[Entrega conforme? Sin ninguna incidencia],"*",Tabla7[Categoría],$B42),"") -> 0.66666667 | G42: =IFERROR(COUNTIFS(Tabla7[Año],$C$33,Tabla7[Mes],G$35,Tabla7[Entrega conforme? Sin ninguna incidencia],"SI",Tabla7[Categoría],$B42)/COUNTIFS(Tabla7[Año],$C$33,Tabla7[Mes],G$35,Tabla7[Entrega conforme? Sin ninguna incidencia],"*",Tabla7[Categoría],$B42),"") -> 1 | H42: =IFERROR(COUNTIFS(Tabla7[Año],$C$33,Tabla7[Mes],H$35,Tabla7[Entrega conforme? Sin ninguna incidencia],"SI",Tabla7[Categoría],$B42)/COUNTIFS(Tabla7[Año],$C$33,Tabla7[Mes],H$35,Tabla7[Entrega conforme? Sin ninguna incidencia],"*",Tabla7[Categoría],$B42),"") -> 1 | I42: =IFERROR(COUNTIFS(Tabla7[Año],$C$33,Tabla7[Mes],I$35,Tabla7[Entrega conforme? Sin ninguna incidencia],"SI",Tabla7[Categoría],$B42)/COUNTIFS(Tabla7[Año],$C$33,Tabla7[Mes],I$35,Tabla7[Entrega conforme? Sin ninguna incidencia],"*",Tabla7[Categoría],$B42),"") -> 0.5 | J42: =IFERROR(COUNTIFS(Tabla7[Año],$C$33,Tabla7[Mes],J$35,Tabla7[Entrega conforme? Sin ninguna incidencia],"SI",Tabla7[Categoría],$B42)/COUNTIFS(Tabla7[Año],$C$33,Tabla7[Mes],J$35,Tabla7[Entrega conforme? Sin ninguna incidencia],"*",Tabla7[Categoría],$B42),"") -> 0.66666667 | K42: =IFERROR(COUNTIFS(Tabla7[Año],$C$33,Tabla7[Mes],K$35,Tabla7[Entrega conforme? Sin ninguna incidencia],"SI",Tabla7[Categoría],$B42)/COUNTIFS(Tabla7[Año],$C$33,Tabla7[Mes],K$35,Tabla7[Entrega conforme? Sin ninguna incidencia],"*",Tabla7[Categoría],$B42),"") | ... O42: =IFERROR(COUNTIFS(Tabla7[Año],$C$33,Tabla7[Mes],O$35,Tabla7[Entrega conforme? Sin ninguna incidencia],"SI",Tabla7[Categoría],$B42)/COUNTIFS(Tabla7[Año],$C$33,Tabla7[Mes],O$35,Tabla7[Entrega conforme? Sin ninguna incidencia],"*",Tabla7[Categoría],$B42),"") | P42: =IFERROR(COUNTIFS(Tabla7[Año],$C$33,Tabla7[Mes],"*",Tabla7[Entrega conforme? Sin ninguna incidencia],"SI",Tabla7[Categoría],$B42)/COUNTIFS(Tabla7[Año],$C$33,Tabla7[Mes],"*",Tabla7[Entrega conforme? Sin ninguna incidencia],"*",Tabla7[Categoría],$B42),"") -> 0.85714286
A43: 8 | B43: =IF(Tablas!$J11="","",Tablas!$J11) -> 08 - ELECTRICO | D43: =IFERROR(COUNTIFS(Tabla7[Año],$C$33,Tabla7[Mes],D$35,Tabla7[Entrega conforme? Sin ninguna incidencia],"SI",Tabla7[Categoría],$B43)/COUNTIFS(Tabla7[Año],$C$33,Tabla7[Mes],D$35,Tabla7[Entrega conforme? Sin ninguna incidencia],"*",Tabla7[Categoría],$B43),"") -> 1 | E43: =IFERROR(COUNTIFS(Tabla7[Año],$C$33,Tabla7[Mes],E$35,Tabla7[Entrega conforme? Sin ninguna incidencia],"SI",Tabla7[Categoría],$B43)/COUNTIFS(Tabla7[Año],$C$33,Tabla7[Mes],E$35,Tabla7[Entrega conforme? Sin ninguna incidencia],"*",Tabla7[Categoría],$B43),"") | F43: =IFERROR(COUNTIFS(Tabla7[Año],$C$33,Tabla7[Mes],F$35,Tabla7[Entrega conforme? Sin ninguna incidencia],"SI",Tabla7[Categoría],$B43)/COUNTIFS(Tabla7[Año],$C$33,Tabla7[Mes],F$35,Tabla7[Entrega conforme? Sin ninguna incidencia],"*",Tabla7[Categoría],$B43),"") -> 1 | G43: =IFERROR(COUNTIFS(Tabla7[Año],$C$33,Tabla7[Mes],G$35,Tabla7[Entrega conforme? Sin ninguna incidencia],"SI",Tabla7[Categoría],$B43)/COUNTIFS(Tabla7[Año],$C$33,Tabla7[Mes],G$35,Tabla7[Entrega conforme? Sin ninguna incidencia],"*",Tabla7[Categoría],$B43),"") -> 1 | H43: =IFERROR(COUNTIFS(Tabla7[Año],$C$33,Tabla7[Mes],H$35,Tabla7[Entrega conforme? Sin ninguna incidencia],"SI",Tabla7[Categoría],$B43)/COUNTIFS(Tabla7[Año],$C$33,Tabla7[Mes],H$35,Tabla7[Entrega conforme? Sin ninguna incidencia],"*",Tabla7[Categoría],$B43),"") -> 0.4 | I43: =IFERROR(COUNTIFS(Tabla7[Año],$C$33,Tabla7[Mes],I$35,Tabla7[Entrega conforme? Sin ninguna incidencia],"SI",Tabla7[Categoría],$B43)/COUNTIFS(Tabla7[Año],$C$33,Tabla7[Mes],I$35,Tabla7[Entrega conforme? Sin ninguna incidencia],"*",Tabla7[Categoría],$B43),"") -> 1 | J43: =IFERROR(COUNTIFS(Tabla7[Año],$C$33,Tabla7[Mes],J$35,Tabla7[Entrega conforme? Sin ninguna incidencia],"SI",Tabla7[Categoría],$B43)/COUNTIFS(Tabla7[Año],$C$33,Tabla7[Mes],J$35,Tabla7[Entrega conforme? Sin ninguna incidencia],"*",Tabla7[Categoría],$B43),"") -> 1 | K43: =IFERROR(COUNTIFS(Tabla7[Año],$C$33,Tabla7[Mes],K$35,Tabla7[Entrega conforme? Sin ninguna incidencia],"SI",Tabla7[Categoría],$B43)/COUNTIFS(Tabla7[Año],$C$33,Tabla7[Mes],K$35,Tabla7[Entrega conforme? Sin ninguna incidencia],"*",Tabla7[Categoría],$B43),"") | ... O43: =IFERROR(COUNTIFS(Tabla7[Año],$C$33,Tabla7[Mes],O$35,Tabla7[Entrega conforme? Sin ninguna incidencia],"SI",Tabla7[Categoría],$B43)/COUNTIFS(Tabla7[Año],$C$33,Tabla7[Mes],O$35,Tabla7[Entrega conforme? Sin ninguna incidencia],"*",Tabla7[Categoría],$B43),"") | P43: =IFERROR(COUNTIFS(Tabla7[Año],$C$33,Tabla7[Mes],"*",Tabla7[Entrega conforme? Sin ninguna incidencia],"SI",Tabla7[Categoría],$B43)/COUNTIFS(Tabla7[Año],$C$33,Tabla7[Mes],"*",Tabla7[Entrega conforme? Sin ninguna incidencia],"*",Tabla7[Categoría],$B43),"") -> 0.85
A44: 9 | B44: =IF(Tablas!$J12="","",Tablas!$J12) -> 09 - PARTES DE MOTOR | D44: =IFERROR(COUNTIFS(Tabla7[Año],$C$33,Tabla7[Mes],D$35,Tabla7[Entrega conforme? Sin ninguna incidencia],"SI",Tabla7[Categoría],$B44)/COUNTIFS(Tabla7[Año],$C$33,Tabla7[Mes],D$35,Tabla7[Entrega conforme? Sin ninguna incidencia],"*",Tabla7[Categoría],$B44),"") -> 0.6 | E44: =IFERROR(COUNTIFS(Tabla7[Año],$C$33,Tabla7[Mes],E$35,Tabla7[Entrega conforme? Sin ninguna incidencia],"SI",Tabla7[Categoría],$B44)/COUNTIFS(Tabla7[Año],$C$33,Tabla7[Mes],E$35,Tabla7[Entrega conforme? Sin ninguna incidencia],"*",Tabla7[Categoría],$B44),"") -> 0.5 | F44: =IFERROR(COUNTIFS(Tabla7[Año],$C$33,Tabla7[Mes],F$35,Tabla7[Entrega conforme? Sin ninguna incidencia],"SI",Tabla7[Categoría],$B44)/COUNTIFS(Tabla7[Año],$C$33,Tabla7[Mes],F$35,Tabla7[Entrega conforme? Sin ninguna incidencia],"*",Tabla7[Categoría],$B44),"") -> 0.71428571 | G44: =IFERROR(COUNTIFS(Tabla7[Año],$C$33,Tabla7[Mes],G$35,Tabla7[Entrega conforme? Sin ninguna incidencia],"SI",Tabla7[Categoría],$B44)/COUNTIFS(Tabla7[Año],$C$33,Tabla7[Mes],G$35,Tabla7[Entrega conforme? Sin ninguna incidencia],"*",Tabla7[Categoría],$B44),"") -> 0.58823529 | H44: =IFERROR(COUNTIFS(Tabla7[Año],$C$33,Tabla7[Mes],H$35,Tabla7[Entrega conforme? Sin ninguna incidencia],"SI",Tabla7[Categoría],$B44)/COUNTIFS(Tabla7[Año],$C$33,Tabla7[Mes],H$35,Tabla7[Entrega conforme? Sin ninguna incidencia],"*",Tabla7[Categoría],$B44),"") -> 0.75 | I44: =IFERROR(COUNTIFS(Tabla7[Año],$C$33,Tabla7[Mes],I$35,Tabla7[Entrega conforme? Sin ninguna incidencia],"SI",Tabla7[Categoría],$B44)/COUNTIFS(Tabla7[Año],$C$33,Tabla7[Mes],I$35,Tabla7[Entrega conforme? Sin ninguna incidencia],"*",Tabla7[Categoría],$B44),"") -> 0.57142857 | J44: =IFERROR(COUNTIFS(Tabla7[Año],$C$33,Tabla7[Mes],J$35,Tabla7[Entrega conforme? Sin ninguna incidencia],"SI",Tabla7[Categoría],$B44)/COUNTIFS(Tabla7[Año],$C$33,Tabla7[Mes],J$35,Tabla7[Entrega conforme? Sin ninguna incidencia],"*",Tabla7[Categoría],$B44),"") -> 0.57142857 | K44: =IFERROR(COUNTIFS(Tabla7[Año],$C$33,Tabla7[Mes],K$35,Tabla7[Entrega conforme? Sin ninguna incidencia],"SI",Tabla7[Categoría],$B44)/COUNTIFS(Tabla7[Año],$C$33,Tabla7[Mes],K$35,Tabla7[Entrega conforme? Sin ninguna incidencia],"*",Tabla7[Categoría],$B44),"") | ... O44: =IFERROR(COUNTIFS(Tabla7[Año],$C$33,Tabla7[Mes],O$35,Tabla7[Entrega conforme? Sin ninguna incidencia],"SI",Tabla7[Categoría],$B44)/COUNTIFS(Tabla7[Año],$C$33,Tabla7[Mes],O$35,Tabla7[Entrega conforme? Sin ninguna incidencia],"*",Tabla7[Categoría],$B44),"") | P44: =IFERROR(COUNTIFS(Tabla7[Año],$C$33,Tabla7[Mes],"*",Tabla7[Entrega conforme? Sin ninguna incidencia],"SI",Tabla7[Categoría],$B44)/COUNTIFS(Tabla7[Año],$C$33,Tabla7[Mes],"*",Tabla7[Entrega conforme? Sin ninguna incidencia],"*",Tabla7[Categoría],$B44),"") -> 0.61111111
A45: 10 | B45: =IF(Tablas!$J13="","",Tablas!$J13) -> 10 - PALANCAS Y CHICOTES | D45: =IFERROR(COUNTIFS(Tabla7[Año],$C$33,Tabla7[Mes],D$35,Tabla7[Entrega conforme? Sin ninguna incidencia],"SI",Tabla7[Categoría],$B45)/COUNTIFS(Tabla7[Año],$C$33,Tabla7[Mes],D$35,Tabla7[Entrega conforme? Sin ninguna incidencia],"*",Tabla7[Categoría],$B45),"") -> 0.83333333 | E45: =IFERROR(COUNTIFS(Tabla7[Año],$C$33,Tabla7[Mes],E$35,Tabla7[Entrega conforme? Sin ninguna incidencia],"SI",Tabla7[Categoría],$B45)/COUNTIFS(Tabla7[Año],$C$33,Tabla7[Mes],E$35,Tabla7[Entrega conforme? Sin ninguna incidencia],"*",Tabla7[Categoría],$B45),"") -> 1 | F45: =IFERROR(COUNTIFS(Tabla7[Año],$C$33,Tabla7[Mes],F$35,Tabla7[Entrega conforme? Sin ninguna incidencia],"SI",Tabla7[Categoría],$B45)/COUNTIFS(Tabla7[Año],$C$33,Tabla7[Mes],F$35,Tabla7[Entrega conforme? Sin ninguna incidencia],"*",Tabla7[Categoría],$B45),"") -> 1 | G45: =IFERROR(COUNTIFS(Tabla7[Año],$C$33,Tabla7[Mes],G$35,Tabla7[Entrega conforme? Sin ninguna incidencia],"SI",Tabla7[Categoría],$B45)/COUNTIFS(Tabla7[Año],$C$33,Tabla7[Mes],G$35,Tabla7[Entrega conforme? Sin ninguna incidencia],"*",Tabla7[Categoría],$B45),"") -> 0.66666667 | H45: =IFERROR(COUNTIFS(Tabla7[Año],$C$33,Tabla7[Mes],H$35,Tabla7[Entrega conforme? Sin ninguna incidencia],"SI",Tabla7[Categoría],$B45)/COUNTIFS(Tabla7[Año],$C$33,Tabla7[Mes],H$35,Tabla7[Entrega conforme? Sin ninguna incidencia],"*",Tabla7[Categoría],$B45),"") -> 0.66666667 | I45: =IFERROR(COUNTIFS(Tabla7[Año],$C$33,Tabla7[Mes],I$35,Tabla7[Entrega conforme? Sin ninguna incidencia],"SI",Tabla7[Categoría],$B45)/COUNTIFS(Tabla7[Año],$C$33,Tabla7[Mes],I$35,Tabla7[Entrega conforme? Sin ninguna incidencia],"*",Tabla7[Categoría],$B45),"") | J45: =IFERROR(COUNTIFS(Tabla7[Año],$C$33,Tabla7[Mes],J$35,Tabla7[Entrega conforme? Sin ninguna incidencia],"SI",Tabla7[Categoría],$B45)/COUNTIFS(Tabla7[Año],$C$33,Tabla7[Mes],J$35,Tabla7[Entrega conforme? Sin ninguna incidencia],"*",Tabla7[Categoría],$B45),"") | K45: =IFERROR(COUNTIFS(Tabla7[Año],$C$33,Tabla7[Mes],K$35,Tabla7[Entrega conforme? Sin ninguna incidencia],"SI",Tabla7[Categoría],$B45)/COUNTIFS(Tabla7[Año],$C$33,Tabla7[Mes],K$35,Tabla7[Entrega conforme? Sin ninguna incidencia],"*",Tabla7[Categoría],$B45),"") | ... O45: =IFERROR(COUNTIFS(Tabla7[Año],$C$33,Tabla7[Mes],O$35,Tabla7[Entrega conforme? Sin ninguna incidencia],"SI",Tabla7[Categoría],$B45)/COUNTIFS(Tabla7[Año],$C$33,Tabla7[Mes],O$35,Tabla7[Entrega conforme? Sin ninguna incidencia],"*",Tabla7[Categoría],$B45),"") | P45: =IFERROR(COUNTIFS(Tabla7[Año],$C$33,Tabla7[Mes],"*",Tabla7[Entrega conforme? Sin ninguna incidencia],"SI",Tabla7[Categoría],$B45)/COUNTIFS(Tabla7[Año],$C$33,Tabla7[Mes],"*",Tabla7[Entrega conforme? Sin ninguna incidencia],"*",Tabla7[Categoría],$B45),"") -> 0.83333333
A46: 11 | B46: =IF(Tablas!$J14="","",Tablas!$J14) -> 11 - LLANTAS Y HULES | D46: =IFERROR(COUNTIFS(Tabla7[Año],$C$33,Tabla7[Mes],D$35,Tabla7[Entrega conforme? Sin ninguna incidencia],"SI",Tabla7[Categoría],$B46)/COUNTIFS(Tabla7[Año],$C$33,Tabla7[Mes],D$35,Tabla7[Entrega conforme? Sin ninguna incidencia],"*",Tabla7[Categoría],$B46),"") -> 1 | E46: =IFERROR(COUNTIFS(Tabla7[Año],$C$33,Tabla7[Mes],E$35,Tabla7[Entrega conforme? Sin ninguna incidencia],"SI",Tabla7[Categoría],$B46)/COUNTIFS(Tabla7[Año],$C$33,Tabla7[Mes],E$35,Tabla7[Entrega conforme? Sin ninguna incidencia],"*",Tabla7[Categoría],$B46),"") -> 0.75 | F46: =IFERROR(COUNTIFS(Tabla7[Año],$C$33,Tabla7[Mes],F$35,Tabla7[Entrega conforme? Sin ninguna incidencia],"SI",Tabla7[Categoría],$B46)/COUNTIFS(Tabla7[Año],$C$33,Tabla7[Mes],F$35,Tabla7[Entrega conforme? Sin ninguna incidencia],"*",Tabla7[Categoría],$B46),"") -> 0.5 | G46: =IFERROR(COUNTIFS(Tabla7[Año],$C$33,Tabla7[Mes],G$35,Tabla7[Entrega conforme? Sin ninguna incidencia],"SI",Tabla7[Categoría],$B46)/COUNTIFS(Tabla7[Año],$C$33,Tabla7[Mes],G$35,Tabla7[Entrega conforme? Sin ninguna incidencia],"*",Tabla7[Categoría],$B46),"") -> 0.6 | H46: =IFERROR(COUNTIFS(Tabla7[Año],$C$33,Tabla7[Mes],H$35,Tabla7[Entrega conforme? Sin ninguna incidencia],"SI",Tabla7[Categoría],$B46)/COUNTIFS(Tabla7[Año],$C$33,Tabla7[Mes],H$35,Tabla7[Entrega conforme? Sin ninguna incidencia],"*",Tabla7[Categoría],$B46),"") -> 0.5 | I46: =IFERROR(COUNTIFS(Tabla7[Año],$C$33,Tabla7[Mes],I$35,Tabla7[Entrega conforme? Sin ninguna incidencia],"SI",Tabla7[Categoría],$B46)/COUNTIFS(Tabla7[Año],$C$33,Tabla7[Mes],I$35,Tabla7[Entrega conforme? Sin ninguna incidencia],"*",Tabla7[Categoría],$B46),"") -> 0.5 | J46: =IFERROR(COUNTIFS(Tabla7[Año],$C$33,Tabla7[Mes],J$35,Tabla7[Entrega conforme? Sin ninguna incidencia],"SI",Tabla7[Categoría],$B46)/COUNTIFS(Tabla7[Año],$C$33,Tabla7[Mes],J$35,Tabla7[Entrega conforme? Sin ninguna incidencia],"*",Tabla7[Categoría],$B46),"") -> 1 | K46: =IFERROR(COUNTIFS(Tabla7[Año],$C$33,Tabla7[Mes],K$35,Tabla7[Entrega conforme? Sin ninguna incidencia],"SI",Tabla7[Categoría],$B46)/COUNTIFS(Tabla7[Año],$C$33,Tabla7[Mes],K$35,Tabla7[Entrega conforme? Sin ninguna incidencia],"*",Tabla7[Categoría],$B46),"") | ... O46: =IFERROR(COUNTIFS(Tabla7[Año],$C$33,Tabla7[Mes],O$35,Tabla7[Entrega conforme? Sin ninguna incidencia],"SI",Tabla7[Categoría],$B46)/COUNTIFS(Tabla7[Año],$C$33,Tabla7[Mes],O$35,Tabla7[Entrega conforme? Sin ninguna incidencia],"*",Tabla7[Categoría],$B46),"") | P46: =IFERROR(COUNTIFS(Tabla7[Año],$C$33,Tabla7[Mes],"*",Tabla7[Entrega conforme? Sin ninguna incidencia],"SI",Tabla7[Categoría],$B46)/COUNTIFS(Tabla7[Año],$C$33,Tabla7[Mes],"*",Tabla7[Entrega conforme? Sin ninguna incidencia],"*",Tabla7[Categoría],$B46),"") -> 0.65217391
A47: 12 | B47: =IF(Tablas!$J15="","",Tablas!$J15) -> 13 - TRACCION | D47: =IFERROR(COUNTIFS(Tabla7[Año],$C$33,Tabla7[Mes],D$35,Tabla7[Entrega conforme? Sin ninguna incidencia],"SI",Tabla7[Categoría],$B47)/COUNTIFS(Tabla7[Año],$C$33,Tabla7[Mes],D$35,Tabla7[Entrega conforme? Sin ninguna incidencia],"*",Tabla7[Categoría],$B47),"") -> 0.8 | E47: =IFERROR(COUNTIFS(Tabla7[Año],$C$33,Tabla7[Mes],E$35,Tabla7[Entrega conforme? Sin ninguna incidencia],"SI",Tabla7[Categoría],$B47)/COUNTIFS(Tabla7[Año],$C$33,Tabla7[Mes],E$35,Tabla7[Entrega conforme? Sin ninguna incidencia],"*",Tabla7[Categoría],$B47),"") -> 1 | F47: =IFERROR(COUNTIFS(Tabla7[Año],$C$33,Tabla7[Mes],F$35,Tabla7[Entrega conforme? Sin ninguna incidencia],"SI",Tabla7[Categoría],$B47)/COUNTIFS(Tabla7[Año],$C$33,Tabla7[Mes],F$35,Tabla7[Entrega conforme? Sin ninguna incidencia],"*",Tabla7[Categoría],$B47),"") -> 1 | G47: =IFERROR(COUNTIFS(Tabla7[Año],$C$33,Tabla7[Mes],G$35,Tabla7[Entrega conforme? Sin ninguna incidencia],"SI",Tabla7[Categoría],$B47)/COUNTIFS(Tabla7[Año],$C$33,Tabla7[Mes],G$35,Tabla7[Entrega conforme? Sin ninguna incidencia],"*",Tabla7[Categoría],$B47),"") -> 0.83333333 | H47: =IFERROR(COUNTIFS(Tabla7[Año],$C$33,Tabla7[Mes],H$35,Tabla7[Entrega conforme? Sin ninguna incidencia],"SI",Tabla7[Categoría],$B47)/COUNTIFS(Tabla7[Año],$C$33,Tabla7[Mes],H$35,Tabla7[Entrega conforme? Sin ninguna incidencia],"*",Tabla7[Categoría],$B47),"") -> 1 | I47: =IFERROR(COUNTIFS(Tabla7[Año],$C$33,Tabla7[Mes],I$35,Tabla7[Entrega conforme? Sin ninguna incidencia],"SI",Tabla7[Categoría],$B47)/COUNTIFS(Tabla7[Año],$C$33,Tabla7[Mes],I$35,Tabla7[Entrega conforme? Sin ninguna incidencia],"*",Tabla7[Categoría],$B47),"") | J47: =IFERROR(COUNTIFS(Tabla7[Año],$C$33,Tabla7[Mes],J$35,Tabla7[Entrega conforme? Sin ninguna incidencia],"SI",Tabla7[Categoría],$B47)/COUNTIFS(Tabla7[Año],$C$33,Tabla7[Mes],J$35,Tabla7[Entrega conforme? Sin ninguna incidencia],"*",Tabla7[Categoría],$B47),"") -> 0.5 | K47: =IFERROR(COUNTIFS(Tabla7[Año],$C$33,Tabla7[Mes],K$35,Tabla7[Entrega conforme? Sin ninguna incidencia],"SI",Tabla7[Categoría],$B47)/COUNTIFS(Tabla7[Año],$C$33,Tabla7[Mes],K$35,Tabla7[Entrega conforme? Sin ninguna incidencia],"*",Tabla7[Categoría],$B47),"") | ... O47: =IFERROR(COUNTIFS(Tabla7[Año],$C$33,Tabla7[Mes],O$35,Tabla7[Entrega conforme? Sin ninguna incidencia],"SI",Tabla7[Categoría],$B47)/COUNTIFS(Tabla7[Año],$C$33,Tabla7[Mes],O$35,Tabla7[Entrega conforme? Sin ninguna incidencia],"*",Tabla7[Categoría],$B47),"") | P47: =IFERROR(COUNTIFS(Tabla7[Año],$C$33,Tabla7[Mes],"*",Tabla7[Entrega conforme? Sin ninguna incidencia],"SI",Tabla7[Categoría],$B47)/COUNTIFS(Tabla7[Año],$C$33,Tabla7[Mes],"*",Tabla7[Entrega conforme? Sin ninguna incidencia],"*",Tabla7[Categoría],$B47),"") -> 0.85
... A55: 20 | B55: =IF(Tablas!$J23="","",Tablas!$J23) | D55: =IFERROR(COUNTIFS(Tabla7[Año],$C$33,Tabla7[Mes],D$35,Tabla7[Entrega conforme? Sin ninguna incidencia],"SI",Tabla7[Categoría],$B55)/COUNTIFS(Tabla7[Año],$C$33,Tabla7[Mes],D$35,Tabla7[Entrega conforme? Sin ninguna incidencia],"*",Tabla7[Categoría],$B55),"") | E55: =IFERROR(COUNTIFS(Tabla7[Año],$C$33,Tabla7[Mes],E$35,Tabla7[Entrega conforme? Sin ninguna incidencia],"SI",Tabla7[Categoría],$B55)/COUNTIFS(Tabla7[Año],$C$33,Tabla7[Mes],E$35,Tabla7[Entrega conforme? Sin ninguna incidencia],"*",Tabla7[Categoría],$B55),"") | F55: =IFERROR(COUNTIFS(Tabla7[Año],$C$33,Tabla7[Mes],F$35,Tabla7[Entrega conforme? Sin ninguna incidencia],"SI",Tabla7[Categoría],$B55)/COUNTIFS(Tabla7[Año],$C$33,Tabla7[Mes],F$35,Tabla7[Entrega conforme? Sin ninguna incidencia],"*",Tabla7[Categoría],$B55),"") | G55: =IFERROR(COUNTIFS(Tabla7[Año],$C$33,Tabla7[Mes],G$35,Tabla7[Entrega conforme? Sin ninguna incidencia],"SI",Tabla7[Categoría],$B55)/COUNTIFS(Tabla7[Año],$C$33,Tabla7[Mes],G$35,Tabla7[Entrega conforme? Sin ninguna incidencia],"*",Tabla7[Categoría],$B55),"") | H55: =IFERROR(COUNTIFS(Tabla7[Año],$C$33,Tabla7[Mes],H$35,Tabla7[Entrega conforme? Sin ninguna incidencia],"SI",Tabla7[Categoría],$B55)/COUNTIFS(Tabla7[Año],$C$33,Tabla7[Mes],H$35,Tabla7[Entrega conforme? Sin ninguna incidencia],"*",Tabla7[Categoría],$B55),"") | I55: =IFERROR(COUNTIFS(Tabla7[Año],$C$33,Tabla7[Mes],I$35,Tabla7[Entrega conforme? Sin ninguna incidencia],"SI",Tabla7[Categoría],$B55)/COUNTIFS(Tabla7[Año],$C$33,Tabla7[Mes],I$35,Tabla7[Entrega conforme? Sin ninguna incidencia],"*",Tabla7[Categoría],$B55),"") | J55: =IFERROR(COUNTIFS(Tabla7[Año],$C$33,Tabla7[Mes],J$35,Tabla7[Entrega conforme? Sin ninguna incidencia],"SI",Tabla7[Categoría],$B55)/COUNTIFS(Tabla7[Año],$C$33,Tabla7[Mes],J$35,Tabla7[Entrega conforme? Sin ninguna incidencia],"*",Tabla7[Categoría],$B55),"") | K55: =IFERROR(COUNTIFS(Tabla7[Año],$C$33,Tabla7[Mes],K$35,Tabla7[Entrega conforme? Sin ninguna incidencia],"SI",Tabla7[Categoría],$B55)/COUNTIFS(Tabla7[Año],$C$33,Tabla7[Mes],K$35,Tabla7[Entrega conforme? Sin ninguna incidencia],"*",Tabla7[Categoría],$B55),"") | ... O55: =IFERROR(COUNTIFS(Tabla7[Año],$C$33,Tabla7[Mes],O$35,Tabla7[Entrega conforme? Sin ninguna incidencia],"SI",Tabla7[Categoría],$B55)/COUNTIFS(Tabla7[Año],$C$33,Tabla7[Mes],O$35,Tabla7[Entrega conforme? Sin ninguna incidencia],"*",Tabla7[Categoría],$B55),"") | P55: =IFERROR(COUNTIFS(Tabla7[Año],$C$33,Tabla7[Mes],"*",Tabla7[Entrega conforme? Sin ninguna incidencia],"SI",Tabla7[Categoría],$B55)/COUNTIFS(Tabla7[Año],$C$33,Tabla7[Mes],"*",Tabla7[Entrega conforme? Sin ninguna incidencia],"*",Tabla7[Categoría],$B55),"")
B57: 2.3 PEDIDOS ENTREGADOS EN FORMA CORRECTA POR TIPO DE CLIENTE
B59: Año: | C59: 2018
B61: TIPO DE CLIENTE | D61: Ene | E61: Feb | F61: Mar | G61: Abr | H61: May | I61: Jun | J61: Jul | K61: Ago | L61: Set | M61: Oct | N61: Nov | O61: Dic | P61: Total
A62: 1 | B62: =IF(Tablas!$L4="","",Tablas!$L4) -> RETAIL | D62: =IFERROR(COUNTIFS(Tabla7[Año],$C$59,Tabla7[Mes],D$61,Tabla7[Entrega conforme? Sin ninguna incidencia],"SI",Tabla7[Tipo de cliente],$B62)/COUNTIFS(Tabla7[Año],$C$59,Tabla7[Mes],D$61,Tabla7[Entrega conforme? Sin ninguna incidencia],"*",Tabla7[Tipo de cliente],$B62),"") -> 1 | E62: =IFERROR(COUNTIFS(Tabla7[Año],$C$59,Tabla7[Mes],E$61,Tabla7[Entrega conforme? Sin ninguna incidencia],"SI",Tabla7[Tipo de cliente],$B62)/COUNTIFS(Tabla7[Año],$C$59,Tabla7[Mes],E$61,Tabla7[Entrega conforme? Sin ninguna incidencia],"*",Tabla7[Tipo de cliente],$B62),"") -> 0.83333333 | F62: =IFERROR(COUNTIFS(Tabla7[Año],$C$59,Tabla7[Mes],F$61,Tabla7[Entrega conforme? Sin ninguna incidencia],"SI",Tabla7[Tipo de cliente],$B62)/COUNTIFS(Tabla7[Año],$C$59,Tabla7[Mes],F$61,Tabla7[Entrega conforme? Sin ninguna incidencia],"*",Tabla7[Tipo de cliente],$B62),"") -> 0.88888889 | G62: =IFERROR(COUNTIFS(Tabla7[Año],$C$59,Tabla7[Mes],G$61,Tabla7[Entrega conforme? Sin ninguna incidencia],"SI",Tabla7[Tipo de cliente],$B62)/COUNTIFS(Tabla7[Año],$C$59,Tabla7[Mes],G$61,Tabla7[Entrega conforme? Sin ninguna incidencia],"*",Tabla7[Tipo de cliente],$B62),"") -> 0.76190476 | H62: =IFERROR(COUNTIFS(Tabla7[Año],$C$59,Tabla7[Mes],H$61,Tabla7[Entrega conforme? Sin ninguna incidencia],"SI",Tabla7[Tipo de cliente],$B62)/COUNTIFS(Tabla7[Año],$C$59,Tabla7[Mes],H$61,Tabla7[Entrega conforme? Sin ninguna incidencia],"*",Tabla7[Tipo de cliente],$B62),"") -> 0.8 | I62: =IFERROR(COUNTIFS(Tabla7[Año],$C$59,Tabla7[Mes],I$61,Tabla7[Entrega conforme? Sin ninguna incidencia],"SI",Tabla7[Tipo de cliente],$B62)/COUNTIFS(Tabla7[Año],$C$59,Tabla7[Mes],I$61,Tabla7[Entrega conforme? Sin ninguna incidencia],"*",Tabla7[Tipo de cliente],$B62),"") -> 0.66666667 | J62: =IFERROR(COUNTIFS(Tabla7[Año],$C$59,Tabla7[Mes],J$61,Tabla7[Entrega conforme? Sin ninguna incidencia],"SI",Tabla7[Tipo de cliente],$B62)/COUNTIFS(Tabla7[Año],$C$59,Tabla7[Mes],J$61,Tabla7[Entrega conforme? Sin ninguna incidencia],"*",Tabla7[Tipo de cliente],$B62),"") -> 0.83333333 | K62: =IFERROR(COUNTIFS(Tabla7[Año],$C$59,Tabla7[Mes],K$61,Tabla7[Entrega conforme? Sin ninguna incidencia],"SI",Tabla7[Tipo de cliente],$B62)/COUNTIFS(Tabla7[Año],$C$59,Tabla7[Mes],K$61,Tabla7[Entrega conforme? Sin ninguna incidencia],"*",Tabla7[Tipo de cliente],$B62),"") | ... O62: =IFERROR(COUNTIFS(Tabla7[Año],$C$59,Tabla7[Mes],O$61,Tabla7[Entrega conforme? Sin ninguna incidencia],"SI",Tabla7[Tipo de cliente],$B62)/COUNTIFS(Tabla7[Año],$C$59,Tabla7[Mes],O$61,Tabla7[Entrega conforme? Sin ninguna incidencia],"*",Tabla7[Tipo de cliente],$B62),"") | P62: =IFERROR(COUNTIFS(Tabla7[Año],$C$33,Tabla7[Mes],"*",Tabla7[Entrega conforme? Sin ninguna incidencia],"SI",Tabla7[Tipo de cliente],$B62)/COUNTIFS(Tabla7[Año],$C$33,Tabla7[Mes],"*",Tabla7[Entrega conforme? Sin ninguna incidencia],"*",Tabla7[Tipo de cliente],$B62),"") -> 0.82278481
A63: 2 | B63: =IF(Tablas!$L5="","",Tablas!$L5) -> DISTRIBUIDORES | D63: =IFERROR(COUNTIFS(Tabla7[Año],$C$59,Tabla7[Mes],D$61,Tabla7[Entrega conforme? Sin ninguna incidencia],"SI",Tabla7[Tipo de cliente],$B63)/COUNTIFS(Tabla7[Año],$C$59,Tabla7[Mes],D$61,Tabla7[Entrega conforme? Sin ninguna incidencia],"*",Tabla7[Tipo de cliente],$B63),"") -> 1 | E63: =IFERROR(COUNTIFS(Tabla7[Año],$C$59,Tabla7[Mes],E$61,Tabla7[Entrega conforme? Sin ninguna incidencia],"SI",Tabla7[Tipo de cliente],$B63)/COUNTIFS(Tabla7[Año],$C$59,Tabla7[Mes],E$61,Tabla7[Entrega conforme? Sin ninguna incidencia],"*",Tabla7[Tipo de cliente],$B63),"") -> 0.66666667 | F63: =IFERROR(COUNTIFS(Tabla7[Año],$C$59,Tabla7[Mes],F$61,Tabla7[Entrega conforme? Sin ninguna incidencia],"SI",Tabla7[Tipo de cliente],$B63)/COUNTIFS(Tabla7[Año],$C$59,Tabla7[Mes],F$61,Tabla7[Entrega conforme? Sin ninguna incidencia],"*",Tabla7[Tipo de cliente],$B63),"") -> 0.25 | G63: =IFERROR(COUNTIFS(Tabla7[Año],$C$59,Tabla7[Mes],G$61,Tabla7[Entrega conforme? Sin ninguna incidencia],"SI",Tabla7[Tipo de cliente],$B63)/COUNTIFS(Tabla7[Año],$C$59,Tabla7[Mes],G$61,Tabla7[Entrega conforme? Sin ninguna incidencia],"*",Tabla7[Tipo de cliente],$B63),"") -> 0.66666667 | H63: =IFERROR(COUNTIFS(Tabla7[Año],$C$59,Tabla7[Mes],H$61,Tabla7[Entrega conforme? Sin ninguna incidencia],"SI",Tabla7[Tipo de cliente],$B63)/COUNTIFS(Tabla7[Año],$C$59,Tabla7[Mes],H$61,Tabla7[Entrega conforme? Sin ninguna incidencia],"*",Tabla7[Tipo de cliente],$B63),"") -> 0.8 | I63: =IFERROR(COUNTIFS(Tabla7[Año],$C$59,Tabla7[Mes],I$61,Tabla7[Entrega conforme? Sin ninguna incidencia],"SI",Tabla7[Tipo de cliente],$B63)/COUNTIFS(Tabla7[Año],$C$59,Tabla7[Mes],I$61,Tabla7[Entrega conforme? Sin ninguna incidencia],"*",Tabla7[Tipo de cliente],$B63),"") -> 0.5 | J63: =IFERROR(COUNTIFS(Tabla7[Año],$C$59,Tabla7[Mes],J$61,Tabla7[Entrega conforme? Sin ninguna incidencia],"SI",Tabla7[Tipo de cliente],$B63)/COUNTIFS(Tabla7[Año],$C$59,Tabla7[Mes],J$61,Tabla7[Entrega conforme? Sin ninguna incidencia],"*",Tabla7[Tipo de cliente],$B63),"") -> 0 | K63: =IFERROR(COUNTIFS(Tabla7[Año],$C$59,Tabla7[Mes],K$61,Tabla7[Entrega conforme? Sin ninguna incidencia],"SI",Tabla7[Tipo de cliente],$B63)/COUNTIFS(Tabla7[Año],$C$59,Tabla7[Mes],K$61,Tabla7[Entrega conforme? Sin ninguna incidencia],"*",Tabla7[Tipo de cliente],$B63),"") | ... O63: =IFERROR(COUNTIFS(Tabla7[Año],$C$59,Tabla7[Mes],O$61,Tabla7[Entrega conforme? Sin ninguna incidencia],"SI",Tabla7[Tipo de cliente],$B63)/COUNTIFS(Tabla7[Año],$C$59,Tabla7[Mes],O$61,Tabla7[Entrega conforme? Sin ninguna incidencia],"*",Tabla7[Tipo de cliente],$B63),"") | P63: =IFERROR(COUNTIFS(Tabla7[Año],$C$33,Tabla7[Mes],"*",Tabla7[Entrega conforme? Sin ninguna incidencia],"SI",Tabla7[Tipo de cliente],$B63)/COUNTIFS(Tabla7[Año],$C$33,Tabla7[Mes],"*",Tabla7[Entrega conforme? Sin ninguna incidencia],"*",Tabla7[Tipo de cliente],$B63),"") -> 0.60869565
A64: 3 | B64: =IF(Tablas!$L6="","",Tablas!$L6) -> MAYORISTAS | D64: =IFERROR(COUNTIFS(Tabla7[Año],$C$59,Tabla7[Mes],D$61,Tabla7[Entrega conforme? Sin ninguna incidencia],"SI",Tabla7[Tipo de cliente],$B64)/COUNTIFS(Tabla7[Año],$C$59,Tabla7[Mes],D$61,Tabla7[Entrega conforme? Sin ninguna incidencia],"*",Tabla7[Tipo de cliente],$B64),"") -> 0.75 | E64: =IFERROR(COUNTIFS(Tabla7[Año],$C$59,Tabla7[Mes],E$61,Tabla7[Entrega conforme? Sin ninguna incidencia],"SI",Tabla7[Tipo de cliente],$B64)/COUNTIFS(Tabla7[Año],$C$59,Tabla7[Mes],E$61,Tabla7[Entrega conforme? Sin ninguna incidencia],"*",Tabla7[Tipo de cliente],$B64),"") -> 1 | F64: =IFERROR(COUNTIFS(Tabla7[Año],$C$59,Tabla7[Mes],F$61,Tabla7[Entrega conforme? Sin ninguna incidencia],"SI",Tabla7[Tipo de cliente],$B64)/COUNTIFS(Tabla7[Año],$C$59,Tabla7[Mes],F$61,Tabla7[Entrega conforme? Sin ninguna incidencia],"*",Tabla7[Tipo de cliente],$B64),"") -> 0.83333333 | G64: =IFERROR(COUNTIFS(Tabla7[Año],$C$59,Tabla7[Mes],G$61,Tabla7[Entrega conforme? Sin ninguna incidencia],"SI",Tabla7[Tipo de cliente],$B64)/COUNTIFS(Tabla7[Año],$C$59,Tabla7[Mes],G$61,Tabla7[Entrega conforme? Sin ninguna incidencia],"*",Tabla7[Tipo de cliente],$B64),"") -> 0.75 | H64: =IFERROR(COUNTIFS(Tabla7[Año],$C$59,Tabla7[Mes],H$61,Tabla7[Entrega conforme? Sin ninguna incidencia],"SI",Tabla7[Tipo de cliente],$B64)/COUNTIFS(Tabla7[Año],$C$59,Tabla7[Mes],H$61,Tabla7[Entrega conforme? Sin ninguna incidencia],"*",Tabla7[Tipo de cliente],$B64),"") -> 0.85714286 | I64: =IFERROR(COUNTIFS(Tabla7[Año],$C$59,Tabla7[Mes],I$61,Tabla7[Entrega conforme? Sin ninguna incidencia],"SI",Tabla7[Tipo de cliente],$B64)/COUNTIFS(Tabla7[Año],$C$59,Tabla7[Mes],I$61,Tabla7[Entrega conforme? Sin ninguna incidencia],"*",Tabla7[Tipo de cliente],$B64),"") -> 1 | J64: =IFERROR(COUNTIFS(Tabla7[Año],$C$59,Tabla7[Mes],J$61,Tabla7[Entrega conforme? Sin ninguna incidencia],"SI",Tabla7[Tipo de cliente],$B64)/COUNTIFS(Tabla7[Año],$C$59,Tabla7[Mes],J$61,Tabla7[Entrega conforme? Sin ninguna incidencia],"*",Tabla7[Tipo de cliente],$B64),"") | K64: =IFERROR(COUNTIFS(Tabla7[Año],$C$59,Tabla7[Mes],K$61,Tabla7[Entrega conforme? Sin ninguna incidencia],"SI",Tabla7[Tipo de cliente],$B64)/COUNTIFS(Tabla7[Año],$C$59,Tabla7[Mes],K$61,Tabla7[Entrega conforme? Sin ninguna incidencia],"*",Tabla7[Tipo de cliente],$B64),"") | ... O64: =IFERROR(COUNTIFS(Tabla7[Año],$C$59,Tabla7[Mes],O$61,Tabla7[Entrega conforme? Sin ninguna incidencia],"SI",Tabla7[Tipo de cliente],$B64)/COUNTIFS(Tabla7[Año],$C$59,Tabla7[Mes],O$61,Tabla7[Entrega conforme? Sin ninguna incidencia],"*",Tabla7[Tipo de cliente],$B64),"") | P64: =IFERROR(COUNTIFS(Tabla7[Año],$C$33,Tabla7[Mes],"*",Tabla7[Entrega conforme? Sin ninguna incidencia],"SI",Tabla7[Tipo de cliente],$B64)/COUNTIFS(Tabla7[Año],$C$33,Tabla7[Mes],"*",Tabla7[Entrega conforme? Sin ninguna incidencia],"*",Tabla7[Tipo de cliente],$B64),"") -> 0.84
A65: 4 | B65: =IF(Tablas!$L7="","",Tablas!$L7) -> CORPORATIVO | D65: =IFERROR(COUNTIFS(Tabla7[Año],$C$59,Tabla7[Mes],D$61,Tabla7[Entrega conforme? Sin ninguna incidencia],"SI",Tabla7[Tipo de cliente],$B65)/COUNTIFS(Tabla7[Año],$C$59,Tabla7[Mes],D$61,Tabla7[Entrega conforme? Sin ninguna incidencia],"*",Tabla7[Tipo de cliente],$B65),"") -> 0.8 | E65: =IFERROR(COUNTIFS(Tabla7[Año],$C$59,Tabla7[Mes],E$61,Tabla7[Entrega conforme? Sin ninguna incidencia],"SI",Tabla7[Tipo de cliente],$B65)/COUNTIFS(Tabla7[Año],$C$59,Tabla7[Mes],E$61,Tabla7[Entrega conforme? Sin ninguna incidencia],"*",Tabla7[Tipo de cliente],$B65),"") -> 1 | F65: =IFERROR(COUNTIFS(Tabla7[Año],$C$59,Tabla7[Mes],F$61,Tabla7[Entrega conforme? Sin ninguna incidencia],"SI",Tabla7[Tipo de cliente],$B65)/COUNTIFS(Tabla7[Año],$C$59,Tabla7[Mes],F$61,Tabla7[Entrega conforme? Sin ninguna incidencia],"*",Tabla7[Tipo de cliente],$B65),"") -> 0.6 | G65: =IFERROR(COUNTIFS(Tabla7[Año],$C$59,Tabla7[Mes],G$61,Tabla7[Entrega conforme? Sin ninguna incidencia],"SI",Tabla7[Tipo de cliente],$B65)/COUNTIFS(Tabla7[Año],$C$59,Tabla7[Mes],G$61,Tabla7[Entrega conforme? Sin ninguna incidencia],"*",Tabla7[Tipo de cliente],$B65),"") -> 0.8 | H65: =IFERROR(COUNTIFS(Tabla7[Año],$C$59,Tabla7[Mes],H$61,Tabla7[Entrega conforme? Sin ninguna incidencia],"SI",Tabla7[Tipo de cliente],$B65)/COUNTIFS(Tabla7[Año],$C$59,Tabla7[Mes],H$61,Tabla7[Entrega conforme? Sin ninguna incidencia],"*",Tabla7[Tipo de cliente],$B65),"") -> 1 | I65: =IFERROR(COUNTIFS(Tabla7[Año],$C$59,Tabla7[Mes],I$61,Tabla7[Entrega conforme? Sin ninguna incidencia],"SI",Tabla7[Tipo de cliente],$B65)/COUNTIFS(Tabla7[Año],$C$59,Tabla7[Mes],I$61,Tabla7[Entrega conforme? Sin ninguna incidencia],"*",Tabla7[Tipo de cliente],$B65),"") -> 1 | J65: =IFERROR(COUNTIFS(Tabla7[Año],$C$59,Tabla7[Mes],J$61,Tabla7[Entrega conforme? Sin ninguna incidencia],"SI",Tabla7[Tipo de cliente],$B65)/COUNTIFS(Tabla7[Año],$C$59,Tabla7[Mes],J$61,Tabla7[Entrega conforme? Sin ninguna incidencia],"*",Tabla7[Tipo de cliente],$B65),"") -> 0.6 | K65: =IFERROR(COUNTIFS(Tabla7[Año],$C$59,Tabla7[Mes],K$61,Tabla7[Entrega conforme? Sin ninguna incidencia],"SI",Tabla7[Tipo de cliente],$B65)/COUNTIFS(Tabla7[Año],$C$59,Tabla7[Mes],K$61,Tabla7[Entrega conforme? Sin ninguna incidencia],"*",Tabla7[Tipo de cliente],$B65),"") | ... O65: =IFERROR(COUNTIFS(Tabla7[Año],$C$59,Tabla7[Mes],O$61,Tabla7[Entrega conforme? Sin ninguna incidencia],"SI",Tabla7[Tipo de cliente],$B65)/COUNTIFS(Tabla7[Año],$C$59,Tabla7[Mes],O$61,Tabla7[Entrega conforme? Sin ninguna incidencia],"*",Tabla7[Tipo de cliente],$B65),"") | P65: =IFERROR(COUNTIFS(Tabla7[Año],$C$33,Tabla7[Mes],"*",Tabla7[Entrega conforme? Sin ninguna incidencia],"SI",Tabla7[Tipo de cliente],$B65)/COUNTIFS(Tabla7[Año],$C$33,Tabla7[Mes],"*",Tabla7[Entrega conforme? Sin ninguna incidencia],"*",Tabla7[Tipo de cliente],$B65),"") -> 0.8
A66: 5 | B66: =IF(Tablas!$L8="","",Tablas!$L8) -> PROYECTOS | D66: =IFERROR(COUNTIFS(Tabla7[Año],$C$59,Tabla7[Mes],D$61,Tabla7[Entrega conforme? Sin ninguna incidencia],"SI",Tabla7[Tipo de cliente],$B66)/COUNTIFS(Tabla7[Año],$C$59,Tabla7[Mes],D$61,Tabla7[Entrega conforme? Sin ninguna incidencia],"*",Tabla7[Tipo de cliente],$B66),"") -> 1 | E66: =IFERROR(COUNTIFS(Tabla7[Año],$C$59,Tabla7[Mes],E$61,Tabla7[Entrega conforme? Sin ninguna incidencia],"SI",Tabla7[Tipo de cliente],$B66)/COUNTIFS(Tabla7[Año],$C$59,Tabla7[Mes],E$61,Tabla7[Entrega conforme? Sin ninguna incidencia],"*",Tabla7[Tipo de cliente],$B66),"") -> 0.875 | F66: =IFERROR(COUNTIFS(Tabla7[Año],$C$59,Tabla7[Mes],F$61,Tabla7[Entrega conforme? Sin ninguna incidencia],"SI",Tabla7[Tipo de cliente],$B66)/COUNTIFS(Tabla7[Año],$C$59,Tabla7[Mes],F$61,Tabla7[Entrega conforme? Sin ninguna incidencia],"*",Tabla7[Tipo de cliente],$B66),"") -> 0.5 | G66: =IFERROR(COUNTIFS(Tabla7[Año],$C$59,Tabla7[Mes],G$61,Tabla7[Entrega conforme? Sin ninguna incidencia],"SI",Tabla7[Tipo de cliente],$B66)/COUNTIFS(Tabla7[Año],$C$59,Tabla7[Mes],G$61,Tabla7[Entrega conforme? Sin ninguna incidencia],"*",Tabla7[Tipo de cliente],$B66),"") -> 0.4 | H66: =IFERROR(COUNTIFS(Tabla7[Año],$C$59,Tabla7[Mes],H$61,Tabla7[Entrega conforme? Sin ninguna incidencia],"SI",Tabla7[Tipo de cliente],$B66)/COUNTIFS(Tabla7[Año],$C$59,Tabla7[Mes],H$61,Tabla7[Entrega conforme? Sin ninguna incidencia],"*",Tabla7[Tipo de cliente],$B66),"") -> 1 | I66: =IFERROR(COUNTIFS(Tabla7[Año],$C$59,Tabla7[Mes],I$61,Tabla7[Entrega conforme? Sin ninguna incidencia],"SI",Tabla7[Tipo de cliente],$B66)/COUNTIFS(Tabla7[Año],$C$59,Tabla7[Mes],I$61,Tabla7[Entrega conforme? Sin ninguna incidencia],"*",Tabla7[Tipo de cliente],$B66),"") -> 1 | J66: =IFERROR(COUNTIFS(Tabla7[Año],$C$59,Tabla7[Mes],J$61,Tabla7[Entrega conforme? Sin ninguna incidencia],"SI",Tabla7[Tipo de cliente],$B66)/COUNTIFS(Tabla7[Año],$C$59,Tabla7[Mes],J$61,Tabla7[Entrega conforme? Sin ninguna incidencia],"*",Tabla7[Tipo de cliente],$B66),"") -> 0.75 | K66: =IFERROR(COUNTIFS(Tabla7[Año],$C$59,Tabla7[Mes],K$61,Tabla7[Entrega conforme? Sin ninguna incidencia],"SI",Tabla7[Tipo de cliente],$B66)/COUNTIFS(Tabla7[Año],$C$59,Tabla7[Mes],K$61,Tabla7[Entrega conforme? Sin ninguna incidencia],"*",Tabla7[Tipo de cliente],$B66),"") | ... O66: =IFERROR(COUNTIFS(Tabla7[Año],$C$59,Tabla7[Mes],O$61,Tabla7[Entrega conforme? Sin ninguna incidencia],"SI",Tabla7[Tipo de cliente],$B66)/COUNTIFS(Tabla7[Año],$C$59,Tabla7[Mes],O$61,Tabla7[Entrega conforme? Sin ninguna incidencia],"*",Tabla7[Tipo de cliente],$B66),"") | P66: =IFERROR(COUNTIFS(Tabla7[Año],$C$33,Tabla7[Mes],"*",Tabla7[Entrega conforme? Sin ninguna incidencia],"SI",Tabla7[Tipo de cliente],$B66)/COUNTIFS(Tabla7[Año],$C$33,Tabla7[Mes],"*",Tabla7[Entrega conforme? Sin ninguna incidencia],"*",Tabla7[Tipo de cliente],$B66),"") -> 0.68965517
A67: 6 | B67: =IF(Tablas!$L9="","",Tablas!$L9) -> INSTITUCIONAL | D67: =IFERROR(COUNTIFS(Tabla7[Año],$C$59,Tabla7[Mes],D$61,Tabla7[Entrega conforme? Sin ninguna incidencia],"SI",Tabla7[Tipo de cliente],$B67)/COUNTIFS(Tabla7[Año],$C$59,Tabla7[Mes],D$61,Tabla7[Entrega conforme? Sin ninguna incidencia],"*",Tabla7[Tipo de cliente],$B67),"") -> 0.8 | E67: =IFERROR(COUNTIFS(Tabla7[Año],$C$59,Tabla7[Mes],E$61,Tabla7[Entrega conforme? Sin ninguna incidencia],"SI",Tabla7[Tipo de cliente],$B67)/COUNTIFS(Tabla7[Año],$C$59,Tabla7[Mes],E$61,Tabla7[Entrega conforme? Sin ninguna incidencia],"*",Tabla7[Tipo de cliente],$B67),"") -> 0.75 | F67: =IFERROR(COUNTIFS(Tabla7[Año],$C$59,Tabla7[Mes],F$61,Tabla7[Entrega conforme? Sin ninguna incidencia],"SI",Tabla7[Tipo de cliente],$B67)/COUNTIFS(Tabla7[Año],$C$59,Tabla7[Mes],F$61,Tabla7[Entrega conforme? Sin ninguna incidencia],"*",Tabla7[Tipo de cliente],$B67),"") -> 1 | G67: =IFERROR(COUNTIFS(Tabla7[Año],$C$59,Tabla7[Mes],G$61,Tabla7[Entrega conforme? Sin ninguna incidencia],"SI",Tabla7[Tipo de cliente],$B67)/COUNTIFS(Tabla7[Año],$C$59,Tabla7[Mes],G$61,Tabla7[Entrega conforme? Sin ninguna incidencia],"*",Tabla7[Tipo de cliente],$B67),"") -> 0.9 | H67: =IFERROR(COUNTIFS(Tabla7[Año],$C$59,Tabla7[Mes],H$61,Tabla7[Entrega conforme? Sin ninguna incidencia],"SI",Tabla7[Tipo de cliente],$B67)/COUNTIFS(Tabla7[Año],$C$59,Tabla7[Mes],H$61,Tabla7[Entrega conforme? Sin ninguna incidencia],"*",Tabla7[Tipo de cliente],$B67),"") -> 0 | I67: =IFERROR(COUNTIFS(Tabla7[Año],$C$59,Tabla7[Mes],I$61,Tabla7[Entrega conforme? Sin ninguna incidencia],"SI",Tabla7[Tipo de cliente],$B67)/COUNTIFS(Tabla7[Año],$C$59,Tabla7[Mes],I$61,Tabla7[Entrega conforme? Sin ninguna incidencia],"*",Tabla7[Tipo de cliente],$B67),"") | J67: =IFERROR(COUNTIFS(Tabla7[Año],$C$59,Tabla7[Mes],J$61,Tabla7[Entrega conforme? Sin ninguna incidencia],"SI",Tabla7[Tipo de cliente],$B67)/COUNTIFS(Tabla7[Año],$C$59,Tabla7[Mes],J$61,Tabla7[Entrega conforme? Sin ninguna incidencia],"*",Tabla7[Tipo de cliente],$B67),"") -> 1 | K67: =IFERROR(COUNTIFS(Tabla7[Año],$C$59,Tabla7[Mes],K$61,Tabla7[Entrega conforme? Sin ninguna incidencia],"SI",Tabla7[Tipo de cliente],$B67)/COUNTIFS(Tabla7[Año],$C$59,Tabla7[Mes],K$61,Tabla7[Entrega conforme? Sin ninguna incidencia],"*",Tabla7[Tipo de cliente],$B67),"") | ... O67: =IFERROR(COUNTIFS(Tabla7[Año],$C$59,Tabla7[Mes],O$61,Tabla7[Entrega conforme? Sin ninguna incidencia],"SI",Tabla7[Tipo de cliente],$B67)/COUNTIFS(Tabla7[Año],$C$59,Tabla7[Mes],O$61,Tabla7[Entrega conforme? Sin ninguna incidencia],"*",Tabla7[Tipo de cliente],$B67),"") | P67: =IFERROR(COUNTIFS(Tabla7[Año],$C$33,Tabla7[Mes],"*",Tabla7[Entrega conforme? Sin ninguna incidencia],"SI",Tabla7[Tipo de cliente],$B67)/COUNTIFS(Tabla7[Año],$C$33,Tabla7[Mes],"*",Tabla7[Entrega conforme? Sin ninguna incidencia],"*",Tabla7[Tipo de cliente],$B67),"") -> 0.80769231
A68: 7 | B68: =IF(Tablas!$L10="","",Tablas!$L10) -> HOMECENTER | D68: =IFERROR(COUNTIFS(Tabla7[Año],$C$59,Tabla7[Mes],D$61,Tabla7[Entrega conforme? Sin ninguna incidencia],"SI",Tabla7[Tipo de cliente],$B68)/COUNTIFS(Tabla7[Año],$C$59,Tabla7[Mes],D$61,Tabla7[Entrega conforme? Sin ninguna incidencia],"*",Tabla7[Tipo de cliente],$B68),"") -> 0.70833333 | E68: =IFERROR(COUNTIFS(Tabla7[Año],$C$59,Tabla7[Mes],E$61,Tabla7[Entrega conforme? Sin ninguna incidencia],"SI",Tabla7[Tipo de cliente],$B68)/COUNTIFS(Tabla7[Año],$C$59,Tabla7[Mes],E$61,Tabla7[Entrega conforme? Sin ninguna incidencia],"*",Tabla7[Tipo de cliente],$B68),"") -> 0.78947368 | F68: =IFERROR(COUNTIFS(Tabla7[Año],$C$59,Tabla7[Mes],F$61,Tabla7[Entrega conforme? Sin ninguna incidencia],"SI",Tabla7[Tipo de cliente],$B68)/COUNTIFS(Tabla7[Año],$C$59,Tabla7[Mes],F$61,Tabla7[Entrega conforme? Sin ninguna incidencia],"*",Tabla7[Tipo de cliente],$B68),"") -> 0.66666667 | G68: =IFERROR(COUNTIFS(Tabla7[Año],$C$59,Tabla7[Mes],G$61,Tabla7[Entrega conforme? Sin ninguna incidencia],"SI",Tabla7[Tipo de cliente],$B68)/COUNTIFS(Tabla7[Año],$C$59,Tabla7[Mes],G$61,Tabla7[Entrega conforme? Sin ninguna incidencia],"*",Tabla7[Tipo de cliente],$B68),"") -> 0.72413793 | H68: =IFERROR(COUNTIFS(Tabla7[Año],$C$59,Tabla7[Mes],H$61,Tabla7[Entrega conforme? Sin ninguna incidencia],"SI",Tabla7[Tipo de cliente],$B68)/COUNTIFS(Tabla7[Año],$C$59,Tabla7[Mes],H$61,Tabla7[Entrega conforme? Sin ninguna incidencia],"*",Tabla7[Tipo de cliente],$B68),"") -> 0.68 | I68: =IFERROR(COUNTIFS(Tabla7[Año],$C$59,Tabla7[Mes],I$61,Tabla7[Entrega conforme? Sin ninguna incidencia],"SI",Tabla7[Tipo de cliente],$B68)/COUNTIFS(Tabla7[Año],$C$59,Tabla7[Mes],I$61,Tabla7[Entrega conforme? Sin ninguna incidencia],"*",Tabla7[Tipo de cliente],$B68),"") -> 0.25 | J68: =IFERROR(COUNTIFS(Tabla7[Año],$C$59,Tabla7[Mes],J$61,Tabla7[Entrega conforme? Sin ninguna incidencia],"SI",Tabla7[Tipo de cliente],$B68)/COUNTIFS(Tabla7[Año],$C$59,Tabla7[Mes],J$61,Tabla7[Entrega conforme? Sin ninguna incidencia],"*",Tabla7[Tipo de cliente],$B68),"") -> 0.83333333 | K68: =IFERROR(COUNTIFS(Tabla7[Año],$C$59,Tabla7[Mes],K$61,Tabla7[Entrega conforme? Sin ninguna incidencia],"SI",Tabla7[Tipo de cliente],$B68)/COUNTIFS(Tabla7[Año],$C$59,Tabla7[Mes],K$61,Tabla7[Entrega conforme? Sin ninguna incidencia],"*",Tabla7[Tipo de cliente],$B68),"") | ... O68: =IFERROR(COUNTIFS(Tabla7[Año],$C$59,Tabla7[Mes],O$61,Tabla7[Entrega conforme? Sin ninguna incidencia],"SI",Tabla7[Tipo de cliente],$B68)/COUNTIFS(Tabla7[Año],$C$59,Tabla7[Mes],O$61,Tabla7[Entrega conforme? Sin ninguna incidencia],"*",Tabla7[Tipo de cliente],$B68),"") | P68: =IFERROR(COUNTIFS(Tabla7[Año],$C$33,Tabla7[Mes],"*",Tabla7[Entrega conforme? Sin ninguna incidencia],"SI",Tabla7[Tipo de cliente],$B68)/COUNTIFS(Tabla7[Año],$C$33,Tabla7[Mes],"*",Tabla7[Entrega conforme? Sin ninguna incidencia],"*",Tabla7[Tipo de cliente],$B68),"") -> 0.69047619
A69: 8 | B69: =IF(Tablas!$L11="","",Tablas!$L11) | D69: =IFERROR(COUNTIFS(Tabla7[Año],$C$59,Tabla7[Mes],D$61,Tabla7[Entrega conforme? Sin ninguna incidencia],"SI",Tabla7[Tipo de cliente],$B69)/COUNTIFS(Tabla7[Año],$C$59,Tabla7[Mes],D$61,Tabla7[Entrega conforme? Sin ninguna incidencia],"*",Tabla7[Tipo de cliente],$B69),"") | E69: =IFERROR(COUNTIFS(Tabla7[Año],$C$59,Tabla7[Mes],E$61,Tabla7[Entrega conforme? Sin ninguna incidencia],"SI",Tabla7[Tipo de cliente],$B69)/COUNTIFS(Tabla7[Año],$C$59,Tabla7[Mes],E$61,Tabla7[Entrega conforme? Sin ninguna incidencia],"*",Tabla7[Tipo de cliente],$B69),"") | F69: =IFERROR(COUNTIFS(Tabla7[Año],$C$59,Tabla7[Mes],F$61,Tabla7[Entrega conforme? Sin ninguna incidencia],"SI",Tabla7[Tipo de cliente],$B69)/COUNTIFS(Tabla7[Año],$C$59,Tabla7[Mes],F$61,Tabla7[Entrega conforme? Sin ninguna incidencia],"*",Tabla7[Tipo de cliente],$B69),"") | G69: =IFERROR(COUNTIFS(Tabla7[Año],$C$59,Tabla7[Mes],G$61,Tabla7[Entrega conforme? Sin ninguna incidencia],"SI",Tabla7[Tipo de cliente],$B69)/COUNTIFS(Tabla7[Año],$C$59,Tabla7[Mes],G$61,Tabla7[Entrega conforme? Sin ninguna incidencia],"*",Tabla7[Tipo de cliente],$B69),"") | H69: =IFERROR(COUNTIFS(Tabla7[Año],$C$59,Tabla7[Mes],H$61,Tabla7[Entrega conforme? Sin ninguna incidencia],"SI",Tabla7[Tipo de cliente],$B69)/COUNTIFS(Tabla7[Año],$C$59,Tabla7[Mes],H$61,Tabla7[Entrega conforme? Sin ninguna incidencia],"*",Tabla7[Tipo de cliente],$B69),"") | I69: =IFERROR(COUNTIFS(Tabla7[Año],$C$59,Tabla7[Mes],I$61,Tabla7[Entrega conforme? Sin ninguna incidencia],"SI",Tabla7[Tipo de cliente],$B69)/COUNTIFS(Tabla7[Año],$C$59,Tabla7[Mes],I$61,Tabla7[Entrega conforme? Sin ninguna incidencia],"*",Tabla7[Tipo de cliente],$B69),"") | J69: =IFERROR(COUNTIFS(Tabla7[Año],$C$59,Tabla7[Mes],J$61,Tabla7[Entrega conforme? Sin ninguna incidencia],"SI",Tabla7[Tipo de cliente],$B69)/COUNTIFS(Tabla7[Año],$C$59,Tabla7[Mes],J$61,Tabla7[Entrega conforme? Sin ninguna incidencia],"*",Tabla7[Tipo de cliente],$B69),"") | K69: =IFERROR(COUNTIFS(Tabla7[Año],$C$59,Tabla7[Mes],K$61,Tabla7[Entrega conforme? Sin ninguna incidencia],"SI",Tabla7[Tipo de cliente],$B69)/COUNTIFS(Tabla7[Año],$C$59,Tabla7[Mes],K$61,Tabla7[Entrega conforme? Sin ninguna incidencia],"*",Tabla7[Tipo de cliente],$B69),"") | ... O69: =IFERROR(COUNTIFS(Tabla7[Año],$C$59,Tabla7[Mes],O$61,Tabla7[Entrega conforme? Sin ninguna incidencia],"SI",Tabla7[Tipo de cliente],$B69)/COUNTIFS(Tabla7[Año],$C$59,Tabla7[Mes],O$61,Tabla7[Entrega conforme? Sin ninguna incidencia],"*",Tabla7[Tipo de cliente],$B69),"") | P69: =IFERROR(COUNTIFS(Tabla7[Año],$C$33,Tabla7[Mes],"*",Tabla7[Entrega conforme? Sin ninguna incidencia],"SI",Tabla7[Tipo de cliente],$B69)/COUNTIFS(Tabla7[Año],$C$33,Tabla7[Mes],"*",Tabla7[Entrega conforme? Sin ninguna incidencia],"*",Tabla7[Tipo de cliente],$B69),"")
A70: 9 | B70: =IF(Tablas!$L12="","",Tablas!$L12) | D70: =IFERROR(COUNTIFS(Tabla7[Año],$C$59,Tabla7[Mes],D$61,Tabla7[Entrega conforme? Sin ninguna incidencia],"SI",Tabla7[Tipo de cliente],$B70)/COUNTIFS(Tabla7[Año],$C$59,Tabla7[Mes],D$61,Tabla7[Entrega conforme? Sin ninguna incidencia],"*",Tabla7[Tipo de cliente],$B70),"") | E70: =IFERROR(COUNTIFS(Tabla7[Año],$C$59,Tabla7[Mes],E$61,Tabla7[Entrega conforme? Sin ninguna incidencia],"SI",Tabla7[Tipo de cliente],$B70)/COUNTIFS(Tabla7[Año],$C$59,Tabla7[Mes],E$61,Tabla7[Entrega conforme? Sin ninguna incidencia],"*",Tabla7[Tipo de cliente],$B70),"") | F70: =IFERROR(COUNTIFS(Tabla7[Año],$C$59,Tabla7[Mes],F$61,Tabla7[Entrega conforme? Sin ninguna incidencia],"SI",Tabla7[Tipo de cliente],$B70)/COUNTIFS(Tabla7[Año],$C$59,Tabla7[Mes],F$61,Tabla7[Entrega conforme? Sin ninguna incidencia],"*",Tabla7[Tipo de cliente],$B70),"") | G70: =IFERROR(COUNTIFS(Tabla7[Año],$C$59,Tabla7[Mes],G$61,Tabla7[Entrega conforme? Sin ninguna incidencia],"SI",Tabla7[Tipo de cliente],$B70)/COUNTIFS(Tabla7[Año],$C$59,Tabla7[Mes],G$61,Tabla7[Entrega conforme? Sin ninguna incidencia],"*",Tabla7[Tipo de cliente],$B70),"") | H70: =IFERROR(COUNTIFS(Tabla7[Año],$C$59,Tabla7[Mes],H$61,Tabla7[Entrega conforme? Sin ninguna incidencia],"SI",Tabla7[Tipo de cliente],$B70)/COUNTIFS(Tabla7[Año],$C$59,Tabla7[Mes],H$61,Tabla7[Entrega conforme? Sin ninguna incidencia],"*",Tabla7[Tipo de cliente],$B70),"") | I70: =IFERROR(COUNTIFS(Tabla7[Año],$C$59,Tabla7[Mes],I$61,Tabla7[Entrega conforme? Sin ninguna incidencia],"SI",Tabla7[Tipo de cliente],$B70)/COUNTIFS(Tabla7[Año],$C$59,Tabla7[Mes],I$61,Tabla7[Entrega conforme? Sin ninguna incidencia],"*",Tabla7[Tipo de cliente],$B70),"") | J70: =IFERROR(COUNTIFS(Tabla7[Año],$C$59,Tabla7[Mes],J$61,Tabla7[Entrega conforme? Sin ninguna incidencia],"SI",Tabla7[Tipo de cliente],$B70)/COUNTIFS(Tabla7[Año],$C$59,Tabla7[Mes],J$61,Tabla7[Entrega conforme? Sin ninguna incidencia],"*",Tabla7[Tipo de cliente],$B70),"") | K70: =IFERROR(COUNTIFS(Tabla7[Año],$C$59,Tabla7[Mes],K$61,Tabla7[Entrega conforme? Sin ninguna incidencia],"SI",Tabla7[Tipo de cliente],$B70)/COUNTIFS(Tabla7[Año],$C$59,Tabla7[Mes],K$61,Tabla7[Entrega conforme? Sin ninguna incidencia],"*",Tabla7[Tipo de cliente],$B70),"") | ... O70: =IFERROR(COUNTIFS(Tabla7[Año],$C$59,Tabla7[Mes],O$61,Tabla7[Entrega conforme? Sin ninguna incidencia],"SI",Tabla7[Tipo de cliente],$B70)/COUNTIFS(Tabla7[Año],$C$59,Tabla7[Mes],O$61,Tabla7[Entrega conforme? Sin ninguna incidencia],"*",Tabla7[Tipo de cliente],$B70),"") | P70: =IFERROR(COUNTIFS(Tabla7[Año],$C$33,Tabla7[Mes],"*",Tabla7[Entrega conforme? Sin ninguna incidencia],"SI",Tabla7[Tipo de cliente],$B70)/COUNTIFS(Tabla7[Año],$C$33,Tabla7[Mes],"*",Tabla7[Entrega conforme? Sin ninguna incidencia],"*",Tabla7[Tipo de cliente],$B70),"")
A71: 10 | B71: =IF(Tablas!$L13="","",Tablas!$L13) | D71: =IFERROR(COUNTIFS(Tabla7[Año],$C$59,Tabla7[Mes],D$61,Tabla7[Entrega conforme? Sin ninguna incidencia],"SI",Tabla7[Tipo de cliente],$B71)/COUNTIFS(Tabla7[Año],$C$59,Tabla7[Mes],D$61,Tabla7[Entrega conforme? Sin ninguna incidencia],"*",Tabla7[Tipo de cliente],$B71),"") | E71: =IFERROR(COUNTIFS(Tabla7[Año],$C$59,Tabla7[Mes],E$61,Tabla7[Entrega conforme? Sin ninguna incidencia],"SI",Tabla7[Tipo de cliente],$B71)/COUNTIFS(Tabla7[Año],$C$59,Tabla7[Mes],E$61,Tabla7[Entrega conforme? Sin ninguna incidencia],"*",Tabla7[Tipo de cliente],$B71),"") | F71: =IFERROR(COUNTIFS(Tabla7[Año],$C$59,Tabla7[Mes],F$61,Tabla7[Entrega conforme? Sin ninguna incidencia],"SI",Tabla7[Tipo de cliente],$B71)/COUNTIFS(Tabla7[Año],$C$59,Tabla7[Mes],F$61,Tabla7[Entrega conforme? Sin ninguna incidencia],"*",Tabla7[Tipo de cliente],$B71),"") | G71: =IFERROR(COUNTIFS(Tabla7[Año],$C$59,Tabla7[Mes],G$61,Tabla7[Entrega conforme? Sin ninguna incidencia],"SI",Tabla7[Tipo de cliente],$B71)/COUNTIFS(Tabla7[Año],$C$59,Tabla7[Mes],G$61,Tabla7[Entrega conforme? Sin ninguna incidencia],"*",Tabla7[Tipo de cliente],$B71),"") | H71: =IFERROR(COUNTIFS(Tabla7[Año],$C$59,Tabla7[Mes],H$61,Tabla7[Entrega conforme? Sin ninguna incidencia],"SI",Tabla7[Tipo de cliente],$B71)/COUNTIFS(Tabla7[Año],$C$59,Tabla7[Mes],H$61,Tabla7[Entrega conforme? Sin ninguna incidencia],"*",Tabla7[Tipo de cliente],$B71),"") | I71: =IFERROR(COUNTIFS(Tabla7[Año],$C$59,Tabla7[Mes],I$61,Tabla7[Entrega conforme? Sin ninguna incidencia],"SI",Tabla7[Tipo de cliente],$B71)/COUNTIFS(Tabla7[Año],$C$59,Tabla7[Mes],I$61,Tabla7[Entrega conforme? Sin ninguna incidencia],"*",Tabla7[Tipo de cliente],$B71),"") | J71: =IFERROR(COUNTIFS(Tabla7[Año],$C$59,Tabla7[Mes],J$61,Tabla7[Entrega conforme? Sin ninguna incidencia],"SI",Tabla7[Tipo de cliente],$B71)/COUNTIFS(Tabla7[Año],$C$59,Tabla7[Mes],J$61,Tabla7[Entrega conforme? Sin ninguna incidencia],"*",Tabla7[Tipo de cliente],$B71),"") | K71: =IFERROR(COUNTIFS(Tabla7[Año],$C$59,Tabla7[Mes],K$61,Tabla7[Entrega conforme? Sin ninguna incidencia],"SI",Tabla7[Tipo de cliente],$B71)/COUNTIFS(Tabla7[Año],$C$59,Tabla7[Mes],K$61,Tabla7[Entrega conforme? Sin ninguna incidencia],"*",Tabla7[Tipo de cliente],$B71),"") | ... O71: =IFERROR(COUNTIFS(Tabla7[Año],$C$59,Tabla7[Mes],O$61,Tabla7[Entrega conforme? Sin ninguna incidencia],"SI",Tabla7[Tipo de cliente],$B71)/COUNTIFS(Tabla7[Año],$C$59,Tabla7[Mes],O$61,Tabla7[Entrega conforme? Sin ninguna incidencia],"*",Tabla7[Tipo de cliente],$B71),"") | P71: =IFERROR(COUNTIFS(Tabla7[Año],$C$33,Tabla7[Mes],"*",Tabla7[Entrega conforme? Sin ninguna incidencia],"SI",Tabla7[Tipo de cliente],$B71)/COUNTIFS(Tabla7[Año],$C$33,Tabla7[Mes],"*",Tabla7[Entrega conforme? Sin ninguna incidencia],"*",Tabla7[Tipo de cliente],$B71),"")
A72: 11 | B72: =IF(Tablas!$L14="","",Tablas!$L14) | D72: =IFERROR(COUNTIFS(Tabla7[Año],$C$59,Tabla7[Mes],D$61,Tabla7[Entrega conforme? Sin ninguna incidencia],"SI",Tabla7[Tipo de cliente],$B72)/COUNTIFS(Tabla7[Año],$C$59,Tabla7[Mes],D$61,Tabla7[Entrega conforme? Sin ninguna incidencia],"*",Tabla7[Tipo de cliente],$B72),"") | E72: =IFERROR(COUNTIFS(Tabla7[Año],$C$59,Tabla7[Mes],E$61,Tabla7[Entrega conforme? Sin ninguna incidencia],"SI",Tabla7[Tipo de cliente],$B72)/COUNTIFS(Tabla7[Año],$C$59,Tabla7[Mes],E$61,Tabla7[Entrega conforme? Sin ninguna incidencia],"*",Tabla7[Tipo de cliente],$B72),"") | F72: =IFERROR(COUNTIFS(Tabla7[Año],$C$59,Tabla7[Mes],F$61,Tabla7[Entrega conforme? Sin ninguna incidencia],"SI",Tabla7[Tipo de cliente],$B72)/COUNTIFS(Tabla7[Año],$C$59,Tabla7[Mes],F$61,Tabla7[Entrega conforme? Sin ninguna incidencia],"*",Tabla7[Tipo de cliente],$B72),"") | G72: =IFERROR(COUNTIFS(Tabla7[Año],$C$59,Tabla7[Mes],G$61,Tabla7[Entrega conforme? Sin ninguna incidencia],"SI",Tabla7[Tipo de cliente],$B72)/COUNTIFS(Tabla7[Año],$C$59,Tabla7[Mes],G$61,Tabla7[Entrega conforme? Sin ninguna incidencia],"*",Tabla7[Tipo de cliente],$B72),"") | H72: =IFERROR(COUNTIFS(Tabla7[Año],$C$59,Tabla7[Mes],H$61,Tabla7[Entrega conforme? Sin ninguna incidencia],"SI",Tabla7[Tipo de cliente],$B72)/COUNTIFS(Tabla7[Año],$C$59,Tabla7[Mes],H$61,Tabla7[Entrega conforme? Sin ninguna incidencia],"*",Tabla7[Tipo de cliente],$B72),"") | I72: =IFERROR(COUNTIFS(Tabla7[Año],$C$59,Tabla7[Mes],I$61,Tabla7[Entrega conforme? Sin ninguna incidencia],"SI",Tabla7[Tipo de cliente],$B72)/COUNTIFS(Tabla7[Año],$C$59,Tabla7[Mes],I$61,Tabla7[Entrega conforme? Sin ninguna incidencia],"*",Tabla7[Tipo de cliente],$B72),"") | J72: =IFERROR(COUNTIFS(Tabla7[Año],$C$59,Tabla7[Mes],J$61,Tabla7[Entrega conforme? Sin ninguna incidencia],"SI",Tabla7[Tipo de cliente],$B72)/COUNTIFS(Tabla7[Año],$C$59,Tabla7[Mes],J$61,Tabla7[Entrega conforme? Sin ninguna incidencia],"*",Tabla7[Tipo de cliente],$B72),"") | K72: =IFERROR(COUNTIFS(Tabla7[Año],$C$59,Tabla7[Mes],K$61,Tabla7[Entrega conforme? Sin ninguna incidencia],"SI",Tabla7[Tipo de cliente],$B72)/COUNTIFS(Tabla7[Año],$C$59,Tabla7[Mes],K$61,Tabla7[Entrega conforme? Sin ninguna incidencia],"*",Tabla7[Tipo de cliente],$B72),"") | ... O72: =IFERROR(COUNTIFS(Tabla7[Año],$C$59,Tabla7[Mes],O$61,Tabla7[Entrega conforme? Sin ninguna incidencia],"SI",Tabla7[Tipo de cliente],$B72)/COUNTIFS(Tabla7[Año],$C$59,Tabla7[Mes],O$61,Tabla7[Entrega conforme? Sin ninguna incidencia],"*",Tabla7[Tipo de cliente],$B72),"") | P72: =IFERROR(COUNTIFS(Tabla7[Año],$C$33,Tabla7[Mes],"*",Tabla7[Entrega conforme? Sin ninguna incidencia],"SI",Tabla7[Tipo de cliente],$B72)/COUNTIFS(Tabla7[Año],$C$33,Tabla7[Mes],"*",Tabla7[Entrega conforme? Sin ninguna incidencia],"*",Tabla7[Tipo de cliente],$B72),"")
A73: 12 | B73: =IF(Tablas!$L15="","",Tablas!$L15) | D73: =IFERROR(COUNTIFS(Tabla7[Año],$C$59,Tabla7[Mes],D$61,Tabla7[Entrega conforme? Sin ninguna incidencia],"SI",Tabla7[Tipo de cliente],$B73)/COUNTIFS(Tabla7[Año],$C$59,Tabla7[Mes],D$61,Tabla7[Entrega conforme? Sin ninguna incidencia],"*",Tabla7[Tipo de cliente],$B73),"") | E73: =IFERROR(COUNTIFS(Tabla7[Año],$C$59,Tabla7[Mes],E$61,Tabla7[Entrega conforme? Sin ninguna incidencia],"SI",Tabla7[Tipo de cliente],$B73)/COUNTIFS(Tabla7[Año],$C$59,Tabla7[Mes],E$61,Tabla7[Entrega conforme? Sin ninguna incidencia],"*",Tabla7[Tipo de cliente],$B73),"") | F73: =IFERROR(COUNTIFS(Tabla7[Año],$C$59,Tabla7[Mes],F$61,Tabla7[Entrega conforme? Sin ninguna incidencia],"SI",Tabla7[Tipo de cliente],$B73)/COUNTIFS(Tabla7[Año],$C$59,Tabla7[Mes],F$61,Tabla7[Entrega conforme? Sin ninguna incidencia],"*",Tabla7[Tipo de cliente],$B73),"") | G73: =IFERROR(COUNTIFS(Tabla7[Año],$C$59,Tabla7[Mes],G$61,Tabla7[Entrega conforme? Sin ninguna incidencia],"SI",Tabla7[Tipo de cliente],$B73)/COUNTIFS(Tabla7[Año],$C$59,Tabla7[Mes],G$61,Tabla7[Entrega conforme? Sin ninguna incidencia],"*",Tabla7[Tipo de cliente],$B73),"") | H73: =IFERROR(COUNTIFS(Tabla7[Año],$C$59,Tabla7[Mes],H$61,Tabla7[Entrega conforme? Sin ninguna incidencia],"SI",Tabla7[Tipo de cliente],$B73)/COUNTIFS(Tabla7[Año],$C$59,Tabla7[Mes],H$61,Tabla7[Entrega conforme? Sin ninguna incidencia],"*",Tabla7[Tipo de cliente],$B73),"") | I73: =IFERROR(COUNTIFS(Tabla7[Año],$C$59,Tabla7[Mes],I$61,Tabla7[Entrega conforme? Sin ninguna incidencia],"SI",Tabla7[Tipo de cliente],$B73)/COUNTIFS(Tabla7[Año],$C$59,Tabla7[Mes],I$61,Tabla7[Entrega conforme? Sin ninguna incidencia],"*",Tabla7[Tipo de cliente],$B73),"") | J73: =IFERROR(COUNTIFS(Tabla7[Año],$C$59,Tabla7[Mes],J$61,Tabla7[Entrega conforme? Sin ninguna incidencia],"SI",Tabla7[Tipo de cliente],$B73)/COUNTIFS(Tabla7[Año],$C$59,Tabla7[Mes],J$61,Tabla7[Entrega conforme? Sin ninguna incidencia],"*",Tabla7[Tipo de cliente],$B73),"") | K73: =IFERROR(COUNTIFS(Tabla7[Año],$C$59,Tabla7[Mes],K$61,Tabla7[Entrega conforme? Sin ninguna incidencia],"SI",Tabla7[Tipo de cliente],$B73)/COUNTIFS(Tabla7[Año],$C$59,Tabla7[Mes],K$61,Tabla7[Entrega conforme? Sin ninguna incidencia],"*",Tabla7[Tipo de cliente],$B73),"") | ... O73: =IFERROR(COUNTIFS(Tabla7[Año],$C$59,Tabla7[Mes],O$61,Tabla7[Entrega conforme? Sin ninguna incidencia],"SI",Tabla7[Tipo de cliente],$B73)/COUNTIFS(Tabla7[Año],$C$59,Tabla7[Mes],O$61,Tabla7[Entrega conforme? Sin ninguna incidencia],"*",Tabla7[Tipo de cliente],$B73),"") | P73: =IFERROR(COUNTIFS(Tabla7[Año],$C$33,Tabla7[Mes],"*",Tabla7[Entrega conforme? Sin ninguna incidencia],"SI",Tabla7[Tipo de cliente],$B73)/COUNTIFS(Tabla7[Año],$C$33,Tabla7[Mes],"*",Tabla7[Entrega conforme? Sin ninguna incidencia],"*",Tabla7[Tipo de cliente],$B73),"")
... A81: 20 | B81: =IF(Tablas!$L23="","",Tablas!$L23) | D81: =IFERROR(COUNTIFS(Tabla7[Año],$C$59,Tabla7[Mes],D$61,Tabla7[Entrega conforme? Sin ninguna incidencia],"SI",Tabla7[Tipo de cliente],$B81)/COUNTIFS(Tabla7[Año],$C$59,Tabla7[Mes],D$61,Tabla7[Entrega conforme? Sin ninguna incidencia],"*",Tabla7[Tipo de cliente],$B81),"") | E81: =IFERROR(COUNTIFS(Tabla7[Año],$C$59,Tabla7[Mes],E$61,Tabla7[Entrega conforme? Sin ninguna incidencia],"SI",Tabla7[Tipo de cliente],$B81)/COUNTIFS(Tabla7[Año],$C$59,Tabla7[Mes],E$61,Tabla7[Entrega conforme? Sin ninguna incidencia],"*",Tabla7[Tipo de cliente],$B81),"") | F81: =IFERROR(COUNTIFS(Tabla7[Año],$C$59,Tabla7[Mes],F$61,Tabla7[Entrega conforme? Sin ninguna incidencia],"SI",Tabla7[Tipo de cliente],$B81)/COUNTIFS(Tabla7[Año],$C$59,Tabla7[Mes],F$61,Tabla7[Entrega conforme? Sin ninguna incidencia],"*",Tabla7[Tipo de cliente],$B81),"") | G81: =IFERROR(COUNTIFS(Tabla7[Año],$C$59,Tabla7[Mes],G$61,Tabla7[Entrega conforme? Sin ninguna incidencia],"SI",Tabla7[Tipo de cliente],$B81)/COUNTIFS(Tabla7[Año],$C$59,Tabla7[Mes],G$61,Tabla7[Entrega conforme? Sin ninguna incidencia],"*",Tabla7[Tipo de cliente],$B81),"") | H81: =IFERROR(COUNTIFS(Tabla7[Año],$C$59,Tabla7[Mes],H$61,Tabla7[Entrega conforme? Sin ninguna incidencia],"SI",Tabla7[Tipo de cliente],$B81)/COUNTIFS(Tabla7[Año],$C$59,Tabla7[Mes],H$61,Tabla7[Entrega conforme? Sin ninguna incidencia],"*",Tabla7[Tipo de cliente],$B81),"") | I81: =IFERROR(COUNTIFS(Tabla7[Año],$C$59,Tabla7[Mes],I$61,Tabla7[Entrega conforme? Sin ninguna incidencia],"SI",Tabla7[Tipo de cliente],$B81)/COUNTIFS(Tabla7[Año],$C$59,Tabla7[Mes],I$61,Tabla7[Entrega conforme? Sin ninguna incidencia],"*",Tabla7[Tipo de cliente],$B81),"") | J81: =IFERROR(COUNTIFS(Tabla7[Año],$C$59,Tabla7[Mes],J$61,Tabla7[Entrega conforme? Sin ninguna incidencia],"SI",Tabla7[Tipo de cliente],$B81)/COUNTIFS(Tabla7[Año],$C$59,Tabla7[Mes],J$61,Tabla7[Entrega conforme? Sin ninguna incidencia],"*",Tabla7[Tipo de cliente],$B81),"") | K81: =IFERROR(COUNTIFS(Tabla7[Año],$C$59,Tabla7[Mes],K$61,Tabla7[Entrega conforme? Sin ninguna incidencia],"SI",Tabla7[Tipo de cliente],$B81)/COUNTIFS(Tabla7[Año],$C$59,Tabla7[Mes],K$61,Tabla7[Entrega conforme? Sin ninguna incidencia],"*",Tabla7[Tipo de cliente],$B81),"") | ... O81: =IFERROR(COUNTIFS(Tabla7[Año],$C$59,Tabla7[Mes],O$61,Tabla7[Entrega conforme? Sin ninguna incidencia],"SI",Tabla7[Tipo de cliente],$B81)/COUNTIFS(Tabla7[Año],$C$59,Tabla7[Mes],O$61,Tabla7[Entrega conforme? Sin ninguna incidencia],"*",Tabla7[Tipo de cliente],$B81),"") | P81: =IFERROR(COUNTIFS(Tabla7[Año],$C$33,Tabla7[Mes],"*",Tabla7[Entrega conforme? Sin ninguna incidencia],"SI",Tabla7[Tipo de cliente],$B81)/COUNTIFS(Tabla7[Año],$C$33,Tabla7[Mes],"*",Tabla7[Entrega conforme? Sin ninguna incidencia],"*",Tabla7[Tipo de cliente],$B81),"")

Sheet Indicad. 3
B2: Indicadores de Cumplimientos de Entregas
B4: 3.1 PEDIDOS ENTREGADOS A TIEMPO
B6: Año: | C6: 2018
E8: Ene | F8: Feb | G8: Mar | H8: Abr | I8: May | J8: Jun | K8: Jul | L8: Ago | M8: Set | N8: Oct | O8: Nov | P8: Dic | Q8: Total
B9: Nro de pedidos entregados a tiempo | E9: =COUNTIFS(Tabla7[Año],$C$6,Tabla7[Mes],E$8,Tabla7[Se cumplió Plazo de entrega?],"SI") -> 21 | F9: =COUNTIFS(Tabla7[Año],$C$6,Tabla7[Mes],F$8,Tabla7[Se cumplió Plazo de entrega?],"SI") -> 19 | G9: =COUNTIFS(Tabla7[Año],$C$6,Tabla7[Mes],G$8,Tabla7[Se cumplió Plazo de entrega?],"SI") -> 14 | H9: =COUNTIFS(Tabla7[Año],$C$6,Tabla7[Mes],H$8,Tabla7[Se cumplió Plazo de entrega?],"SI") -> 28 | I9: =COUNTIFS(Tabla7[Año],$C$6,Tabla7[Mes],I$8,Tabla7[Se cumplió Plazo de entrega?],"SI") -> 21 | J9: =COUNTIFS(Tabla7[Año],$C$6,Tabla7[Mes],J$8,Tabla7[Se cumplió Plazo de entrega?],"SI") -> 11 | K9: =COUNTIFS(Tabla7[Año],$C$6,Tabla7[Mes],K$8,Tabla7[Se cumplió Plazo de entrega?],"SI") -> 6 | L9: =COUNTIFS(Tabla7[Año],$C$6,Tabla7[Mes],L$8,Tabla7[Se cumplió Plazo de entrega?],"SI") -> 0 | ... P9: =COUNTIFS(Tabla7[Año],$C$6,Tabla7[Mes],P$8,Tabla7[Se cumplió Plazo de entrega?],"SI") -> 0 | Q9: =SUM(E9:P9) -> 120
B10: Nro de pedidos entregados | E10: =COUNTIFS(Tabla7[Año],$C$6,Tabla7[Mes],E$8,Tabla7[Se cumplió Plazo de entrega?],"*") -> 52 | F10: =COUNTIFS(Tabla7[Año],$C$6,Tabla7[Mes],F$8,Tabla7[Se cumplió Plazo de entrega?],"*") -> 50 | G10: =COUNTIFS(Tabla7[Año],$C$6,Tabla7[Mes],G$8,Tabla7[Se cumplió Plazo de entrega?],"*") -> 44 | H10: =COUNTIFS(Tabla7[Año],$C$6,Tabla7[Mes],H$8,Tabla7[Se cumplió Plazo de entrega?],"*") -> 85 | I10: =COUNTIFS(Tabla7[Año],$C$6,Tabla7[Mes],I$8,Tabla7[Se cumplió Plazo de entrega?],"*") -> 55 | J10: =COUNTIFS(Tabla7[Año],$C$6,Tabla7[Mes],J$8,Tabla7[Se cumplió Plazo de entrega?],"*") -> 22 | K10: =COUNTIFS(Tabla7[Año],$C$6,Tabla7[Mes],K$8,Tabla7[Se cumplió Plazo de entrega?],"*") -> 30 | L10: =COUNTIFS(Tabla7[Año],$C$6,Tabla7[Mes],L$8,Tabla7[Se cumplió Plazo de entrega?],"*") -> 0 | ... P10: =COUNTIFS(Tabla7[Año],$C$6,Tabla7[Mes],P$8,Tabla7[Se cumplió Plazo de entrega?],"*") -> 0 | Q10: =SUM(E10:P10) -> 338
B11: % Pedidos entregados a tiempo | E11: =IFERROR(E9/E10,0) -> 0.40384615 | F11: =IFERROR(F9/F10,0) -> 0.38 | G11: =IFERROR(G9/G10,0) -> 0.31818182 | H11: =IFERROR(H9/H10,0) -> 0.32941176 | I11: =IFERROR(I9/I10,0) -> 0.38181818 | J11: =IFERROR(J9/J10,0) -> 0.5 | K11: =IFERROR(K9/K10,0) -> 0.2 | L11: =IFERROR(L9/L10,0) -> 0 | ... Q11: =IFERROR(Q9/Q10,0) -> 0.35502959
B13: Semáforo de control: | E13: < | F13: 0.5
E14: <= | F14: 0.8
E15: > | F15: =+F14 -> 0.8
B31: 3.2 PEDIDOS ENTREGADOS A TIEMPO POR CATEGORÍA
B33: Año: | C33: 2018
B35: CATEGORÍA | D35: Ene | E35: Feb | F35: Mar | G35: Abr | H35: May | I35: Jun | J35: Jul | K35: Ago | L35: Set | M35: Oct | N35: Nov | O35: Dic | P35: Total
A36: 1 | B36: =IF(Tablas!$J4="","",Tablas!$J4) -> 01 - BATERIAS | D36: =IFERROR(COUNTIFS(Tabla7[Año],$C$33,Tabla7[Mes],D$35,Tabla7[Se cumplió Plazo de entrega?],"SI",Tabla7[Categoría],$B36)/COUNTIFS(Tabla7[Año],$C$33,Tabla7[Mes],D$35,Tabla7[Se cumplió Plazo de entrega?],"*",Tabla7[Categoría],$B36),"") | E36: =IFERROR(COUNTIFS(Tabla7[Año],$C$33,Tabla7[Mes],E$35,Tabla7[Se cumplió Plazo de entrega?],"SI",Tabla7[Categoría],$B36)/COUNTIFS(Tabla7[Año],$C$33,Tabla7[Mes],E$35,Tabla7[Se cumplió Plazo de entrega?],"*",Tabla7[Categoría],$B36),"") | F36: =IFERROR(COUNTIFS(Tabla7[Año],$C$33,Tabla7[Mes],F$35,Tabla7[Se cumplió Plazo de entrega?],"SI",Tabla7[Categoría],$B36)/COUNTIFS(Tabla7[Año],$C$33,Tabla7[Mes],F$35,Tabla7[Se cumplió Plazo de entrega?],"*",Tabla7[Categoría],$B36),"") -> 0 | G36: =IFERROR(COUNTIFS(Tabla7[Año],$C$33,Tabla7[Mes],G$35,Tabla7[Se cumplió Plazo de entrega?],"SI",Tabla7[Categoría],$B36)/COUNTIFS(Tabla7[Año],$C$33,Tabla7[Mes],G$35,Tabla7[Se cumplió Plazo de entrega?],"*",Tabla7[Categoría],$B36),"") -> 1 | H36: =IFERROR(COUNTIFS(Tabla7[Año],$C$33,Tabla7[Mes],H$35,Tabla7[Se cumplió Plazo de entrega?],"SI",Tabla7[Categoría],$B36)/COUNTIFS(Tabla7[Año],$C$33,Tabla7[Mes],H$35,Tabla7[Se cumplió Plazo de entrega?],"*",Tabla7[Categoría],$B36),"") -> 1 | I36: =IFERROR(COUNTIFS(Tabla7[Año],$C$33,Tabla7[Mes],I$35,Tabla7[Se cumplió Plazo de entrega?],"SI",Tabla7[Categoría],$B36)/COUNTIFS(Tabla7[Año],$C$33,Tabla7[Mes],I$35,Tabla7[Se cumplió Plazo de entrega?],"*",Tabla7[Categoría],$B36),"") | J36: =IFERROR(COUNTIFS(Tabla7[Año],$C$33,Tabla7[Mes],J$35,Tabla7[Se cumplió Plazo de entrega?],"SI",Tabla7[Categoría],$B36)/COUNTIFS(Tabla7[Año],$C$33,Tabla7[Mes],J$35,Tabla7[Se cumplió Plazo de entrega?],"*",Tabla7[Categoría],$B36),"") | K36: =IFERROR(COUNTIFS(Tabla7[Año],$C$33,Tabla7[Mes],K$35,Tabla7[Se cumplió Plazo de entrega?],"SI",Tabla7[Categoría],$B36)/COUNTIFS(Tabla7[Año],$C$33,Tabla7[Mes],K$35,Tabla7[Se cumplió Plazo de entrega?],"*",Tabla7[Categoría],$B36),"") | ... O36: =IFERROR(COUNTIFS(Tabla7[Año],$C$33,Tabla7[Mes],O$35,Tabla7[Se cumplió Plazo de entrega?],"SI",Tabla7[Categoría],$B36)/COUNTIFS(Tabla7[Año],$C$33,Tabla7[Mes],O$35,Tabla7[Se cumplió Plazo de entrega?],"*",Tabla7[Categoría],$B36),"") | P36: =IFERROR(COUNTIFS(Tabla7[Año],$C$33,Tabla7[Mes],"*",Tabla7[Se cumplió Plazo de entrega?],"SI",Tabla7[Categoría],$B36)/COUNTIFS(Tabla7[Año],$C$33,Tabla7[Mes],"*",Tabla7[Se cumplió Plazo de entrega?],"*",Tabla7[Categoría],$B36),"") -> 0.66666667
A37: 2 | B37: =IF(Tablas!$J5="","",Tablas!$J5) -> 02 - BUJIAS | D37: =IFERROR(COUNTIFS(Tabla7[Año],$C$33,Tabla7[Mes],D$35,Tabla7[Se cumplió Plazo de entrega?],"SI",Tabla7[Categoría],$B37)/COUNTIFS(Tabla7[Año],$C$33,Tabla7[Mes],D$35,Tabla7[Se cumplió Plazo de entrega?],"*",Tabla7[Categoría],$B37),"") | E37: =IFERROR(COUNTIFS(Tabla7[Año],$C$33,Tabla7[Mes],E$35,Tabla7[Se cumplió Plazo de entrega?],"SI",Tabla7[Categoría],$B37)/COUNTIFS(Tabla7[Año],$C$33,Tabla7[Mes],E$35,Tabla7[Se cumplió Plazo de entrega?],"*",Tabla7[Categoría],$B37),"") -> 0 | F37: =IFERROR(COUNTIFS(Tabla7[Año],$C$33,Tabla7[Mes],F$35,Tabla7[Se cumplió Plazo de entrega?],"SI",Tabla7[Categoría],$B37)/COUNTIFS(Tabla7[Año],$C$33,Tabla7[Mes],F$35,Tabla7[Se cumplió Plazo de entrega?],"*",Tabla7[Categoría],$B37),"") | G37: =IFERROR(COUNTIFS(Tabla7[Año],$C$33,Tabla7[Mes],G$35,Tabla7[Se cumplió Plazo de entrega?],"SI",Tabla7[Categoría],$B37)/COUNTIFS(Tabla7[Año],$C$33,Tabla7[Mes],G$35,Tabla7[Se cumplió Plazo de entrega?],"*",Tabla7[Categoría],$B37),"") | H37: =IFERROR(COUNTIFS(Tabla7[Año],$C$33,Tabla7[Mes],H$35,Tabla7[Se cumplió Plazo de entrega?],"SI",Tabla7[Categoría],$B37)/COUNTIFS(Tabla7[Año],$C$33,Tabla7[Mes],H$35,Tabla7[Se cumplió Plazo de entrega?],"*",Tabla7[Categoría],$B37),"") | I37: =IFERROR(COUNTIFS(Tabla7[Año],$C$33,Tabla7[Mes],I$35,Tabla7[Se cumplió Plazo de entrega?],"SI",Tabla7[Categoría],$B37)/COUNTIFS(Tabla7[Año],$C$33,Tabla7[Mes],I$35,Tabla7[Se cumplió Plazo de entrega?],"*",Tabla7[Categoría],$B37),"") | J37: =IFERROR(COUNTIFS(Tabla7[Año],$C$33,Tabla7[Mes],J$35,Tabla7[Se cumplió Plazo de entrega?],"SI",Tabla7[Categoría],$B37)/COUNTIFS(Tabla7[Año],$C$33,Tabla7[Mes],J$35,Tabla7[Se cumplió Plazo de entrega?],"*",Tabla7[Categoría],$B37),"") | K37: =IFERROR(COUNTIFS(Tabla7[Año],$C$33,Tabla7[Mes],K$35,Tabla7[Se cumplió Plazo de entrega?],"SI",Tabla7[Categoría],$B37)/COUNTIFS(Tabla7[Año],$C$33,Tabla7[Mes],K$35,Tabla7[Se cumplió Plazo de entrega?],"*",Tabla7[Categoría],$B37),"") | ... O37: =IFERROR(COUNTIFS(Tabla7[Año],$C$33,Tabla7[Mes],O$35,Tabla7[Se cumplió Plazo de entrega?],"SI",Tabla7[Categoría],$B37)/COUNTIFS(Tabla7[Año],$C$33,Tabla7[Mes],O$35,Tabla7[Se cumplió Plazo de entrega?],"*",Tabla7[Categoría],$B37),"") | P37: =IFERROR(COUNTIFS(Tabla7[Año],$C$33,Tabla7[Mes],"*",Tabla7[Se cumplió Plazo de entrega?],"SI",Tabla7[Categoría],$B37)/COUNTIFS(Tabla7[Año],$C$33,Tabla7[Mes],"*",Tabla7[Se cumplió Plazo de entrega?],"*",Tabla7[Categoría],$B37),"") -> 0
A38: 3 | B38: =IF(Tablas!$J6="","",Tablas!$J6) -> 03 - FILTROS | D38: =IFERROR(COUNTIFS(Tabla7[Año],$C$33,Tabla7[Mes],D$35,Tabla7[Se cumplió Plazo de entrega?],"SI",Tabla7[Categoría],$B38)/COUNTIFS(Tabla7[Año],$C$33,Tabla7[Mes],D$35,Tabla7[Se cumplió Plazo de entrega?],"*",Tabla7[Categoría],$B38),"") -> 0 | E38: =IFERROR(COUNTIFS(Tabla7[Año],$C$33,Tabla7[Mes],E$35,Tabla7[Se cumplió Plazo de entrega?],"SI",Tabla7[Categoría],$B38)/COUNTIFS(Tabla7[Año],$C$33,Tabla7[Mes],E$35,Tabla7[Se cumplió Plazo de entrega?],"*",Tabla7[Categoría],$B38),"") -> 1 | F38: =IFERROR(COUNTIFS(Tabla7[Año],$C$33,Tabla7[Mes],F$35,Tabla7[Se cumplió Plazo de entrega?],"SI",Tabla7[Categoría],$B38)/COUNTIFS(Tabla7[Año],$C$33,Tabla7[Mes],F$35,Tabla7[Se cumplió Plazo de entrega?],"*",Tabla7[Categoría],$B38),"") -> 0.5 | G38: =IFERROR(COUNTIFS(Tabla7[Año],$C$33,Tabla7[Mes],G$35,Tabla7[Se cumplió Plazo de entrega?],"SI",Tabla7[Categoría],$B38)/COUNTIFS(Tabla7[Año],$C$33,Tabla7[Mes],G$35,Tabla7[Se cumplió Plazo de entrega?],"*",Tabla7[Categoría],$B38),"") | H38: =IFERROR(COUNTIFS(Tabla7[Año],$C$33,Tabla7[Mes],H$35,Tabla7[Se cumplió Plazo de entrega?],"SI",Tabla7[Categoría],$B38)/COUNTIFS(Tabla7[Año],$C$33,Tabla7[Mes],H$35,Tabla7[Se cumplió Plazo de entrega?],"*",Tabla7[Categoría],$B38),"") -> 0 | I38: =IFERROR(COUNTIFS(Tabla7[Año],$C$33,Tabla7[Mes],I$35,Tabla7[Se cumplió Plazo de entrega?],"SI",Tabla7[Categoría],$B38)/COUNTIFS(Tabla7[Año],$C$33,Tabla7[Mes],I$35,Tabla7[Se cumplió Plazo de entrega?],"*",Tabla7[Categoría],$B38),"") | J38: =IFERROR(COUNTIFS(Tabla7[Año],$C$33,Tabla7[Mes],J$35,Tabla7[Se cumplió Plazo de entrega?],"SI",Tabla7[Categoría],$B38)/COUNTIFS(Tabla7[Año],$C$33,Tabla7[Mes],J$35,Tabla7[Se cumplió Plazo de entrega?],"*",Tabla7[Categoría],$B38),"") | K38: =IFERROR(COUNTIFS(Tabla7[Año],$C$33,Tabla7[Mes],K$35,Tabla7[Se cumplió Plazo de entrega?],"SI",Tabla7[Categoría],$B38)/COUNTIFS(Tabla7[Año],$C$33,Tabla7[Mes],K$35,Tabla7[Se cumplió Plazo de entrega?],"*",Tabla7[Categoría],$B38),"") | ... O38: =IFERROR(COUNTIFS(Tabla7[Año],$C$33,Tabla7[Mes],O$35,Tabla7[Se cumplió Plazo de entrega?],"SI",Tabla7[Categoría],$B38)/COUNTIFS(Tabla7[Año],$C$33,Tabla7[Mes],O$35,Tabla7[Se cumplió Plazo de entrega?],"*",Tabla7[Categoría],$B38),"") | P38: =IFERROR(COUNTIFS(Tabla7[Año],$C$33,Tabla7[Mes],"*",Tabla7[Se cumplió Plazo de entrega?],"SI",Tabla7[Categoría],$B38)/COUNTIFS(Tabla7[Año],$C$33,Tabla7[Mes],"*",Tabla7[Se cumplió Plazo de entrega?],"*",Tabla7[Categoría],$B38),"") -> 0.33333333
A39: 4 | B39: =IF(Tablas!$J7="","",Tablas!$J7) -> 04 - FRENOS Y EMBRAGUES | D39: =IFERROR(COUNTIFS(Tabla7[Año],$C$33,Tabla7[Mes],D$35,Tabla7[Se cumplió Plazo de entrega?],"SI",Tabla7[Categoría],$B39)/COUNTIFS(Tabla7[Año],$C$33,Tabla7[Mes],D$35,Tabla7[Se cumplió Plazo de entrega?],"*",Tabla7[Categoría],$B39),"") -> 1 | E39: =IFERROR(COUNTIFS(Tabla7[Año],$C$33,Tabla7[Mes],E$35,Tabla7[Se cumplió Plazo de entrega?],"SI",Tabla7[Categoría],$B39)/COUNTIFS(Tabla7[Año],$C$33,Tabla7[Mes],E$35,Tabla7[Se cumplió Plazo de entrega?],"*",Tabla7[Categoría],$B39),"") -> 0.66666667 | F39: =IFERROR(COUNTIFS(Tabla7[Año],$C$33,Tabla7[Mes],F$35,Tabla7[Se cumplió Plazo de entrega?],"SI",Tabla7[Categoría],$B39)/COUNTIFS(Tabla7[Año],$C$33,Tabla7[Mes],F$35,Tabla7[Se cumplió Plazo de entrega?],"*",Tabla7[Categoría],$B39),"") | G39: =IFERROR(COUNTIFS(Tabla7[Año],$C$33,Tabla7[Mes],G$35,Tabla7[Se cumplió Plazo de entrega?],"SI",Tabla7[Categoría],$B39)/COUNTIFS(Tabla7[Año],$C$33,Tabla7[Mes],G$35,Tabla7[Se cumplió Plazo de entrega?],"*",Tabla7[Categoría],$B39),"") -> 0 | H39: =IFERROR(COUNTIFS(Tabla7[Año],$C$33,Tabla7[Mes],H$35,Tabla7[Se cumplió Plazo de entrega?],"SI",Tabla7[Categoría],$B39)/COUNTIFS(Tabla7[Año],$C$33,Tabla7[Mes],H$35,Tabla7[Se cumplió Plazo de entrega?],"*",Tabla7[Categoría],$B39),"") -> 0.33333333 | I39: =IFERROR(COUNTIFS(Tabla7[Año],$C$33,Tabla7[Mes],I$35,Tabla7[Se cumplió Plazo de entrega?],"SI",Tabla7[Categoría],$B39)/COUNTIFS(Tabla7[Año],$C$33,Tabla7[Mes],I$35,Tabla7[Se cumplió Plazo de entrega?],"*",Tabla7[Categoría],$B39),"") | J39: =IFERROR(COUNTIFS(Tabla7[Año],$C$33,Tabla7[Mes],J$35,Tabla7[Se cumplió Plazo de entrega?],"SI",Tabla7[Categoría],$B39)/COUNTIFS(Tabla7[Año],$C$33,Tabla7[Mes],J$35,Tabla7[Se cumplió Plazo de entrega?],"*",Tabla7[Categoría],$B39),"") | K39: =IFERROR(COUNTIFS(Tabla7[Año],$C$33,Tabla7[Mes],K$35,Tabla7[Se cumplió Plazo de entrega?],"SI",Tabla7[Categoría],$B39)/COUNTIFS(Tabla7[Año],$C$33,Tabla7[Mes],K$35,Tabla7[Se cumplió Plazo de entrega?],"*",Tabla7[Categoría],$B39),"") | ... O39: =IFERROR(COUNTIFS(Tabla7[Año],$C$33,Tabla7[Mes],O$35,Tabla7[Se cumplió Plazo de entrega?],"SI",Tabla7[Categoría],$B39)/COUNTIFS(Tabla7[Año],$C$33,Tabla7[Mes],O$35,Tabla7[Se cumplió Plazo de entrega?],"*",Tabla7[Categoría],$B39),"") | P39: =IFERROR(COUNTIFS(Tabla7[Año],$C$33,Tabla7[Mes],"*",Tabla7[Se cumplió Plazo de entrega?],"SI",Tabla7[Categoría],$B39)/COUNTIFS(Tabla7[Año],$C$33,Tabla7[Mes],"*",Tabla7[Se cumplió Plazo de entrega?],"*",Tabla7[Categoría],$B39),"") -> 0.4
A40: 5 | B40: =IF(Tablas!$J8="","",Tablas!$J8) -> 05 - COLISION | D40: =IFERROR(COUNTIFS(Tabla7[Año],$C$33,Tabla7[Mes],D$35,Tabla7[Se cumplió Plazo de entrega?],"SI",Tabla7[Categoría],$B40)/COUNTIFS(Tabla7[Año],$C$33,Tabla7[Mes],D$35,Tabla7[Se cumplió Plazo de entrega?],"*",Tabla7[Categoría],$B40),"") -> 0.75 | E40: =IFERROR(COUNTIFS(Tabla7[Año],$C$33,Tabla7[Mes],E$35,Tabla7[Se cumplió Plazo de entrega?],"SI",Tabla7[Categoría],$B40)/COUNTIFS(Tabla7[Año],$C$33,Tabla7[Mes],E$35,Tabla7[Se cumplió Plazo de entrega?],"*",Tabla7[Categoría],$B40),"") -> 0.090909091 | F40: =IFERROR(COUNTIFS(Tabla7[Año],$C$33,Tabla7[Mes],F$35,Tabla7[Se cumplió Plazo de entrega?],"SI",Tabla7[Categoría],$B40)/COUNTIFS(Tabla7[Año],$C$33,Tabla7[Mes],F$35,Tabla7[Se cumplió Plazo de entrega?],"*",Tabla7[Categoría],$B40),"") -> 0.2 | G40: =IFERROR(COUNTIFS(Tabla7[Año],$C$33,Tabla7[Mes],G$35,Tabla7[Se cumplió Plazo de entrega?],"SI",Tabla7[Categoría],$B40)/COUNTIFS(Tabla7[Año],$C$33,Tabla7[Mes],G$35,Tabla7[Se cumplió Plazo de entrega?],"*",Tabla7[Categoría],$B40),"") -> 0.33333333 | H40: =IFERROR(COUNTIFS(Tabla7[Año],$C$33,Tabla7[Mes],H$35,Tabla7[Se cumplió Plazo de entrega?],"SI",Tabla7[Categoría],$B40)/COUNTIFS(Tabla7[Año],$C$33,Tabla7[Mes],H$35,Tabla7[Se cumplió Plazo de entrega?],"*",Tabla7[Categoría],$B40),"") -> 0.55555556 | I40: =IFERROR(COUNTIFS(Tabla7[Año],$C$33,Tabla7[Mes],I$35,Tabla7[Se cumplió Plazo de entrega?],"SI",Tabla7[Categoría],$B40)/COUNTIFS(Tabla7[Año],$C$33,Tabla7[Mes],I$35,Tabla7[Se cumplió Plazo de entrega?],"*",Tabla7[Categoría],$B40),"") -> 0.75 | J40: =IFERROR(COUNTIFS(Tabla7[Año],$C$33,Tabla7[Mes],J$35,Tabla7[Se cumplió Plazo de entrega?],"SI",Tabla7[Categoría],$B40)/COUNTIFS(Tabla7[Año],$C$33,Tabla7[Mes],J$35,Tabla7[Se cumplió Plazo de entrega?],"*",Tabla7[Categoría],$B40),"") -> 0 | K40: =IFERROR(COUNTIFS(Tabla7[Año],$C$33,Tabla7[Mes],K$35,Tabla7[Se cumplió Plazo de entrega?],"SI",Tabla7[Categoría],$B40)/COUNTIFS(Tabla7[Año],$C$33,Tabla7[Mes],K$35,Tabla7[Se cumplió Plazo de entrega?],"*",Tabla7[Categoría],$B40),"") | ... O40: =IFERROR(COUNTIFS(Tabla7[Año],$C$33,Tabla7[Mes],O$35,Tabla7[Se cumplió Plazo de entrega?],"SI",Tabla7[Categoría],$B40)/COUNTIFS(Tabla7[Año],$C$33,Tabla7[Mes],O$35,Tabla7[Se cumplió Plazo de entrega?],"*",Tabla7[Categoría],$B40),"") | P40: =IFERROR(COUNTIFS(Tabla7[Año],$C$33,Tabla7[Mes],"*",Tabla7[Se cumplió Plazo de entrega?],"SI",Tabla7[Categoría],$B40)/COUNTIFS(Tabla7[Año],$C$33,Tabla7[Mes],"*",Tabla7[Se cumplió Plazo de entrega?],"*",Tabla7[Categoría],$B40),"") -> 0.36507937
A41: 6 | B41: =IF(Tablas!$J9="","",Tablas!$J9) -> 06 - AMORTIGUADORES | D41: =IFERROR(COUNTIFS(Tabla7[Año],$C$33,Tabla7[Mes],D$35,Tabla7[Se cumplió Plazo de entrega?],"SI",Tabla7[Categoría],$B41)/COUNTIFS(Tabla7[Año],$C$33,Tabla7[Mes],D$35,Tabla7[Se cumplió Plazo de entrega?],"*",Tabla7[Categoría],$B41),"") -> 0.25 | E41: =IFERROR(COUNTIFS(Tabla7[Año],$C$33,Tabla7[Mes],E$35,Tabla7[Se cumplió Plazo de entrega?],"SI",Tabla7[Categoría],$B41)/COUNTIFS(Tabla7[Año],$C$33,Tabla7[Mes],E$35,Tabla7[Se cumplió Plazo de entrega?],"*",Tabla7[Categoría],$B41),"") -> 1 | F41: =IFERROR(COUNTIFS(Tabla7[Año],$C$33,Tabla7[Mes],F$35,Tabla7[Se cumplió Plazo de entrega?],"SI",Tabla7[Categoría],$B41)/COUNTIFS(Tabla7[Año],$C$33,Tabla7[Mes],F$35,Tabla7[Se cumplió Plazo de entrega?],"*",Tabla7[Categoría],$B41),"") | G41: =IFERROR(COUNTIFS(Tabla7[Año],$C$33,Tabla7[Mes],G$35,Tabla7[Se cumplió Plazo de entrega?],"SI",Tabla7[Categoría],$B41)/COUNTIFS(Tabla7[Año],$C$33,Tabla7[Mes],G$35,Tabla7[Se cumplió Plazo de entrega?],"*",Tabla7[Categoría],$B41),"") -> 0.4 | H41: =IFERROR(COUNTIFS(Tabla7[Año],$C$33,Tabla7[Mes],H$35,Tabla7[Se cumplió Plazo de entrega?],"SI",Tabla7[Categoría],$B41)/COUNTIFS(Tabla7[Año],$C$33,Tabla7[Mes],H$35,Tabla7[Se cumplió Plazo de entrega?],"*",Tabla7[Categoría],$B41),"") -> 0.5 | I41: =IFERROR(COUNTIFS(Tabla7[Año],$C$33,Tabla7[Mes],I$35,Tabla7[Se cumplió Plazo de entrega?],"SI",Tabla7[Categoría],$B41)/COUNTIFS(Tabla7[Año],$C$33,Tabla7[Mes],I$35,Tabla7[Se cumplió Plazo de entrega?],"*",Tabla7[Categoría],$B41),"") -> 1 | J41: =IFERROR(COUNTIFS(Tabla7[Año],$C$33,Tabla7[Mes],J$35,Tabla7[Se cumplió Plazo de entrega?],"SI",Tabla7[Categoría],$B41)/COUNTIFS(Tabla7[Año],$C$33,Tabla7[Mes],J$35,Tabla7[Se cumplió Plazo de entrega?],"*",Tabla7[Categoría],$B41),"") -> 0.33333333 | K41: =IFERROR(COUNTIFS(Tabla7[Año],$C$33,Tabla7[Mes],K$35,Tabla7[Se cumplió Plazo de entrega?],"SI",Tabla7[Categoría],$B41)/COUNTIFS(Tabla7[Año],$C$33,Tabla7[Mes],K$35,Tabla7[Se cumplió Plazo de entrega?],"*",Tabla7[Categoría],$B41),"") | ... O41: =IFERROR(COUNTIFS(Tabla7[Año],$C$33,Tabla7[Mes],O$35,Tabla7[Se cumplió Plazo de entrega?],"SI",Tabla7[Categoría],$B41)/COUNTIFS(Tabla7[Año],$C$33,Tabla7[Mes],O$35,Tabla7[Se cumplió Plazo de entrega?],"*",Tabla7[Categoría],$B41),"") | P41: =IFERROR(COUNTIFS(Tabla7[Año],$C$33,Tabla7[Mes],"*",Tabla7[Se cumplió Plazo de entrega?],"SI",Tabla7[Categoría],$B41)/COUNTIFS(Tabla7[Año],$C$33,Tabla7[Mes],"*",Tabla7[Se cumplió Plazo de entrega?],"*",Tabla7[Categoría],$B41),"") -> 0.47368421
A42: 7 | B42: =IF(Tablas!$J10="","",Tablas!$J10) -> 07 - PEDALES Y POSAPIES | D42: =IFERROR(COUNTIFS(Tabla7[Año],$C$33,Tabla7[Mes],D$35,Tabla7[Se cumplió Plazo de entrega?],"SI",Tabla7[Categoría],$B42)/COUNTIFS(Tabla7[Año],$C$33,Tabla7[Mes],D$35,Tabla7[Se cumplió Plazo de entrega?],"*",Tabla7[Categoría],$B42),"") -> 0.5 | E42: =IFERROR(COUNTIFS(Tabla7[Año],$C$33,Tabla7[Mes],E$35,Tabla7[Se cumplió Plazo de entrega?],"SI",Tabla7[Categoría],$B42)/COUNTIFS(Tabla7[Año],$C$33,Tabla7[Mes],E$35,Tabla7[Se cumplió Plazo de entrega?],"*",Tabla7[Categoría],$B42),"") -> 1 | F42: =IFERROR(COUNTIFS(Tabla7[Año],$C$33,Tabla7[Mes],F$35,Tabla7[Se cumplió Plazo de entrega?],"SI",Tabla7[Categoría],$B42)/COUNTIFS(Tabla7[Año],$C$33,Tabla7[Mes],F$35,Tabla7[Se cumplió Plazo de entrega?],"*",Tabla7[Categoría],$B42),"") -> 0.66666667 | G42: =IFERROR(COUNTIFS(Tabla7[Año],$C$33,Tabla7[Mes],G$35,Tabla7[Se cumplió Plazo de entrega?],"SI",Tabla7[Categoría],$B42)/COUNTIFS(Tabla7[Año],$C$33,Tabla7[Mes],G$35,Tabla7[Se cumplió Plazo de entrega?],"*",Tabla7[Categoría],$B42),"") -> 0.6 | H42: =IFERROR(COUNTIFS(Tabla7[Año],$C$33,Tabla7[Mes],H$35,Tabla7[Se cumplió Plazo de entrega?],"SI",Tabla7[Categoría],$B42)/COUNTIFS(Tabla7[Año],$C$33,Tabla7[Mes],H$35,Tabla7[Se cumplió Plazo de entrega?],"*",Tabla7[Categoría],$B42),"") -> 0.33333333 | I42: =IFERROR(COUNTIFS(Tabla7[Año],$C$33,Tabla7[Mes],I$35,Tabla7[Se cumplió Plazo de entrega?],"SI",Tabla7[Categoría],$B42)/COUNTIFS(Tabla7[Año],$C$33,Tabla7[Mes],I$35,Tabla7[Se cumplió Plazo de entrega?],"*",Tabla7[Categoría],$B42),"") -> 1 | J42: =IFERROR(COUNTIFS(Tabla7[Año],$C$33,Tabla7[Mes],J$35,Tabla7[Se cumplió Plazo de entrega?],"SI",Tabla7[Categoría],$B42)/COUNTIFS(Tabla7[Año],$C$33,Tabla7[Mes],J$35,Tabla7[Se cumplió Plazo de entrega?],"*",Tabla7[Categoría],$B42),"") -> 0 | K42: =IFERROR(COUNTIFS(Tabla7[Año],$C$33,Tabla7[Mes],K$35,Tabla7[Se cumplió Plazo de entrega?],"SI",Tabla7[Categoría],$B42)/COUNTIFS(Tabla7[Año],$C$33,Tabla7[Mes],K$35,Tabla7[Se cumplió Plazo de entrega?],"*",Tabla7[Categoría],$B42),"") | ... O42: =IFERROR(COUNTIFS(Tabla7[Año],$C$33,Tabla7[Mes],O$35,Tabla7[Se cumplió Plazo de entrega?],"SI",Tabla7[Categoría],$B42)/COUNTIFS(Tabla7[Año],$C$33,Tabla7[Mes],O$35,Tabla7[Se cumplió Plazo de entrega?],"*",Tabla7[Categoría],$B42),"") | P42: =IFERROR(COUNTIFS(Tabla7[Año],$C$33,Tabla7[Mes],"*",Tabla7[Se cumplió Plazo de entrega?],"SI",Tabla7[Categoría],$B42)/COUNTIFS(Tabla7[Año],$C$33,Tabla7[Mes],"*",Tabla7[Se cumplió Plazo de entrega?],"*",Tabla7[Categoría],$B42),"") -> 0.57142857
A43: 8 | B43: =IF(Tablas!$J11="","",Tablas!$J11) -> 08 - ELECTRICO | D43: =IFERROR(COUNTIFS(Tabla7[Año],$C$33,Tabla7[Mes],D$35,Tabla7[Se cumplió Plazo de entrega?],"SI",Tabla7[Categoría],$B43)/COUNTIFS(Tabla7[Año],$C$33,Tabla7[Mes],D$35,Tabla7[Se cumplió Plazo de entrega?],"*",Tabla7[Categoría],$B43),"") -> 0.33333333 | E43: =IFERROR(COUNTIFS(Tabla7[Año],$C$33,Tabla7[Mes],E$35,Tabla7[Se cumplió Plazo de entrega?],"SI",Tabla7[Categoría],$B43)/COUNTIFS(Tabla7[Año],$C$33,Tabla7[Mes],E$35,Tabla7[Se cumplió Plazo de entrega?],"*",Tabla7[Categoría],$B43),"") | F43: =IFERROR(COUNTIFS(Tabla7[Año],$C$33,Tabla7[Mes],F$35,Tabla7[Se cumplió Plazo de entrega?],"SI",Tabla7[Categoría],$B43)/COUNTIFS(Tabla7[Año],$C$33,Tabla7[Mes],F$35,Tabla7[Se cumplió Plazo de entrega?],"*",Tabla7[Categoría],$B43),"") -> 1 | G43: =IFERROR(COUNTIFS(Tabla7[Año],$C$33,Tabla7[Mes],G$35,Tabla7[Se cumplió Plazo de entrega?],"SI",Tabla7[Categoría],$B43)/COUNTIFS(Tabla7[Año],$C$33,Tabla7[Mes],G$35,Tabla7[Se cumplió Plazo de entrega?],"*",Tabla7[Categoría],$B43),"") -> 0.42857143 | H43: =IFERROR(COUNTIFS(Tabla7[Año],$C$33,Tabla7[Mes],H$35,Tabla7[Se cumplió Plazo de entrega?],"SI",Tabla7[Categoría],$B43)/COUNTIFS(Tabla7[Año],$C$33,Tabla7[Mes],H$35,Tabla7[Se cumplió Plazo de entrega?],"*",Tabla7[Categoría],$B43),"") -> 0.6 | I43: =IFERROR(COUNTIFS(Tabla7[Año],$C$33,Tabla7[Mes],I$35,Tabla7[Se cumplió Plazo de entrega?],"SI",Tabla7[Categoría],$B43)/COUNTIFS(Tabla7[Año],$C$33,Tabla7[Mes],I$35,Tabla7[Se cumplió Plazo de entrega?],"*",Tabla7[Categoría],$B43),"") -> 0 | J43: =IFERROR(COUNTIFS(Tabla7[Año],$C$33,Tabla7[Mes],J$35,Tabla7[Se cumplió Plazo de entrega?],"SI",Tabla7[Categoría],$B43)/COUNTIFS(Tabla7[Año],$C$33,Tabla7[Mes],J$35,Tabla7[Se cumplió Plazo de entrega?],"*",Tabla7[Categoría],$B43),"") -> 0 | K43: =IFERROR(COUNTIFS(Tabla7[Año],$C$33,Tabla7[Mes],K$35,Tabla7[Se cumplió Plazo de entrega?],"SI",Tabla7[Categoría],$B43)/COUNTIFS(Tabla7[Año],$C$33,Tabla7[Mes],K$35,Tabla7[Se cumplió Plazo de entrega?],"*",Tabla7[Categoría],$B43),"") | ... O43: =IFERROR(COUNTIFS(Tabla7[Año],$C$33,Tabla7[Mes],O$35,Tabla7[Se cumplió Plazo de entrega?],"SI",Tabla7[Categoría],$B43)/COUNTIFS(Tabla7[Año],$C$33,Tabla7[Mes],O$35,Tabla7[Se cumplió Plazo de entrega?],"*",Tabla7[Categoría],$B43),"") | P43: =IFERROR(COUNTIFS(Tabla7[Año],$C$33,Tabla7[Mes],"*",Tabla7[Se cumplió Plazo de entrega?],"SI",Tabla7[Categoría],$B43)/COUNTIFS(Tabla7[Año],$C$33,Tabla7[Mes],"*",Tabla7[Se cumplió Plazo de entrega?],"*",Tabla7[Categoría],$B43),"") -> 0.5
A44: 9 | B44: =IF(Tablas!$J12="","",Tablas!$J12) -> 09 - PARTES DE MOTOR | D44: =IFERROR(COUNTIFS(Tabla7[Año],$C$33,Tabla7[Mes],D$35,Tabla7[Se cumplió Plazo de entrega?],"SI",Tabla7[Categoría],$B44)/COUNTIFS(Tabla7[Año],$C$33,Tabla7[Mes],D$35,Tabla7[Se cumplió Plazo de entrega?],"*",Tabla7[Categoría],$B44),"") -> 0.3 | E44: =IFERROR(COUNTIFS(Tabla7[Año],$C$33,Tabla7[Mes],E$35,Tabla7[Se cumplió Plazo de entrega?],"SI",Tabla7[Categoría],$B44)/COUNTIFS(Tabla7[Año],$C$33,Tabla7[Mes],E$35,Tabla7[Se cumplió Plazo de entrega?],"*",Tabla7[Categoría],$B44),"") -> 0.5 | F44: =IFERROR(COUNTIFS(Tabla7[Año],$C$33,Tabla7[Mes],F$35,Tabla7[Se cumplió Plazo de entrega?],"SI",Tabla7[Categoría],$B44)/COUNTIFS(Tabla7[Año],$C$33,Tabla7[Mes],F$35,Tabla7[Se cumplió Plazo de entrega?],"*",Tabla7[Categoría],$B44),"") -> 0.42857143 | G44: =IFERROR(COUNTIFS(Tabla7[Año],$C$33,Tabla7[Mes],G$35,Tabla7[Se cumplió Plazo de entrega?],"SI",Tabla7[Categoría],$B44)/COUNTIFS(Tabla7[Año],$C$33,Tabla7[Mes],G$35,Tabla7[Se cumplió Plazo de entrega?],"*",Tabla7[Categoría],$B44),"") -> 0.11764706 | H44: =IFERROR(COUNTIFS(Tabla7[Año],$C$33,Tabla7[Mes],H$35,Tabla7[Se cumplió Plazo de entrega?],"SI",Tabla7[Categoría],$B44)/COUNTIFS(Tabla7[Año],$C$33,Tabla7[Mes],H$35,Tabla7[Se cumplió Plazo de entrega?],"*",Tabla7[Categoría],$B44),"") -> 0.083333333 | I44: =IFERROR(COUNTIFS(Tabla7[Año],$C$33,Tabla7[Mes],I$35,Tabla7[Se cumplió Plazo de entrega?],"SI",Tabla7[Categoría],$B44)/COUNTIFS(Tabla7[Año],$C$33,Tabla7[Mes],I$35,Tabla7[Se cumplió Plazo de entrega?],"*",Tabla7[Categoría],$B44),"") -> 0 | J44: =IFERROR(COUNTIFS(Tabla7[Año],$C$33,Tabla7[Mes],J$35,Tabla7[Se cumplió Plazo de entrega?],"SI",Tabla7[Categoría],$B44)/COUNTIFS(Tabla7[Año],$C$33,Tabla7[Mes],J$35,Tabla7[Se cumplió Plazo de entrega?],"*",Tabla7[Categoría],$B44),"") -> 0.28571429 | K44: =IFERROR(COUNTIFS(Tabla7[Año],$C$33,Tabla7[Mes],K$35,Tabla7[Se cumplió Plazo de entrega?],"SI",Tabla7[Categoría],$B44)/COUNTIFS(Tabla7[Año],$C$33,Tabla7[Mes],K$35,Tabla7[Se cumplió Plazo de entrega?],"*",Tabla7[Categoría],$B44),"") | ... O44: =IFERROR(COUNTIFS(Tabla7[Año],$C$33,Tabla7[Mes],O$35,Tabla7[Se cumplió Plazo de entrega?],"SI",Tabla7[Categoría],$B44)/COUNTIFS(Tabla7[Año],$C$33,Tabla7[Mes],O$35,Tabla7[Se cumplió Plazo de entrega?],"*",Tabla7[Categoría],$B44),"") | P44: =IFERROR(COUNTIFS(Tabla7[Año],$C$33,Tabla7[Mes],"*",Tabla7[Se cumplió Plazo de entrega?],"SI",Tabla7[Categoría],$B44)/COUNTIFS(Tabla7[Año],$C$33,Tabla7[Mes],"*",Tabla7[Se cumplió Plazo de entrega?],"*",Tabla7[Categoría],$B44),"") -> 0.23611111
A45: 10 | B45: =IF(Tablas!$J13="","",Tablas!$J13) -> 10 - PALANCAS Y CHICOTES | D45: =IFERROR(COUNTIFS(Tabla7[Año],$C$33,Tabla7[Mes],D$35,Tabla7[Se cumplió Plazo de entrega?],"SI",Tabla7[Categoría],$B45)/COUNTIFS(Tabla7[Año],$C$33,Tabla7[Mes],D$35,Tabla7[Se cumplió Plazo de entrega?],"*",Tabla7[Categoría],$B45),"") -> 0.33333333 | E45: =IFERROR(COUNTIFS(Tabla7[Año],$C$33,Tabla7[Mes],E$35,Tabla7[Se cumplió Plazo de entrega?],"SI",Tabla7[Categoría],$B45)/COUNTIFS(Tabla7[Año],$C$33,Tabla7[Mes],E$35,Tabla7[Se cumplió Plazo de entrega?],"*",Tabla7[Categoría],$B45),"") -> 0.4 | F45: =IFERROR(COUNTIFS(Tabla7[Año],$C$33,Tabla7[Mes],F$35,Tabla7[Se cumplió Plazo de entrega?],"SI",Tabla7[Categoría],$B45)/COUNTIFS(Tabla7[Año],$C$33,Tabla7[Mes],F$35,Tabla7[Se cumplió Plazo de entrega?],"*",Tabla7[Categoría],$B45),"") -> 0 | G45: =IFERROR(COUNTIFS(Tabla7[Año],$C$33,Tabla7[Mes],G$35,Tabla7[Se cumplió Plazo de entrega?],"SI",Tabla7[Categoría],$B45)/COUNTIFS(Tabla7[Año],$C$33,Tabla7[Mes],G$35,Tabla7[Se cumplió Plazo de entrega?],"*",Tabla7[Categoría],$B45),"") -> 0.16666667 | H45: =IFERROR(COUNTIFS(Tabla7[Año],$C$33,Tabla7[Mes],H$35,Tabla7[Se cumplió Plazo de entrega?],"SI",Tabla7[Categoría],$B45)/COUNTIFS(Tabla7[Año],$C$33,Tabla7[Mes],H$35,Tabla7[Se cumplió Plazo de entrega?],"*",Tabla7[Categoría],$B45),"") -> 0.66666667 | I45: =IFERROR(COUNTIFS(Tabla7[Año],$C$33,Tabla7[Mes],I$35,Tabla7[Se cumplió Plazo de entrega?],"SI",Tabla7[Categoría],$B45)/COUNTIFS(Tabla7[Año],$C$33,Tabla7[Mes],I$35,Tabla7[Se cumplió Plazo de entrega?],"*",Tabla7[Categoría],$B45),"") | J45: =IFERROR(COUNTIFS(Tabla7[Año],$C$33,Tabla7[Mes],J$35,Tabla7[Se cumplió Plazo de entrega?],"SI",Tabla7[Categoría],$B45)/COUNTIFS(Tabla7[Año],$C$33,Tabla7[Mes],J$35,Tabla7[Se cumplió Plazo de entrega?],"*",Tabla7[Categoría],$B45),"") | K45: =IFERROR(COUNTIFS(Tabla7[Año],$C$33,Tabla7[Mes],K$35,Tabla7[Se cumplió Plazo de entrega?],"SI",Tabla7[Categoría],$B45)/COUNTIFS(Tabla7[Año],$C$33,Tabla7[Mes],K$35,Tabla7[Se cumplió Plazo de entrega?],"*",Tabla7[Categoría],$B45),"") | ... O45: =IFERROR(COUNTIFS(Tabla7[Año],$C$33,Tabla7[Mes],O$35,Tabla7[Se cumplió Plazo de entrega?],"SI",Tabla7[Categoría],$B45)/COUNTIFS(Tabla7[Año],$C$33,Tabla7[Mes],O$35,Tabla7[Se cumplió Plazo de entrega?],"*",Tabla7[Categoría],$B45),"") | P45: =IFERROR(COUNTIFS(Tabla7[Año],$C$33,Tabla7[Mes],"*",Tabla7[Se cumplió Plazo de entrega?],"SI",Tabla7[Categoría],$B45)/COUNTIFS(Tabla7[Año],$C$33,Tabla7[Mes],"*",Tabla7[Se cumplió Plazo de entrega?],"*",Tabla7[Categoría],$B45),"") -> 0.29166667
A46: 11 | B46: =IF(Tablas!$J14="","",Tablas!$J14) -> 11 - LLANTAS Y HULES | D46: =IFERROR(COUNTIFS(Tabla7[Año],$C$33,Tabla7[Mes],D$35,Tabla7[Se cumplió Plazo de entrega?],"SI",Tabla7[Categoría],$B46)/COUNTIFS(Tabla7[Año],$C$33,Tabla7[Mes],D$35,Tabla7[Se cumplió Plazo de entrega?],"*",Tabla7[Categoría],$B46),"") -> 0.5 | E46: =IFERROR(COUNTIFS(Tabla7[Año],$C$33,Tabla7[Mes],E$35,Tabla7[Se cumplió Plazo de entrega?],"SI",Tabla7[Categoría],$B46)/COUNTIFS(Tabla7[Año],$C$33,Tabla7[Mes],E$35,Tabla7[Se cumplió Plazo de entrega?],"*",Tabla7[Categoría],$B46),"") -> 0 | F46: =IFERROR(COUNTIFS(Tabla7[Año],$C$33,Tabla7[Mes],F$35,Tabla7[Se cumplió Plazo de entrega?],"SI",Tabla7[Categoría],$B46)/COUNTIFS(Tabla7[Año],$C$33,Tabla7[Mes],F$35,Tabla7[Se cumplió Plazo de entrega?],"*",Tabla7[Categoría],$B46),"") -> 0.16666667 | G46: =IFERROR(COUNTIFS(Tabla7[Año],$C$33,Tabla7[Mes],G$35,Tabla7[Se cumplió Plazo de entrega?],"SI",Tabla7[Categoría],$B46)/COUNTIFS(Tabla7[Año],$C$33,Tabla7[Mes],G$35,Tabla7[Se cumplió Plazo de entrega?],"*",Tabla7[Categoría],$B46),"") -> 0 | H46: =IFERROR(COUNTIFS(Tabla7[Año],$C$33,Tabla7[Mes],H$35,Tabla7[Se cumplió Plazo de entrega?],"SI",Tabla7[Categoría],$B46)/COUNTIFS(Tabla7[Año],$C$33,Tabla7[Mes],H$35,Tabla7[Se cumplió Plazo de entrega?],"*",Tabla7[Categoría],$B46),"") -> 0 | I46: =IFERROR(COUNTIFS(Tabla7[Año],$C$33,Tabla7[Mes],I$35,Tabla7[Se cumplió Plazo de entrega?],"SI",Tabla7[Categoría],$B46)/COUNTIFS(Tabla7[Año],$C$33,Tabla7[Mes],I$35,Tabla7[Se cumplió Plazo de entrega?],"*",Tabla7[Categoría],$B46),"") -> 0.5 | J46: =IFERROR(COUNTIFS(Tabla7[Año],$C$33,Tabla7[Mes],J$35,Tabla7[Se cumplió Plazo de entrega?],"SI",Tabla7[Categoría],$B46)/COUNTIFS(Tabla7[Año],$C$33,Tabla7[Mes],J$35,Tabla7[Se cumplió Plazo de entrega?],"*",Tabla7[Categoría],$B46),"") -> 0 | K46: =IFERROR(COUNTIFS(Tabla7[Año],$C$33,Tabla7[Mes],K$35,Tabla7[Se cumplió Plazo de entrega?],"SI",Tabla7[Categoría],$B46)/COUNTIFS(Tabla7[Año],$C$33,Tabla7[Mes],K$35,Tabla7[Se cumplió Plazo de entrega?],"*",Tabla7[Categoría],$B46),"") | ... O46: =IFERROR(COUNTIFS(Tabla7[Año],$C$33,Tabla7[Mes],O$35,Tabla7[Se cumplió Plazo de entrega?],"SI",Tabla7[Categoría],$B46)/COUNTIFS(Tabla7[Año],$C$33,Tabla7[Mes],O$35,Tabla7[Se cumplió Plazo de entrega?],"*",Tabla7[Categoría],$B46),"") | P46: =IFERROR(COUNTIFS(Tabla7[Año],$C$33,Tabla7[Mes],"*",Tabla7[Se cumplió Plazo de entrega?],"SI",Tabla7[Categoría],$B46)/COUNTIFS(Tabla7[Año],$C$33,Tabla7[Mes],"*",Tabla7[Se cumplió Plazo de entrega?],"*",Tabla7[Categoría],$B46),"") -> 0.13043478
A47: 12 | B47: =IF(Tablas!$J15="","",Tablas!$J15) -> 13 - TRACCION | D47: =IFERROR(COUNTIFS(Tabla7[Año],$C$33,Tabla7[Mes],D$35,Tabla7[Se cumplió Plazo de entrega?],"SI",Tabla7[Categoría],$B47)/COUNTIFS(Tabla7[Año],$C$33,Tabla7[Mes],D$35,Tabla7[Se cumplió Plazo de entrega?],"*",Tabla7[Categoría],$B47),"") -> 0.2 | E47: =IFERROR(COUNTIFS(Tabla7[Año],$C$33,Tabla7[Mes],E$35,Tabla7[Se cumplió Plazo de entrega?],"SI",Tabla7[Categoría],$B47)/COUNTIFS(Tabla7[Año],$C$33,Tabla7[Mes],E$35,Tabla7[Se cumplió Plazo de entrega?],"*",Tabla7[Categoría],$B47),"") -> 0 | F47: =IFERROR(COUNTIFS(Tabla7[Año],$C$33,Tabla7[Mes],F$35,Tabla7[Se cumplió Plazo de entrega?],"SI",Tabla7[Categoría],$B47)/COUNTIFS(Tabla7[Año],$C$33,Tabla7[Mes],F$35,Tabla7[Se cumplió Plazo de entrega?],"*",Tabla7[Categoría],$B47),"") -> 0 | G47: =IFERROR(COUNTIFS(Tabla7[Año],$C$33,Tabla7[Mes],G$35,Tabla7[Se cumplió Plazo de entrega?],"SI",Tabla7[Categoría],$B47)/COUNTIFS(Tabla7[Año],$C$33,Tabla7[Mes],G$35,Tabla7[Se cumplió Plazo de entrega?],"*",Tabla7[Categoría],$B47),"") -> 0.33333333 | H47: =IFERROR(COUNTIFS(Tabla7[Año],$C$33,Tabla7[Mes],H$35,Tabla7[Se cumplió Plazo de entrega?],"SI",Tabla7[Categoría],$B47)/COUNTIFS(Tabla7[Año],$C$33,Tabla7[Mes],H$35,Tabla7[Se cumplió Plazo de entrega?],"*",Tabla7[Categoría],$B47),"") -> 0.33333333 | I47: =IFERROR(COUNTIFS(Tabla7[Año],$C$33,Tabla7[Mes],I$35,Tabla7[Se cumplió Plazo de entrega?],"SI",Tabla7[Categoría],$B47)/COUNTIFS(Tabla7[Año],$C$33,Tabla7[Mes],I$35,Tabla7[Se cumplió Plazo de entrega?],"*",Tabla7[Categoría],$B47),"") | J47: =IFERROR(COUNTIFS(Tabla7[Año],$C$33,Tabla7[Mes],J$35,Tabla7[Se cumplió Plazo de entrega?],"SI",Tabla7[Categoría],$B47)/COUNTIFS(Tabla7[Año],$C$33,Tabla7[Mes],J$35,Tabla7[Se cumplió Plazo de entrega?],"*",Tabla7[Categoría],$B47),"") -> 0 | K47: =IFERROR(COUNTIFS(Tabla7[Año],$C$33,Tabla7[Mes],K$35,Tabla7[Se cumplió Plazo de entrega?],"SI",Tabla7[Categoría],$B47)/COUNTIFS(Tabla7[Año],$C$33,Tabla7[Mes],K$35,Tabla7[Se cumplió Plazo de entrega?],"*",Tabla7[Categoría],$B47),"") | ... O47: =IFERROR(COUNTIFS(Tabla7[Año],$C$33,Tabla7[Mes],O$35,Tabla7[Se cumplió Plazo de entrega?],"SI",Tabla7[Categoría],$B47)/COUNTIFS(Tabla7[Año],$C$33,Tabla7[Mes],O$35,Tabla7[Se cumplió Plazo de entrega?],"*",Tabla7[Categoría],$B47),"") | P47: =IFERROR(COUNTIFS(Tabla7[Año],$C$33,Tabla7[Mes],"*",Tabla7[Se cumplió Plazo de entrega?],"SI",Tabla7[Categoría],$B47)/COUNTIFS(Tabla7[Año],$C$33,Tabla7[Mes],"*",Tabla7[Se cumplió Plazo de entrega?],"*",Tabla7[Categoría],$B47),"") -> 0.2
... A55: 20 | B55: =IF(Tablas!$J23="","",Tablas!$J23) | D55: =IFERROR(COUNTIFS(Tabla7[Año],$C$33,Tabla7[Mes],D$35,Tabla7[Se cumplió Plazo de entrega?],"SI",Tabla7[Categoría],$B55)/COUNTIFS(Tabla7[Año],$C$33,Tabla7[Mes],D$35,Tabla7[Se cumplió Plazo de entrega?],"*",Tabla7[Categoría],$B55),"") | E55: =IFERROR(COUNTIFS(Tabla7[Año],$C$33,Tabla7[Mes],E$35,Tabla7[Se cumplió Plazo de entrega?],"SI",Tabla7[Categoría],$B55)/COUNTIFS(Tabla7[Año],$C$33,Tabla7[Mes],E$35,Tabla7[Se cumplió Plazo de entrega?],"*",Tabla7[Categoría],$B55),"") | F55: =IFERROR(COUNTIFS(Tabla7[Año],$C$33,Tabla7[Mes],F$35,Tabla7[Se cumplió Plazo de entrega?],"SI",Tabla7[Categoría],$B55)/COUNTIFS(Tabla7[Año],$C$33,Tabla7[Mes],F$35,Tabla7[Se cumplió Plazo de entrega?],"*",Tabla7[Categoría],$B55),"") | G55: =IFERROR(COUNTIFS(Tabla7[Año],$C$33,Tabla7[Mes],G$35,Tabla7[Se cumplió Plazo de entrega?],"SI",Tabla7[Categoría],$B55)/COUNTIFS(Tabla7[Año],$C$33,Tabla7[Mes],G$35,Tabla7[Se cumplió Plazo de entrega?],"*",Tabla7[Categoría],$B55),"") | H55: =IFERROR(COUNTIFS(Tabla7[Año],$C$33,Tabla7[Mes],H$35,Tabla7[Se cumplió Plazo de entrega?],"SI",Tabla7[Categoría],$B55)/COUNTIFS(Tabla7[Año],$C$33,Tabla7[Mes],H$35,Tabla7[Se cumplió Plazo de entrega?],"*",Tabla7[Categoría],$B55),"") | I55: =IFERROR(COUNTIFS(Tabla7[Año],$C$33,Tabla7[Mes],I$35,Tabla7[Se cumplió Plazo de entrega?],"SI",Tabla7[Categoría],$B55)/COUNTIFS(Tabla7[Año],$C$33,Tabla7[Mes],I$35,Tabla7[Se cumplió Plazo de entrega?],"*",Tabla7[Categoría],$B55),"") | J55: =IFERROR(COUNTIFS(Tabla7[Año],$C$33,Tabla7[Mes],J$35,Tabla7[Se cumplió Plazo de entrega?],"SI",Tabla7[Categoría],$B55)/COUNTIFS(Tabla7[Año],$C$33,Tabla7[Mes],J$35,Tabla7[Se cumplió Plazo de entrega?],"*",Tabla7[Categoría],$B55),"") | K55: =IFERROR(COUNTIFS(Tabla7[Año],$C$33,Tabla7[Mes],K$35,Tabla7[Se cumplió Plazo de entrega?],"SI",Tabla7[Categoría],$B55)/COUNTIFS(Tabla7[Año],$C$33,Tabla7[Mes],K$35,Tabla7[Se cumplió Plazo de entrega?],"*",Tabla7[Categoría],$B55),"") | ... O55: =IFERROR(COUNTIFS(Tabla7[Año],$C$33,Tabla7[Mes],O$35,Tabla7[Se cumplió Plazo de entrega?],"SI",Tabla7[Categoría],$B55)/COUNTIFS(Tabla7[Año],$C$33,Tabla7[Mes],O$35,Tabla7[Se cumplió Plazo de entrega?],"*",Tabla7[Categoría],$B55),"") | P55: =IFERROR(COUNTIFS(Tabla7[Año],$C$33,Tabla7[Mes],"*",Tabla7[Se cumplió Plazo de entrega?],"SI",Tabla7[Categoría],$B55)/COUNTIFS(Tabla7[Año],$C$33,Tabla7[Mes],"*",Tabla7[Se cumplió Plazo de entrega?],"*",Tabla7[Categoría],$B55),"")
B57: 3.3 PEDIDOS ENTREGADOS A TIEMPO POR TIPO DE CLIENTE
B59: Año: | C59: 2018
B61: TIPO DE CLIENTE | D61: Ene | E61: Feb | F61: Mar | G61: Abr | H61: May | I61: Jun | J61: Jul | K61: Ago | L61: Set | M61: Oct | N61: Nov | O61: Dic | P61: Total
A62: 1 | B62: =IF(Tablas!$L4="","",Tablas!$L4) -> RETAIL | D62: =IFERROR(COUNTIFS(Tabla7[Año],$C$59,Tabla7[Mes],D$61,Tabla7[Se cumplió Plazo de entrega?],"SI",Tabla7[Tipo de cliente],$B62)/COUNTIFS(Tabla7[Año],$C$59,Tabla7[Mes],D$61,Tabla7[Se cumplió Plazo de entrega?],"*",Tabla7[Tipo de cliente],$B62),"") -> 0.22222222 | E62: =IFERROR(COUNTIFS(Tabla7[Año],$C$59,Tabla7[Mes],E$61,Tabla7[Se cumplió Plazo de entrega?],"SI",Tabla7[Tipo de cliente],$B62)/COUNTIFS(Tabla7[Año],$C$59,Tabla7[Mes],E$61,Tabla7[Se cumplió Plazo de entrega?],"*",Tabla7[Tipo de cliente],$B62),"") -> 0.41666667 | F62: =IFERROR(COUNTIFS(Tabla7[Año],$C$59,Tabla7[Mes],F$61,Tabla7[Se cumplió Plazo de entrega?],"SI",Tabla7[Tipo de cliente],$B62)/COUNTIFS(Tabla7[Año],$C$59,Tabla7[Mes],F$61,Tabla7[Se cumplió Plazo de entrega?],"*",Tabla7[Tipo de cliente],$B62),"") -> 0.22222222 | G62: =IFERROR(COUNTIFS(Tabla7[Año],$C$59,Tabla7[Mes],G$61,Tabla7[Se cumplió Plazo de entrega?],"SI",Tabla7[Tipo de cliente],$B62)/COUNTIFS(Tabla7[Año],$C$59,Tabla7[Mes],G$61,Tabla7[Se cumplió Plazo de entrega?],"*",Tabla7[Tipo de cliente],$B62),"") -> 0.23809524 | H62: =IFERROR(COUNTIFS(Tabla7[Año],$C$59,Tabla7[Mes],H$61,Tabla7[Se cumplió Plazo de entrega?],"SI",Tabla7[Tipo de cliente],$B62)/COUNTIFS(Tabla7[Año],$C$59,Tabla7[Mes],H$61,Tabla7[Se cumplió Plazo de entrega?],"*",Tabla7[Tipo de cliente],$B62),"") -> 0.4 | I62: =IFERROR(COUNTIFS(Tabla7[Año],$C$59,Tabla7[Mes],I$61,Tabla7[Se cumplió Plazo de entrega?],"SI",Tabla7[Tipo de cliente],$B62)/COUNTIFS(Tabla7[Año],$C$59,Tabla7[Mes],I$61,Tabla7[Se cumplió Plazo de entrega?],"*",Tabla7[Tipo de cliente],$B62),"") -> 0.66666667 | J62: =IFERROR(COUNTIFS(Tabla7[Año],$C$59,Tabla7[Mes],J$61,Tabla7[Se cumplió Plazo de entrega?],"SI",Tabla7[Tipo de cliente],$B62)/COUNTIFS(Tabla7[Año],$C$59,Tabla7[Mes],J$61,Tabla7[Se cumplió Plazo de entrega?],"*",Tabla7[Tipo de cliente],$B62),"") -> 0.25 | K62: =IFERROR(COUNTIFS(Tabla7[Año],$C$59,Tabla7[Mes],K$61,Tabla7[Se cumplió Plazo de entrega?],"SI",Tabla7[Tipo de cliente],$B62)/COUNTIFS(Tabla7[Año],$C$59,Tabla7[Mes],K$61,Tabla7[Se cumplió Plazo de entrega?],"*",Tabla7[Tipo de cliente],$B62),"") | ... O62: =IFERROR(COUNTIFS(Tabla7[Año],$C$59,Tabla7[Mes],O$61,Tabla7[Se cumplió Plazo de entrega?],"SI",Tabla7[Tipo de cliente],$B62)/COUNTIFS(Tabla7[Año],$C$59,Tabla7[Mes],O$61,Tabla7[Se cumplió Plazo de entrega?],"*",Tabla7[Tipo de cliente],$B62),"") | P62: =IFERROR(COUNTIFS(Tabla7[Año],$C$33,Tabla7[Mes],"*",Tabla7[Se cumplió Plazo de entrega?],"SI",Tabla7[Tipo de cliente],$B62)/COUNTIFS(Tabla7[Año],$C$33,Tabla7[Mes],"*",Tabla7[Se cumplió Plazo de entrega?],"*",Tabla7[Tipo de cliente],$B62),"") -> 0.3164557
A63: 2 | B63: =IF(Tablas!$L5="","",Tablas!$L5) -> DISTRIBUIDORES | D63: =IFERROR(COUNTIFS(Tabla7[Año],$C$59,Tabla7[Mes],D$61,Tabla7[Se cumplió Plazo de entrega?],"SI",Tabla7[Tipo de cliente],$B63)/COUNTIFS(Tabla7[Año],$C$59,Tabla7[Mes],D$61,Tabla7[Se cumplió Plazo de entrega?],"*",Tabla7[Tipo de cliente],$B63),"") -> 0 | E63: =IFERROR(COUNTIFS(Tabla7[Año],$C$59,Tabla7[Mes],E$61,Tabla7[Se cumplió Plazo de entrega?],"SI",Tabla7[Tipo de cliente],$B63)/COUNTIFS(Tabla7[Año],$C$59,Tabla7[Mes],E$61,Tabla7[Se cumplió Plazo de entrega?],"*",Tabla7[Tipo de cliente],$B63),"") -> 0.66666667 | F63: =IFERROR(COUNTIFS(Tabla7[Año],$C$59,Tabla7[Mes],F$61,Tabla7[Se cumplió Plazo de entrega?],"SI",Tabla7[Tipo de cliente],$B63)/COUNTIFS(Tabla7[Año],$C$59,Tabla7[Mes],F$61,Tabla7[Se cumplió Plazo de entrega?],"*",Tabla7[Tipo de cliente],$B63),"") -> 1 | G63: =IFERROR(COUNTIFS(Tabla7[Año],$C$59,Tabla7[Mes],G$61,Tabla7[Se cumplió Plazo de entrega?],"SI",Tabla7[Tipo de cliente],$B63)/COUNTIFS(Tabla7[Año],$C$59,Tabla7[Mes],G$61,Tabla7[Se cumplió Plazo de entrega?],"*",Tabla7[Tipo de cliente],$B63),"") -> 0.5 | H63: =IFERROR(COUNTIFS(Tabla7[Año],$C$59,Tabla7[Mes],H$61,Tabla7[Se cumplió Plazo de entrega?],"SI",Tabla7[Tipo de cliente],$B63)/COUNTIFS(Tabla7[Año],$C$59,Tabla7[Mes],H$61,Tabla7[Se cumplió Plazo de entrega?],"*",Tabla7[Tipo de cliente],$B63),"") -> 0.2 | I63: =IFERROR(COUNTIFS(Tabla7[Año],$C$59,Tabla7[Mes],I$61,Tabla7[Se cumplió Plazo de entrega?],"SI",Tabla7[Tipo de cliente],$B63)/COUNTIFS(Tabla7[Año],$C$59,Tabla7[Mes],I$61,Tabla7[Se cumplió Plazo de entrega?],"*",Tabla7[Tipo de cliente],$B63),"") -> 0 | J63: =IFERROR(COUNTIFS(Tabla7[Año],$C$59,Tabla7[Mes],J$61,Tabla7[Se cumplió Plazo de entrega?],"SI",Tabla7[Tipo de cliente],$B63)/COUNTIFS(Tabla7[Año],$C$59,Tabla7[Mes],J$61,Tabla7[Se cumplió Plazo de entrega?],"*",Tabla7[Tipo de cliente],$B63),"") -> 0 | K63: =IFERROR(COUNTIFS(Tabla7[Año],$C$59,Tabla7[Mes],K$61,Tabla7[Se cumplió Plazo de entrega?],"SI",Tabla7[Tipo de cliente],$B63)/COUNTIFS(Tabla7[Año],$C$59,Tabla7[Mes],K$61,Tabla7[Se cumplió Plazo de entrega?],"*",Tabla7[Tipo de cliente],$B63),"") | ... O63: =IFERROR(COUNTIFS(Tabla7[Año],$C$59,Tabla7[Mes],O$61,Tabla7[Se cumplió Plazo de entrega?],"SI",Tabla7[Tipo de cliente],$B63)/COUNTIFS(Tabla7[Año],$C$59,Tabla7[Mes],O$61,Tabla7[Se cumplió Plazo de entrega?],"*",Tabla7[Tipo de cliente],$B63),"") | P63: =IFERROR(COUNTIFS(Tabla7[Año],$C$33,Tabla7[Mes],"*",Tabla7[Se cumplió Plazo de entrega?],"SI",Tabla7[Tipo de cliente],$B63)/COUNTIFS(Tabla7[Año],$C$33,Tabla7[Mes],"*",Tabla7[Se cumplió Plazo de entrega?],"*",Tabla7[Tipo de cliente],$B63),"") -> 0.43478261
A64: 3 | B64: =IF(Tablas!$L6="","",Tablas!$L6) -> MAYORISTAS | D64: =IFERROR(COUNTIFS(Tabla7[Año],$C$59,Tabla7[Mes],D$61,Tabla7[Se cumplió Plazo de entrega?],"SI",Tabla7[Tipo de cliente],$B64)/COUNTIFS(Tabla7[Año],$C$59,Tabla7[Mes],D$61,Tabla7[Se cumplió Plazo de entrega?],"*",Tabla7[Tipo de cliente],$B64),"") -> 0.25 | E64: =IFERROR(COUNTIFS(Tabla7[Año],$C$59,Tabla7[Mes],E$61,Tabla7[Se cumplió Plazo de entrega?],"SI",Tabla7[Tipo de cliente],$B64)/COUNTIFS(Tabla7[Año],$C$59,Tabla7[Mes],E$61,Tabla7[Se cumplió Plazo de entrega?],"*",Tabla7[Tipo de cliente],$B64),"") -> 0.5 | F64: =IFERROR(COUNTIFS(Tabla7[Año],$C$59,Tabla7[Mes],F$61,Tabla7[Se cumplió Plazo de entrega?],"SI",Tabla7[Tipo de cliente],$B64)/COUNTIFS(Tabla7[Año],$C$59,Tabla7[Mes],F$61,Tabla7[Se cumplió Plazo de entrega?],"*",Tabla7[Tipo de cliente],$B64),"") -> 0 | G64: =IFERROR(COUNTIFS(Tabla7[Año],$C$59,Tabla7[Mes],G$61,Tabla7[Se cumplió Plazo de entrega?],"SI",Tabla7[Tipo de cliente],$B64)/COUNTIFS(Tabla7[Año],$C$59,Tabla7[Mes],G$61,Tabla7[Se cumplió Plazo de entrega?],"*",Tabla7[Tipo de cliente],$B64),"") -> 0 | H64: =IFERROR(COUNTIFS(Tabla7[Año],$C$59,Tabla7[Mes],H$61,Tabla7[Se cumplió Plazo de entrega?],"SI",Tabla7[Tipo de cliente],$B64)/COUNTIFS(Tabla7[Año],$C$59,Tabla7[Mes],H$61,Tabla7[Se cumplió Plazo de entrega?],"*",Tabla7[Tipo de cliente],$B64),"") -> 0.28571429 | I64: =IFERROR(COUNTIFS(Tabla7[Año],$C$59,Tabla7[Mes],I$61,Tabla7[Se cumplió Plazo de entrega?],"SI",Tabla7[Tipo de cliente],$B64)/COUNTIFS(Tabla7[Año],$C$59,Tabla7[Mes],I$61,Tabla7[Se cumplió Plazo de entrega?],"*",Tabla7[Tipo de cliente],$B64),"") -> 0.5 | J64: =IFERROR(COUNTIFS(Tabla7[Año],$C$59,Tabla7[Mes],J$61,Tabla7[Se cumplió Plazo de entrega?],"SI",Tabla7[Tipo de cliente],$B64)/COUNTIFS(Tabla7[Año],$C$59,Tabla7[Mes],J$61,Tabla7[Se cumplió Plazo de entrega?],"*",Tabla7[Tipo de cliente],$B64),"") | K64: =IFERROR(COUNTIFS(Tabla7[Año],$C$59,Tabla7[Mes],K$61,Tabla7[Se cumplió Plazo de entrega?],"SI",Tabla7[Tipo de cliente],$B64)/COUNTIFS(Tabla7[Año],$C$59,Tabla7[Mes],K$61,Tabla7[Se cumplió Plazo de entrega?],"*",Tabla7[Tipo de cliente],$B64),"") | ... O64: =IFERROR(COUNTIFS(Tabla7[Año],$C$59,Tabla7[Mes],O$61,Tabla7[Se cumplió Plazo de entrega?],"SI",Tabla7[Tipo de cliente],$B64)/COUNTIFS(Tabla7[Año],$C$59,Tabla7[Mes],O$61,Tabla7[Se cumplió Plazo de entrega?],"*",Tabla7[Tipo de cliente],$B64),"") | P64: =IFERROR(COUNTIFS(Tabla7[Año],$C$33,Tabla7[Mes],"*",Tabla7[Se cumplió Plazo de entrega?],"SI",Tabla7[Tipo de cliente],$B64)/COUNTIFS(Tabla7[Año],$C$33,Tabla7[Mes],"*",Tabla7[Se cumplió Plazo de entrega?],"*",Tabla7[Tipo de cliente],$B64),"") -> 0.2
A65: 4 | B65: =IF(Tablas!$L7="","",Tablas!$L7) -> CORPORATIVO | D65: =IFERROR(COUNTIFS(Tabla7[Año],$C$59,Tabla7[Mes],D$61,Tabla7[Se cumplió Plazo de entrega?],"SI",Tabla7[Tipo de cliente],$B65)/COUNTIFS(Tabla7[Año],$C$59,Tabla7[Mes],D$61,Tabla7[Se cumplió Plazo de entrega?],"*",Tabla7[Tipo de cliente],$B65),"") -> 0 | E65: =IFERROR(COUNTIFS(Tabla7[Año],$C$59,Tabla7[Mes],E$61,Tabla7[Se cumplió Plazo de entrega?],"SI",Tabla7[Tipo de cliente],$B65)/COUNTIFS(Tabla7[Año],$C$59,Tabla7[Mes],E$61,Tabla7[Se cumplió Plazo de entrega?],"*",Tabla7[Tipo de cliente],$B65),"") -> 0 | F65: =IFERROR(COUNTIFS(Tabla7[Año],$C$59,Tabla7[Mes],F$61,Tabla7[Se cumplió Plazo de entrega?],"SI",Tabla7[Tipo de cliente],$B65)/COUNTIFS(Tabla7[Año],$C$59,Tabla7[Mes],F$61,Tabla7[Se cumplió Plazo de entrega?],"*",Tabla7[Tipo de cliente],$B65),"") -> 0.2 | G65: =IFERROR(COUNTIFS(Tabla7[Año],$C$59,Tabla7[Mes],G$61,Tabla7[Se cumplió Plazo de entrega?],"SI",Tabla7[Tipo de cliente],$B65)/COUNTIFS(Tabla7[Año],$C$59,Tabla7[Mes],G$61,Tabla7[Se cumplió Plazo de entrega?],"*",Tabla7[Tipo de cliente],$B65),"") -> 0.6 | H65: =IFERROR(COUNTIFS(Tabla7[Año],$C$59,Tabla7[Mes],H$61,Tabla7[Se cumplió Plazo de entrega?],"SI",Tabla7[Tipo de cliente],$B65)/COUNTIFS(Tabla7[Año],$C$59,Tabla7[Mes],H$61,Tabla7[Se cumplió Plazo de entrega?],"*",Tabla7[Tipo de cliente],$B65),"") -> 0.4 | I65: =IFERROR(COUNTIFS(Tabla7[Año],$C$59,Tabla7[Mes],I$61,Tabla7[Se cumplió Plazo de entrega?],"SI",Tabla7[Tipo de cliente],$B65)/COUNTIFS(Tabla7[Año],$C$59,Tabla7[Mes],I$61,Tabla7[Se cumplió Plazo de entrega?],"*",Tabla7[Tipo de cliente],$B65),"") -> 0 | J65: =IFERROR(COUNTIFS(Tabla7[Año],$C$59,Tabla7[Mes],J$61,Tabla7[Se cumplió Plazo de entrega?],"SI",Tabla7[Tipo de cliente],$B65)/COUNTIFS(Tabla7[Año],$C$59,Tabla7[Mes],J$61,Tabla7[Se cumplió Plazo de entrega?],"*",Tabla7[Tipo de cliente],$B65),"") -> 0.4 | K65: =IFERROR(COUNTIFS(Tabla7[Año],$C$59,Tabla7[Mes],K$61,Tabla7[Se cumplió Plazo de entrega?],"SI",Tabla7[Tipo de cliente],$B65)/COUNTIFS(Tabla7[Año],$C$59,Tabla7[Mes],K$61,Tabla7[Se cumplió Plazo de entrega?],"*",Tabla7[Tipo de cliente],$B65),"") | ... O65: =IFERROR(COUNTIFS(Tabla7[Año],$C$59,Tabla7[Mes],O$61,Tabla7[Se cumplió Plazo de entrega?],"SI",Tabla7[Tipo de cliente],$B65)/COUNTIFS(Tabla7[Año],$C$59,Tabla7[Mes],O$61,Tabla7[Se cumplió Plazo de entrega?],"*",Tabla7[Tipo de cliente],$B65),"") | P65: =IFERROR(COUNTIFS(Tabla7[Año],$C$33,Tabla7[Mes],"*",Tabla7[Se cumplió Plazo de entrega?],"SI",Tabla7[Tipo de cliente],$B65)/COUNTIFS(Tabla7[Año],$C$33,Tabla7[Mes],"*",Tabla7[Se cumplió Plazo de entrega?],"*",Tabla7[Tipo de cliente],$B65),"") -> 0.26666667
A66: 5 | B66: =IF(Tablas!$L8="","",Tablas!$L8) -> PROYECTOS | D66: =IFERROR(COUNTIFS(Tabla7[Año],$C$59,Tabla7[Mes],D$61,Tabla7[Se cumplió Plazo de entrega?],"SI",Tabla7[Tipo de cliente],$B66)/COUNTIFS(Tabla7[Año],$C$59,Tabla7[Mes],D$61,Tabla7[Se cumplió Plazo de entrega?],"*",Tabla7[Tipo de cliente],$B66),"") -> 1 | E66: =IFERROR(COUNTIFS(Tabla7[Año],$C$59,Tabla7[Mes],E$61,Tabla7[Se cumplió Plazo de entrega?],"SI",Tabla7[Tipo de cliente],$B66)/COUNTIFS(Tabla7[Año],$C$59,Tabla7[Mes],E$61,Tabla7[Se cumplió Plazo de entrega?],"*",Tabla7[Tipo de cliente],$B66),"") -> 0.625 | F66: =IFERROR(COUNTIFS(Tabla7[Año],$C$59,Tabla7[Mes],F$61,Tabla7[Se cumplió Plazo de entrega?],"SI",Tabla7[Tipo de cliente],$B66)/COUNTIFS(Tabla7[Año],$C$59,Tabla7[Mes],F$61,Tabla7[Se cumplió Plazo de entrega?],"*",Tabla7[Tipo de cliente],$B66),"") -> 0.5 | G66: =IFERROR(COUNTIFS(Tabla7[Año],$C$59,Tabla7[Mes],G$61,Tabla7[Se cumplió Plazo de entrega?],"SI",Tabla7[Tipo de cliente],$B66)/COUNTIFS(Tabla7[Año],$C$59,Tabla7[Mes],G$61,Tabla7[Se cumplió Plazo de entrega?],"*",Tabla7[Tipo de cliente],$B66),"") -> 0.2 | H66: =IFERROR(COUNTIFS(Tabla7[Año],$C$59,Tabla7[Mes],H$61,Tabla7[Se cumplió Plazo de entrega?],"SI",Tabla7[Tipo de cliente],$B66)/COUNTIFS(Tabla7[Año],$C$59,Tabla7[Mes],H$61,Tabla7[Se cumplió Plazo de entrega?],"*",Tabla7[Tipo de cliente],$B66),"") -> 0 | I66: =IFERROR(COUNTIFS(Tabla7[Año],$C$59,Tabla7[Mes],I$61,Tabla7[Se cumplió Plazo de entrega?],"SI",Tabla7[Tipo de cliente],$B66)/COUNTIFS(Tabla7[Año],$C$59,Tabla7[Mes],I$61,Tabla7[Se cumplió Plazo de entrega?],"*",Tabla7[Tipo de cliente],$B66),"") -> 0 | J66: =IFERROR(COUNTIFS(Tabla7[Año],$C$59,Tabla7[Mes],J$61,Tabla7[Se cumplió Plazo de entrega?],"SI",Tabla7[Tipo de cliente],$B66)/COUNTIFS(Tabla7[Año],$C$59,Tabla7[Mes],J$61,Tabla7[Se cumplió Plazo de entrega?],"*",Tabla7[Tipo de cliente],$B66),"") -> 0 | K66: =IFERROR(COUNTIFS(Tabla7[Año],$C$59,Tabla7[Mes],K$61,Tabla7[Se cumplió Plazo de entrega?],"SI",Tabla7[Tipo de cliente],$B66)/COUNTIFS(Tabla7[Año],$C$59,Tabla7[Mes],K$61,Tabla7[Se cumplió Plazo de entrega?],"*",Tabla7[Tipo de cliente],$B66),"") | ... O66: =IFERROR(COUNTIFS(Tabla7[Año],$C$59,Tabla7[Mes],O$61,Tabla7[Se cumplió Plazo de entrega?],"SI",Tabla7[Tipo de cliente],$B66)/COUNTIFS(Tabla7[Año],$C$59,Tabla7[Mes],O$61,Tabla7[Se cumplió Plazo de entrega?],"*",Tabla7[Tipo de cliente],$B66),"") | P66: =IFERROR(COUNTIFS(Tabla7[Año],$C$33,Tabla7[Mes],"*",Tabla7[Se cumplió Plazo de entrega?],"SI",Tabla7[Tipo de cliente],$B66)/COUNTIFS(Tabla7[Año],$C$33,Tabla7[Mes],"*",Tabla7[Se cumplió Plazo de entrega?],"*",Tabla7[Tipo de cliente],$B66),"") -> 0.37931034
A67: 6 | B67: =IF(Tablas!$L9="","",Tablas!$L9) -> INSTITUCIONAL | D67: =IFERROR(COUNTIFS(Tabla7[Año],$C$59,Tabla7[Mes],D$61,Tabla7[Se cumplió Plazo de entrega?],"SI",Tabla7[Tipo de cliente],$B67)/COUNTIFS(Tabla7[Año],$C$59,Tabla7[Mes],D$61,Tabla7[Se cumplió Plazo de entrega?],"*",Tabla7[Tipo de cliente],$B67),"") -> 0.6 | E67: =IFERROR(COUNTIFS(Tabla7[Año],$C$59,Tabla7[Mes],E$61,Tabla7[Se cumplió Plazo de entrega?],"SI",Tabla7[Tipo de cliente],$B67)/COUNTIFS(Tabla7[Año],$C$59,Tabla7[Mes],E$61,Tabla7[Se cumplió Plazo de entrega?],"*",Tabla7[Tipo de cliente],$B67),"") -> 0.25 | F67: =IFERROR(COUNTIFS(Tabla7[Año],$C$59,Tabla7[Mes],F$61,Tabla7[Se cumplió Plazo de entrega?],"SI",Tabla7[Tipo de cliente],$B67)/COUNTIFS(Tabla7[Año],$C$59,Tabla7[Mes],F$61,Tabla7[Se cumplió Plazo de entrega?],"*",Tabla7[Tipo de cliente],$B67),"") -> 0.33333333 | G67: =IFERROR(COUNTIFS(Tabla7[Año],$C$59,Tabla7[Mes],G$61,Tabla7[Se cumplió Plazo de entrega?],"SI",Tabla7[Tipo de cliente],$B67)/COUNTIFS(Tabla7[Año],$C$59,Tabla7[Mes],G$61,Tabla7[Se cumplió Plazo de entrega?],"*",Tabla7[Tipo de cliente],$B67),"") -> 0.4 | H67: =IFERROR(COUNTIFS(Tabla7[Año],$C$59,Tabla7[Mes],H$61,Tabla7[Se cumplió Plazo de entrega?],"SI",Tabla7[Tipo de cliente],$B67)/COUNTIFS(Tabla7[Año],$C$59,Tabla7[Mes],H$61,Tabla7[Se cumplió Plazo de entrega?],"*",Tabla7[Tipo de cliente],$B67),"") -> 0 | I67: =IFERROR(COUNTIFS(Tabla7[Año],$C$59,Tabla7[Mes],I$61,Tabla7[Se cumplió Plazo de entrega?],"SI",Tabla7[Tipo de cliente],$B67)/COUNTIFS(Tabla7[Año],$C$59,Tabla7[Mes],I$61,Tabla7[Se cumplió Plazo de entrega?],"*",Tabla7[Tipo de cliente],$B67),"") | J67: =IFERROR(COUNTIFS(Tabla7[Año],$C$59,Tabla7[Mes],J$61,Tabla7[Se cumplió Plazo de entrega?],"SI",Tabla7[Tipo de cliente],$B67)/COUNTIFS(Tabla7[Año],$C$59,Tabla7[Mes],J$61,Tabla7[Se cumplió Plazo de entrega?],"*",Tabla7[Tipo de cliente],$B67),"") -> 0.5 | K67: =IFERROR(COUNTIFS(Tabla7[Año],$C$59,Tabla7[Mes],K$61,Tabla7[Se cumplió Plazo de entrega?],"SI",Tabla7[Tipo de cliente],$B67)/COUNTIFS(Tabla7[Año],$C$59,Tabla7[Mes],K$61,Tabla7[Se cumplió Plazo de entrega?],"*",Tabla7[Tipo de cliente],$B67),"") | ... O67: =IFERROR(COUNTIFS(Tabla7[Año],$C$59,Tabla7[Mes],O$61,Tabla7[Se cumplió Plazo de entrega?],"SI",Tabla7[Tipo de cliente],$B67)/COUNTIFS(Tabla7[Año],$C$59,Tabla7[Mes],O$61,Tabla7[Se cumplió Plazo de entrega?],"*",Tabla7[Tipo de cliente],$B67),"") | P67: =IFERROR(COUNTIFS(Tabla7[Año],$C$33,Tabla7[Mes],"*",Tabla7[Se cumplió Plazo de entrega?],"SI",Tabla7[Tipo de cliente],$B67)/COUNTIFS(Tabla7[Año],$C$33,Tabla7[Mes],"*",Tabla7[Se cumplió Plazo de entrega?],"*",Tabla7[Tipo de cliente],$B67),"") -> 0.38461538
A68: 7 | B68: =IF(Tablas!$L10="","",Tablas!$L10) -> HOMECENTER | D68: =IFERROR(COUNTIFS(Tabla7[Año],$C$59,Tabla7[Mes],D$61,Tabla7[Se cumplió Plazo de entrega?],"SI",Tabla7[Tipo de cliente],$B68)/COUNTIFS(Tabla7[Año],$C$59,Tabla7[Mes],D$61,Tabla7[Se cumplió Plazo de entrega?],"*",Tabla7[Tipo de cliente],$B68),"") -> 0.5 | E68: =IFERROR(COUNTIFS(Tabla7[Año],$C$59,Tabla7[Mes],E$61,Tabla7[Se cumplió Plazo de entrega?],"SI",Tabla7[Tipo de cliente],$B68)/COUNTIFS(Tabla7[Año],$C$59,Tabla7[Mes],E$61,Tabla7[Se cumplió Plazo de entrega?],"*",Tabla7[Tipo de cliente],$B68),"") -> 0.26315789 | F68: =IFERROR(COUNTIFS(Tabla7[Año],$C$59,Tabla7[Mes],F$61,Tabla7[Se cumplió Plazo de entrega?],"SI",Tabla7[Tipo de cliente],$B68)/COUNTIFS(Tabla7[Año],$C$59,Tabla7[Mes],F$61,Tabla7[Se cumplió Plazo de entrega?],"*",Tabla7[Tipo de cliente],$B68),"") -> 0.33333333 | G68: =IFERROR(COUNTIFS(Tabla7[Año],$C$59,Tabla7[Mes],G$61,Tabla7[Se cumplió Plazo de entrega?],"SI",Tabla7[Tipo de cliente],$B68)/COUNTIFS(Tabla7[Año],$C$59,Tabla7[Mes],G$61,Tabla7[Se cumplió Plazo de entrega?],"*",Tabla7[Tipo de cliente],$B68),"") -> 0.37931034 | H68: =IFERROR(COUNTIFS(Tabla7[Año],$C$59,Tabla7[Mes],H$61,Tabla7[Se cumplió Plazo de entrega?],"SI",Tabla7[Tipo de cliente],$B68)/COUNTIFS(Tabla7[Año],$C$59,Tabla7[Mes],H$61,Tabla7[Se cumplió Plazo de entrega?],"*",Tabla7[Tipo de cliente],$B68),"") -> 0.48 | I68: =IFERROR(COUNTIFS(Tabla7[Año],$C$59,Tabla7[Mes],I$61,Tabla7[Se cumplió Plazo de entrega?],"SI",Tabla7[Tipo de cliente],$B68)/COUNTIFS(Tabla7[Año],$C$59,Tabla7[Mes],I$61,Tabla7[Se cumplió Plazo de entrega?],"*",Tabla7[Tipo de cliente],$B68),"") -> 0.75 | J68: =IFERROR(COUNTIFS(Tabla7[Año],$C$59,Tabla7[Mes],J$61,Tabla7[Se cumplió Plazo de entrega?],"SI",Tabla7[Tipo de cliente],$B68)/COUNTIFS(Tabla7[Año],$C$59,Tabla7[Mes],J$61,Tabla7[Se cumplió Plazo de entrega?],"*",Tabla7[Tipo de cliente],$B68),"") -> 0 | K68: =IFERROR(COUNTIFS(Tabla7[Año],$C$59,Tabla7[Mes],K$61,Tabla7[Se cumplió Plazo de entrega?],"SI",Tabla7[Tipo de cliente],$B68)/COUNTIFS(Tabla7[Año],$C$59,Tabla7[Mes],K$61,Tabla7[Se cumplió Plazo de entrega?],"*",Tabla7[Tipo de cliente],$B68),"") | ... O68: =IFERROR(COUNTIFS(Tabla7[Año],$C$59,Tabla7[Mes],O$61,Tabla7[Se cumplió Plazo de entrega?],"SI",Tabla7[Tipo de cliente],$B68)/COUNTIFS(Tabla7[Año],$C$59,Tabla7[Mes],O$61,Tabla7[Se cumplió Plazo de entrega?],"*",Tabla7[Tipo de cliente],$B68),"") | P68: =IFERROR(COUNTIFS(Tabla7[Año],$C$33,Tabla7[Mes],"*",Tabla7[Se cumplió Plazo de entrega?],"SI",Tabla7[Tipo de cliente],$B68)/COUNTIFS(Tabla7[Año],$C$33,Tabla7[Mes],"*",Tabla7[Se cumplió Plazo de entrega?],"*",Tabla7[Tipo de cliente],$B68),"") -> 0.4047619
A69: 8 | B69: =IF(Tablas!$L11="","",Tablas!$L11) | D69: =IFERROR(COUNTIFS(Tabla7[Año],$C$59,Tabla7[Mes],D$61,Tabla7[Se cumplió Plazo de entrega?],"SI",Tabla7[Tipo de cliente],$B69)/COUNTIFS(Tabla7[Año],$C$59,Tabla7[Mes],D$61,Tabla7[Se cumplió Plazo de entrega?],"*",Tabla7[Tipo de cliente],$B69),"") | E69: =IFERROR(COUNTIFS(Tabla7[Año],$C$59,Tabla7[Mes],E$61,Tabla7[Se cumplió Plazo de entrega?],"SI",Tabla7[Tipo de cliente],$B69)/COUNTIFS(Tabla7[Año],$C$59,Tabla7[Mes],E$61,Tabla7[Se cumplió Plazo de entrega?],"*",Tabla7[Tipo de cliente],$B69),"") | F69: =IFERROR(COUNTIFS(Tabla7[Año],$C$59,Tabla7[Mes],F$61,Tabla7[Se cumplió Plazo de entrega?],"SI",Tabla7[Tipo de cliente],$B69)/COUNTIFS(Tabla7[Año],$C$59,Tabla7[Mes],F$61,Tabla7[Se cumplió Plazo de entrega?],"*",Tabla7[Tipo de cliente],$B69),"") | G69: =IFERROR(COUNTIFS(Tabla7[Año],$C$59,Tabla7[Mes],G$61,Tabla7[Se cumplió Plazo de entrega?],"SI",Tabla7[Tipo de cliente],$B69)/COUNTIFS(Tabla7[Año],$C$59,Tabla7[Mes],G$61,Tabla7[Se cumplió Plazo de entrega?],"*",Tabla7[Tipo de cliente],$B69),"") | H69: =IFERROR(COUNTIFS(Tabla7[Año],$C$59,Tabla7[Mes],H$61,Tabla7[Se cumplió Plazo de entrega?],"SI",Tabla7[Tipo de cliente],$B69)/COUNTIFS(Tabla7[Año],$C$59,Tabla7[Mes],H$61,Tabla7[Se cumplió Plazo de entrega?],"*",Tabla7[Tipo de cliente],$B69),"") | I69: =IFERROR(COUNTIFS(Tabla7[Año],$C$59,Tabla7[Mes],I$61,Tabla7[Se cumplió Plazo de entrega?],"SI",Tabla7[Tipo de cliente],$B69)/COUNTIFS(Tabla7[Año],$C$59,Tabla7[Mes],I$61,Tabla7[Se cumplió Plazo de entrega?],"*",Tabla7[Tipo de cliente],$B69),"") | J69: =IFERROR(COUNTIFS(Tabla7[Año],$C$59,Tabla7[Mes],J$61,Tabla7[Se cumplió Plazo de entrega?],"SI",Tabla7[Tipo de cliente],$B69)/COUNTIFS(Tabla7[Año],$C$59,Tabla7[Mes],J$61,Tabla7[Se cumplió Plazo de entrega?],"*",Tabla7[Tipo de cliente],$B69),"") | K69: =IFERROR(COUNTIFS(Tabla7[Año],$C$59,Tabla7[Mes],K$61,Tabla7[Se cumplió Plazo de entrega?],"SI",Tabla7[Tipo de cliente],$B69)/COUNTIFS(Tabla7[Año],$C$59,Tabla7[Mes],K$61,Tabla7[Se cumplió Plazo de entrega?],"*",Tabla7[Tipo de cliente],$B69),"") | ... O69: =IFERROR(COUNTIFS(Tabla7[Año],$C$59,Tabla7[Mes],O$61,Tabla7[Se cumplió Plazo de entrega?],"SI",Tabla7[Tipo de cliente],$B69)/COUNTIFS(Tabla7[Año],$C$59,Tabla7[Mes],O$61,Tabla7[Se cumplió Plazo de entrega?],"*",Tabla7[Tipo de cliente],$B69),"") | P69: =IFERROR(COUNTIFS(Tabla7[Año],$C$33,Tabla7[Mes],"*",Tabla7[Se cumplió Plazo de entrega?],"SI",Tabla7[Tipo de cliente],$B69)/COUNTIFS(Tabla7[Año],$C$33,Tabla7[Mes],"*",Tabla7[Se cumplió Plazo de entrega?],"*",Tabla7[Tipo de cliente],$B69),"")
A70: 9 | B70: =IF(Tablas!$L12="","",Tablas!$L12) | D70: =IFERROR(COUNTIFS(Tabla7[Año],$C$59,Tabla7[Mes],D$61,Tabla7[Se cumplió Plazo de entrega?],"SI",Tabla7[Tipo de cliente],$B70)/COUNTIFS(Tabla7[Año],$C$59,Tabla7[Mes],D$61,Tabla7[Se cumplió Plazo de entrega?],"*",Tabla7[Tipo de cliente],$B70),"") | E70: =IFERROR(COUNTIFS(Tabla7[Año],$C$59,Tabla7[Mes],E$61,Tabla7[Se cumplió Plazo de entrega?],"SI",Tabla7[Tipo de cliente],$B70)/COUNTIFS(Tabla7[Año],$C$59,Tabla7[Mes],E$61,Tabla7[Se cumplió Plazo de entrega?],"*",Tabla7[Tipo de cliente],$B70),"") | F70: =IFERROR(COUNTIFS(Tabla7[Año],$C$59,Tabla7[Mes],F$61,Tabla7[Se cumplió Plazo de entrega?],"SI",Tabla7[Tipo de cliente],$B70)/COUNTIFS(Tabla7[Año],$C$59,Tabla7[Mes],F$61,Tabla7[Se cumplió Plazo de entrega?],"*",Tabla7[Tipo de cliente],$B70),"") | G70: =IFERROR(COUNTIFS(Tabla7[Año],$C$59,Tabla7[Mes],G$61,Tabla7[Se cumplió Plazo de entrega?],"SI",Tabla7[Tipo de cliente],$B70)/COUNTIFS(Tabla7[Año],$C$59,Tabla7[Mes],G$61,Tabla7[Se cumplió Plazo de entrega?],"*",Tabla7[Tipo de cliente],$B70),"") | H70: =IFERROR(COUNTIFS(Tabla7[Año],$C$59,Tabla7[Mes],H$61,Tabla7[Se cumplió Plazo de entrega?],"SI",Tabla7[Tipo de cliente],$B70)/COUNTIFS(Tabla7[Año],$C$59,Tabla7[Mes],H$61,Tabla7[Se cumplió Plazo de entrega?],"*",Tabla7[Tipo de cliente],$B70),"") | I70: =IFERROR(COUNTIFS(Tabla7[Año],$C$59,Tabla7[Mes],I$61,Tabla7[Se cumplió Plazo de entrega?],"SI",Tabla7[Tipo de cliente],$B70)/COUNTIFS(Tabla7[Año],$C$59,Tabla7[Mes],I$61,Tabla7[Se cumplió Plazo de entrega?],"*",Tabla7[Tipo de cliente],$B70),"") | J70: =IFERROR(COUNTIFS(Tabla7[Año],$C$59,Tabla7[Mes],J$61,Tabla7[Se cumplió Plazo de entrega?],"SI",Tabla7[Tipo de cliente],$B70)/COUNTIFS(Tabla7[Año],$C$59,Tabla7[Mes],J$61,Tabla7[Se cumplió Plazo de entrega?],"*",Tabla7[Tipo de cliente],$B70),"") | K70: =IFERROR(COUNTIFS(Tabla7[Año],$C$59,Tabla7[Mes],K$61,Tabla7[Se cumplió Plazo de entrega?],"SI",Tabla7[Tipo de cliente],$B70)/COUNTIFS(Tabla7[Año],$C$59,Tabla7[Mes],K$61,Tabla7[Se cumplió Plazo de entrega?],"*",Tabla7[Tipo de cliente],$B70),"") | ... O70: =IFERROR(COUNTIFS(Tabla7[Año],$C$59,Tabla7[Mes],O$61,Tabla7[Se cumplió Plazo de entrega?],"SI",Tabla7[Tipo de cliente],$B70)/COUNTIFS(Tabla7[Año],$C$59,Tabla7[Mes],O$61,Tabla7[Se cumplió Plazo de entrega?],"*",Tabla7[Tipo de cliente],$B70),"") | P70: =IFERROR(COUNTIFS(Tabla7[Año],$C$33,Tabla7[Mes],"*",Tabla7[Se cumplió Plazo de entrega?],"SI",Tabla7[Tipo de cliente],$B70)/COUNTIFS(Tabla7[Año],$C$33,Tabla7[Mes],"*",Tabla7[Se cumplió Plazo de entrega?],"*",Tabla7[Tipo de cliente],$B70),"")
